BEGIN:VCALENDAR
VERSION:2.0
PRODID:-//The Stockey Centre - ECPv6.15.20//NONSGML v1.0//EN
CALSCALE:GREGORIAN
METHOD:PUBLISH
X-WR-CALNAME:The Stockey Centre
X-ORIGINAL-URL:https://stockeycentre.com
X-WR-CALDESC:Events for The Stockey Centre
REFRESH-INTERVAL;VALUE=DURATION:PT1H
X-Robots-Tag:noindex
X-PUBLISHED-TTL:PT1H
BEGIN:VTIMEZONE
TZID:America/Toronto
BEGIN:DAYLIGHT
TZOFFSETFROM:-0500
TZOFFSETTO:-0400
TZNAME:EDT
DTSTART:20230312T070000
END:DAYLIGHT
BEGIN:STANDARD
TZOFFSETFROM:-0400
TZOFFSETTO:-0500
TZNAME:EST
DTSTART:20231105T060000
END:STANDARD
BEGIN:DAYLIGHT
TZOFFSETFROM:-0500
TZOFFSETTO:-0400
TZNAME:EDT
DTSTART:20240310T070000
END:DAYLIGHT
BEGIN:STANDARD
TZOFFSETFROM:-0400
TZOFFSETTO:-0500
TZNAME:EST
DTSTART:20241103T060000
END:STANDARD
BEGIN:DAYLIGHT
TZOFFSETFROM:-0500
TZOFFSETTO:-0400
TZNAME:EDT
DTSTART:20250309T070000
END:DAYLIGHT
BEGIN:STANDARD
TZOFFSETFROM:-0400
TZOFFSETTO:-0500
TZNAME:EST
DTSTART:20251102T060000
END:STANDARD
END:VTIMEZONE
BEGIN:VEVENT
DTSTART;TZID=America/Toronto:20241129T140000
DTEND;TZID=America/Toronto:20241130T150000
DTSTAMP:20260424T045327
CREATED:20240621T192312Z
LAST-MODIFIED:20241130T135757Z
UID:7031-1732888800-1732978800@stockeycentre.com
SUMMARY:The Twelfth Annual One-of-a-Kind Christmas Artisan Show
DESCRIPTION:Save the date! Christmas at the Stockey Centre will showcase the work of talented artisans\, providing an opportunity to find that special something for the hard-to-buy-for person on your Christmas list\, a unique gift that will delight\, or something special for yourself! \n\n\n\nThe show will run on Friday November 29th from 2pm to 7pm and from 10am to 3pm on Saturday November 30th. \n\n\n\nEntry is by donation at the door. \n\n\n\nIf you are interested in becoming a vendor or would like more information on becoming a vendor\, please contact Kelsey Norris\, Marketing & Program Coordinator\, at knorris@stockeycentre.com or 705-746-4466 ext. 401 for an interview waitlist application for the annual One-of-a-Kind Christmas Artisan Show. \n\n\n\nVENDOR LIST\n\n\n\n(In Alphabetical Order) \n\n\n\nAttilios Fine Foods \n\n\n\nBÂTON by DanTério \n\n\n\nThe Bohemy Co. \n\n\n\nLa Bréhandaise Market *Due to weather conditions\, La Bréhandaise Market is unable to attend Day Two of this weekend’s event. \n\n\n\nCosmo’s Smoked Meats *Due to weather conditions\, Cosmo’s Smoked Meats is unable to attend this weekend’s event. \n\n\n\nCozy Muskoka \n\n\n\nCozy Pup Creations \n\n\n\nFeltalala \n\n\n\nFor The Bees Farm \n\n\n\nFrozen Bay – Freeze Dried Goods \n\n\n\nHeather’s Fudge \n\n\n\nThe Holmstead \n\n\n\nHPM Glassworks \n\n\n\nHS Swan Creations \n\n\n\nJean Grady Art \n\n\n\nThe Joy of Harvest \n\n\n\nJuliana Paige Jewellery \n\n\n\nLavendar Blue Designs and Rental \n\n\n\nLettie’s Vegan Fine Foods *Due to weather conditions\, Lettie’s Vegan Fine Foods is unable to attend this weekend’s event. \n\n\n\nLormier Lake Loomie \n\n\n\nMarg Miner & Debra Sayewich \n\n\n\nMud Dog Candles \n\n\n\nMuddy Handshake Pottery \n\n\n\nNook Side Handcrafts \n\n\n\nParry Sound Intermediate & High School \n\n\n\nPegahmagabow Crafts \n\n\n\nPury’s Bakery \n\n\n\nRobyn’s Nest \n\n\n\nRural Roots Apothecary \n\n\n\nSparrow Hawk Recycled Handmade Mitts/Headbands \n\n\n\nSpike’s Stoneworks \n\n\n\nStamped Frosting \n\n\n\nTwo Pines Pottery \n\n\n\nVB Steel \n\n\n\nWave Fibre Mill \n\n\n\nWhite Birch Designs \n\n\n\nThe Wooden Window \n\n\n\nYASE Handmade
URL:https://stockeycentre.com/event/the-twelfth-annual-one-of-a-kind-christmas-artisan-show/
LOCATION:The Stockey Centre\, 2 Bay Street\, Parry Sound\, Ontario\, P2A 1S3\, Canada
CATEGORIES:Artisan Show
ATTACH;FMTTYPE=image/jpeg:https://stockeycentre.com/wp-content/uploads/2024/06/Artisan-Show-scaled.jpg
ORGANIZER;CN="The Stockey Centre":MAILTO:info@stockeycentre.com
END:VEVENT
END:VCALENDAR