BEGIN:VCALENDAR
VERSION:2.0
PRODID:-//The Stockey Centre - ECPv6.15.20//NONSGML v1.0//EN
CALSCALE:GREGORIAN
METHOD:PUBLISH
X-ORIGINAL-URL:https://stockeycentre.com
X-WR-CALDESC:Events for The Stockey Centre
REFRESH-INTERVAL;VALUE=DURATION:PT1H
X-Robots-Tag:noindex
X-PUBLISHED-TTL:PT1H
BEGIN:VTIMEZONE
TZID:America/Toronto
BEGIN:DAYLIGHT
TZOFFSETFROM:-0500
TZOFFSETTO:-0400
TZNAME:EDT
DTSTART:20200308T070000
END:DAYLIGHT
BEGIN:STANDARD
TZOFFSETFROM:-0400
TZOFFSETTO:-0500
TZNAME:EST
DTSTART:20201101T060000
END:STANDARD
BEGIN:DAYLIGHT
TZOFFSETFROM:-0500
TZOFFSETTO:-0400
TZNAME:EDT
DTSTART:20210314T070000
END:DAYLIGHT
BEGIN:STANDARD
TZOFFSETFROM:-0400
TZOFFSETTO:-0500
TZNAME:EST
DTSTART:20211107T060000
END:STANDARD
BEGIN:DAYLIGHT
TZOFFSETFROM:-0500
TZOFFSETTO:-0400
TZNAME:EDT
DTSTART:20220313T070000
END:DAYLIGHT
BEGIN:STANDARD
TZOFFSETFROM:-0400
TZOFFSETTO:-0500
TZNAME:EST
DTSTART:20221106T060000
END:STANDARD
END:VTIMEZONE
BEGIN:VEVENT
DTSTART;TZID=America/Toronto:20210810T190000
DTEND;TZID=America/Toronto:20210810T210000
DTSTAMP:20260424T064800
CREATED:20210805T144138Z
LAST-MODIFIED:20210805T152033Z
UID:3440-1628622000-1628629200@stockeycentre.com
SUMMARY:Bands on the Bay: DeuxDads
DESCRIPTION:Bands on the Bay: Free Summer Concerts\nHeld outside on our fully licensed deck or inside in case of rain\, performances start at 7:00pm (unless stated otherwise). A free concert overlooking the bay is The Thing To Do on a summer Tuesday evening! \nAbout the band:\nConsisting of Dean Watson and Peter Trinz\, DeuxDads is a full sounding\, small footprint\, rock classic playing band. You will know every song they play! \nThis event will be held outdoors on The Stockey Centre’s Bayside Patio. Seating space will be available on a first-come first-served basis\, with a limited capacity.  \n\nMasks are required to be worn at all times for all attendees over the age of 2 years\, the only exception is when a refreshment is being actively consumed as a bar and pre-package snack will be available. Patrons can enjoy their beverage or prepacked\, purchased snacks while sitting in their assigned seats. No socializing/mingling while drinking/eating is permitted. This will be the only exception to removing their face covering. It must be put back on when eating/drinking is finished.\nSeating in the designated area will begin at 6pm.  We ask that attendees arrive no earlier than this time as we prepare for the event.  The performance will begin at 7pm. Tables seat up to 6 people.\nAttendees will be actively screened prior to seating.\nIn the event of inclement weather\, the performance will move to the The Stockey Centre’s Performance Hall.\n\nFor full details of the COVID-19 health protocols that will be in place at The Stockey Centre https://www.sleepprointernational.com/products/ambien/ for events\, please visit our Safety Guidelines page.
URL:https://stockeycentre.com/event/bands-on-the-bay-deuxdads/
LOCATION:The Stockey Centre\, 2 Bay Street\, Parry Sound\, Ontario\, P2A 1S3\, Canada
CATEGORIES:Bands on the Bay
ATTACH;FMTTYPE=image/png:https://stockeycentre.com/wp-content/uploads/2021/07/DeuxDads-V2-Copy.png
ORGANIZER;CN="The Stockey Centre":MAILTO:info@stockeycentre.com
END:VEVENT
BEGIN:VEVENT
DTSTART;TZID=America/Toronto:20210817T190000
DTEND;TZID=America/Toronto:20210817T210000
DTSTAMP:20260424T064800
CREATED:20210813T134808Z
LAST-MODIFIED:20210813T135544Z
UID:3457-1629226800-1629234000@stockeycentre.com
SUMMARY:Bands on the Bay: Briar Summers
DESCRIPTION:Bands on the Bay: Free Summer Concerts\nHeld outside on our fully licensed deck or inside in case of rain\, performances start at 7:00pm (unless stated otherwise). A free concert overlooking the bay is The Thing To Do on a summer Tuesday evening! \nAbout the performer:\nBriar Summers is a 17-year-old singer-songwriter and Royal Conservatory pianist from Huntsville. She is honoured to be part of Bands on the Bay again this year! She is looking forward to sharing a variety of familiar pop songs and original alternative stylings from her debut album FROM THE ASHES\, which comes out this summer. Produced by 3x Grammy-award winner David Bottrill (Peter Gabriel\, Tool\, Rush)\, this record features some of Canada’s finest musicians and has been featured on CBC. She will be bringing her music to southern Ontario while attending the University of Toronto this fall. Please enjoy the show! \nbriarsummers.com \nThis event will be held outdoors on The Stockey Centre’s Bayside Patio. Seating space will be available on a first-come first-served basis\, with a limited capacity.  \n\nMasks are required to be worn at all times for all attendees over the age of 2 years\, the only exception is when a refreshment is being actively consumed as a bar and pre-package snack will be available. Patrons can enjoy their beverage or prepacked\, purchased snacks while sitting in their assigned seats. No socializing/mingling while drinking/eating is permitted. This will be the only exception to removing their face covering. It must be put back on when eating/drinking is finished.\nSeating in the designated area will begin at 6pm.  We ask that attendees arrive no earlier than this time as we prepare for the event.  The performance will begin at 7pm. Tables seat up to 6 people.\nAttendees will be actively screened prior to seating.\nIn the event of inclement weather\, the performance will move to the The Stockey Centre’s Performance Hall.\n\nFor full details of the COVID-19 health protocols that will be in place at The Stockey Centre for events\, please visit our Safety Guidelines page.
URL:https://stockeycentre.com/event/bands-on-the-bay-briar-summers/
LOCATION:The Stockey Centre\, 2 Bay Street\, Parry Sound\, Ontario\, P2A 1S3\, Canada
CATEGORIES:Bands on the Bay
ATTACH;FMTTYPE=image/jpeg:https://stockeycentre.com/wp-content/uploads/2021/08/Briar-Summers-Copy.jpg
ORGANIZER;CN="The Stockey Centre":MAILTO:info@stockeycentre.com
END:VEVENT
BEGIN:VEVENT
DTSTART;TZID=America/Toronto:20210818T190000
DTEND;TZID=America/Toronto:20210818T210000
DTSTAMP:20260424T064800
CREATED:20210812T195747Z
LAST-MODIFIED:20210813T135442Z
UID:3476-1629313200-1629320400@stockeycentre.com
SUMMARY:Bands on the Bay: FourOneSix
DESCRIPTION:Bands on the Bay: Free Summer Concerts\nHeld outside on our fully licensed deck or inside in case of rain\, performances start at 7:00pm (unless stated otherwise). A free concert overlooking the bay is The Thing To Do on a summer Tuesday evening! And now on this special Wednesday night on August 18! \nAbout the band:\nFourOneSix is best described as catchy reflective pop with a retro vibe delivered on an acoustic cloud with some electro-ambient sunshine. This Toronto based four piece is a hybrid of genres and influences\, a musical recipe of sorts; a dash of singer-songwriter\, a pinch of folk\, a sliver of psychedelia\, a sprinkle of new wave\, all blended with generous portions of well-crafted pop/rock. \nwww.thisis416.ca \nThis event will be held outdoors on The Stockey Centre’s Bayside Patio. Seating space will be available on a first-come first-served basis\, with a limited capacity.  \n\nMasks are required to be worn at all times for all attendees over the age of 2 years\, the only exception is when a refreshment is being actively consumed as a bar and pre-package snack will be available. Patrons can enjoy their beverage or prepacked\, purchased snacks while sitting in their assigned seats. No socializing/mingling while drinking/eating is permitted. This will be the only exception to removing their face covering. It must be put back on when eating/drinking is finished.\nSeating in the designated area will begin at 6pm.  We ask that attendees arrive no earlier than this time as we prepare for the event.  The performance will begin at 7pm. Tables seat up to 6 people.\nAttendees will be actively screened prior to seating.\nIn the event of inclement weather\, the performance will move to the The Stockey Centre’s Performance Hall.\n\nFor full details of the COVID-19 health protocols that will be in place at The Stockey Centre for events\, please visit our Safety Guidelines page.
URL:https://stockeycentre.com/event/bands-on-the-bay-fouronesix/
LOCATION:The Stockey Centre\, 2 Bay Street\, Parry Sound\, Ontario\, P2A 1S3\, Canada
CATEGORIES:Bands on the Bay
ATTACH;FMTTYPE=image/jpeg:https://stockeycentre.com/wp-content/uploads/2021/08/Four-One-Six.jpg
ORGANIZER;CN="The Stockey Centre":MAILTO:info@stockeycentre.com
END:VEVENT
BEGIN:VEVENT
DTSTART;TZID=America/Toronto:20210824T190000
DTEND;TZID=America/Toronto:20210824T210000
DTSTAMP:20260424T064800
CREATED:20210818T140011Z
LAST-MODIFIED:20210819T144922Z
UID:3481-1629831600-1629838800@stockeycentre.com
SUMMARY:Bands on the Bay: Tamica & the Boyz
DESCRIPTION:Bands on the Bay: Free Summer Concerts\nHeld outside on our fully licensed deck or inside in case of rain\, performances start at 7:00pm (unless stated otherwise). A free concert overlooking the bay is The Thing To Do on a summer Tuesday evening! \nAbout the band:\nTamica has been a professional musician for 25+ years getting her official start with the Ruanne’s House Band in Barrie and is now based Muskoka after journeying through Ontario as a band leader\, lead/backing vocalist\, and percussionist.  Tamica writes and performs original music along with interpreting classic blues/rnb/funk/soul/rock tunes to make them her own and aspires to translate a rootsy sound and to keepin’ the Blues alive. \nTamica hosted “The Blues is My Business”\, a weekly blues radio show on Hunter’s Bay Radio where she featured her influences- Etta James\, Aretha Franklin\, Bonnie Raitt\, Tedeschi Trucks\, Big Mama Thornton\, Janis Joplin and Bonnie Bramlett to name a few as well as featuring the wealth of talent in the Canadian Blues scene. \nTamica leads and performs in various duo\, trio and full band formations with artists such as Carl Rabinowitz\, Gerry Markman\, Jerome Godboo\, Sean Cotton\, Tobin Spring\, Grant Slater\, David Morrison\, Gina Horswood\, Adam Webster and Dani Strong. \nTamica’s main project “Tamica & the Boyz” \, entertains at various pubs\, bars\, house concerts\, events and festivals in Ontario including repeat performances at the Stonebridge Wasaga Beach Blues Festival (2015-2019) and the Collingwood Jazz and Blues at the Station 2015 & season opener in 2016 with an Allstar band. \nThis event will be held outdoors on The Stockey Centre’s Bayside Patio. Seating space will be available on a first-come first-served basis\, with a limited capacity.  \n\nMasks are required to be worn at all times for all attendees over the age of 2 years\, the only exception is when a refreshment is being actively consumed as a bar and pre-package snack will be available. Patrons can enjoy their beverage or prepacked\, purchased snacks while sitting in their assigned seats. No socializing/mingling while drinking/eating is permitted. This will be the only exception to removing their face covering. It must be put back on when eating/drinking is finished.\nSeating in the designated area will begin at 6pm.  We ask that attendees arrive no earlier than this time as we prepare for the event.  The performance will begin at 7pm. Tables seat up to 6 people.\nAttendees will be actively screened prior to seating.\nIn the event of inclement weather\, the performance will move to the The Stockey Centre’s Performance Hall.\n\nFor full details of the COVID-19 health protocols that will be in place at The Stockey Centre for events\, please visit our Safety Guidelines page.
URL:https://stockeycentre.com/event/bands-on-the-bay-tamica-the-boyz/
LOCATION:The Stockey Centre\, 2 Bay Street\, Parry Sound\, Ontario\, P2A 1S3\, Canada
CATEGORIES:Bands on the Bay
ATTACH;FMTTYPE=image/jpeg:https://stockeycentre.com/wp-content/uploads/2021/08/Tamica.jpg
ORGANIZER;CN="The Stockey Centre":MAILTO:info@stockeycentre.com
END:VEVENT
BEGIN:VEVENT
DTSTART;TZID=America/Toronto:20210831T190000
DTEND;TZID=America/Toronto:20210831T210000
DTSTAMP:20260424T064800
CREATED:20210825T175846Z
LAST-MODIFIED:20210825T175937Z
UID:3488-1630436400-1630443600@stockeycentre.com
SUMMARY:Bands on the Bay: Doogie & Dun
DESCRIPTION:Bands on the Bay: Free Summer Concerts\nHeld outside on our fully licensed deck or inside in case of rain\, performances start at 7:00pm (unless stated otherwise). A free concert overlooking the bay is The Thing To Do on a summer Tuesday evening!  \nAbout the performer:\nDoogie & Dun is a musical alliance between long time Canadian musician/vocalists\, Douglas John Cameron and Duncan Fremlin. They’ve come together after almost a combined century on stage\, Douglas as an award winning vocalist and songwriter\, and Duncan as the leader of Whiskey Jack\, one of the longest running bands in Canadian country music. Their collaboration was born 10 years ago but continues to evolve as they travel the country with their very popular show\, Whiskey Jack Presents Stories and Songs of Stompin’ Tom. \nwww.doogieanddun.com \nThis event will be held outdoors on The Stockey Centre’s Bayside Patio. Seating space will be available on a first-come first-served basis\, with a limited capacity.  \n\nMasks are required to be worn at all times for all attendees over the age of 2 years\, the only exception is when a refreshment is being actively consumed as a bar and pre-package snack will be available. Patrons can enjoy their beverage or prepacked\, purchased snacks while sitting in their assigned seats. No socializing/mingling while drinking/eating is permitted. This will be the only exception to removing their face covering. It must be put back on when eating/drinking is finished.\nSeating in the designated area will begin at 6pm.  We ask that attendees arrive no earlier than this time as we prepare for the event.  The performance will begin at 7pm. Tables seat up to 6 people.\nAttendees will be actively screened prior to seating.\nIn the event of inclement weather\, the performance will move to the The Stockey Centre’s Performance Hall.\n\nFor full details of the COVID-19 health protocols that will be in place at The Stockey Centre for events\, please visit our Safety Guidelines page.
URL:https://stockeycentre.com/event/bands-on-the-bay-doogie-dun/
LOCATION:The Stockey Centre\, 2 Bay Street\, Parry Sound\, Ontario\, P2A 1S3\, Canada
CATEGORIES:Bands on the Bay
ATTACH;FMTTYPE=image/jpeg:https://stockeycentre.com/wp-content/uploads/2021/08/Doogie-Dun.jpg
ORGANIZER;CN="The Stockey Centre":MAILTO:info@stockeycentre.com
END:VEVENT
END:VCALENDAR