BEGIN:VCALENDAR
VERSION:2.0
PRODID:-//The Stockey Centre - ECPv6.15.20//NONSGML v1.0//EN
CALSCALE:GREGORIAN
METHOD:PUBLISH
X-WR-CALNAME:The Stockey Centre
X-ORIGINAL-URL:https://stockeycentre.com
X-WR-CALDESC:Events for The Stockey Centre
REFRESH-INTERVAL;VALUE=DURATION:PT1H
X-Robots-Tag:noindex
X-PUBLISHED-TTL:PT1H
BEGIN:VTIMEZONE
TZID:America/Toronto
BEGIN:DAYLIGHT
TZOFFSETFROM:-0500
TZOFFSETTO:-0400
TZNAME:EDT
DTSTART:20210314T070000
END:DAYLIGHT
BEGIN:STANDARD
TZOFFSETFROM:-0400
TZOFFSETTO:-0500
TZNAME:EST
DTSTART:20211107T060000
END:STANDARD
BEGIN:DAYLIGHT
TZOFFSETFROM:-0500
TZOFFSETTO:-0400
TZNAME:EDT
DTSTART:20220313T070000
END:DAYLIGHT
BEGIN:STANDARD
TZOFFSETFROM:-0400
TZOFFSETTO:-0500
TZNAME:EST
DTSTART:20221106T060000
END:STANDARD
BEGIN:DAYLIGHT
TZOFFSETFROM:-0500
TZOFFSETTO:-0400
TZNAME:EDT
DTSTART:20230312T070000
END:DAYLIGHT
BEGIN:STANDARD
TZOFFSETFROM:-0400
TZOFFSETTO:-0500
TZNAME:EST
DTSTART:20231105T060000
END:STANDARD
END:VTIMEZONE
BEGIN:VEVENT
DTSTART;TZID=America/Toronto:20220621T190000
DTEND;TZID=America/Toronto:20220621T210000
DTSTAMP:20260423T171518
CREATED:20220621T171903Z
LAST-MODIFIED:20220621T171903Z
UID:4386-1655838000-1655845200@stockeycentre.com
SUMMARY:Bands on the Bay: Filthy Rich and the Empty Pockets
DESCRIPTION:Bands on the Bay: Free Summer ConcertsA free concert overlooking the bay? This is The Thing To Do on a summer Tuesday evening! Performances are held outside on our fully licensed deck or inside in case of rain from June to August\, accompanied by our cash bar.  \n\n\n\nAbout the band: \n\n\n\nFilthy Rich and the Empty Pockets play what people want to hear when they go to see a live band—all the hits! Performing a repertoire of radio-friendly classic-rock and pop\, this band gets you dancing and singing along to song you love! \n\n\n\nfilthyrichandtheemptypockets.com/
URL:https://stockeycentre.com/event/bands-on-the-bay-filthy-rich-and-the-empty-pockets-3/
LOCATION:The Stockey Centre\, 2 Bay Street\, Parry Sound\, Ontario\, P2A 1S3\, Canada
CATEGORIES:Bands on the Bay
ATTACH;FMTTYPE=image/jpeg:https://stockeycentre.com/wp-content/uploads/2021/06/Filthy-Rich.jpg
ORGANIZER;CN="The Stockey Centre":MAILTO:info@stockeycentre.com
END:VEVENT
BEGIN:VEVENT
DTSTART;TZID=America/Toronto:20220628T190000
DTEND;TZID=America/Toronto:20220628T210000
DTSTAMP:20260423T171518
CREATED:20220501T191300Z
LAST-MODIFIED:20220528T213452Z
UID:4445-1656442800-1656450000@stockeycentre.com
SUMMARY:Bands on the Bay: Briar Summers
DESCRIPTION:Bands on the Bay: Free Summer ConcertsA free concert overlooking the bay? This is The Thing To Do on a summer Tuesday evening! Performances are held outside on our fully licensed deck or inside in case of rain from June to August\, accompanied by our cash bar.  \n\n\n\nAbout the performer: \n\n\n\nBriar Summers is a singer-songwriter from Huntsville. This young singer and classically-trained pianist released her debut album\, From the Ashes\, last fall. The record was produced by 3-time Grammy Award-winning producer David Bottrill in Toronto. Her songs\, particularly the acclaimed single “Stronger\,” have enjoyed airplay on local stations\, online across the country\, with a spin here and there on CBC. Briar is so excited to return to beautiful Georgian Bay this summer to share her unique pop-rock stylings with you! \n\n\n\nbriarsummers.com
URL:https://stockeycentre.com/event/bands-on-the-bay-briar-summers-2/
LOCATION:The Stockey Centre\, 2 Bay Street\, Parry Sound\, Ontario\, P2A 1S3\, Canada
CATEGORIES:Bands on the Bay
ATTACH;FMTTYPE=image/jpeg:https://stockeycentre.com/wp-content/uploads/2022/05/Briar-Parry-Sound-copy.jpg
ORGANIZER;CN="The Stockey Centre":MAILTO:info@stockeycentre.com
END:VEVENT
END:VCALENDAR