BEGIN:VCALENDAR
VERSION:2.0
PRODID:-//The Stockey Centre - ECPv6.15.20//NONSGML v1.0//EN
CALSCALE:GREGORIAN
METHOD:PUBLISH
X-WR-CALNAME:The Stockey Centre
X-ORIGINAL-URL:https://stockeycentre.com
X-WR-CALDESC:Events for The Stockey Centre
REFRESH-INTERVAL;VALUE=DURATION:PT1H
X-Robots-Tag:noindex
X-PUBLISHED-TTL:PT1H
BEGIN:VTIMEZONE
TZID:America/Toronto
BEGIN:DAYLIGHT
TZOFFSETFROM:-0500
TZOFFSETTO:-0400
TZNAME:EDT
DTSTART:20220313T070000
END:DAYLIGHT
BEGIN:STANDARD
TZOFFSETFROM:-0400
TZOFFSETTO:-0500
TZNAME:EST
DTSTART:20221106T060000
END:STANDARD
BEGIN:DAYLIGHT
TZOFFSETFROM:-0500
TZOFFSETTO:-0400
TZNAME:EDT
DTSTART:20230312T070000
END:DAYLIGHT
BEGIN:STANDARD
TZOFFSETFROM:-0400
TZOFFSETTO:-0500
TZNAME:EST
DTSTART:20231105T060000
END:STANDARD
BEGIN:DAYLIGHT
TZOFFSETFROM:-0500
TZOFFSETTO:-0400
TZNAME:EDT
DTSTART:20240310T070000
END:DAYLIGHT
BEGIN:STANDARD
TZOFFSETFROM:-0400
TZOFFSETTO:-0500
TZNAME:EST
DTSTART:20241103T060000
END:STANDARD
END:VTIMEZONE
BEGIN:VEVENT
DTSTART;TZID=America/Toronto:20230606T190000
DTEND;TZID=America/Toronto:20230606T210000
DTSTAMP:20260423T003716
CREATED:20230506T154336Z
LAST-MODIFIED:20230606T174455Z
UID:5532-1686078000-1686085200@stockeycentre.com
SUMMARY:POSTPONED: Bands on the Bay: Filthy Rich and the Empty Pockets
DESCRIPTION:UPDATE JUNE 6TH\, 2023:  \n\n\n\nWe are disappointed to be making this call today\, but due to the special air quality statement in our area\, we are postponing tonight’s performance by Filthy Rich and the Empty Pockets to a later date.  \n\n\n\nTypically\, we would move the performance into our Performance Hall or Lobby\, but both spaces are not available due to preparation for the High School’s Play\, scheduled for later this week. \n\n\n\nWe will announce the rescheduled date later this week. \n\n\n\n\nBands on the Bay: Free Summer Concerts \n\n\n\nA free concert overlooking the bay? This is The Thing To Do on a summer Tuesday evening! Performances are held outside on our bayside deck\, or inside in case of rain from June to August\, accompanied by our cash bar. \n\n\n\nAbout The Band:  \n\n\n\nFilthy Rich and the Empty Pockets play what people want to hear when they go to see a live band—all the hits! Performing a repertoire of radio-friendly classic-rock and pop\, this band gets you dancing and singing along to song you love! \n\n\n\nWebsite | Facebook
URL:https://stockeycentre.com/event/bands-on-the-bay-filthy-rich-and-the-empty-pockets-4/
LOCATION:The Stockey Centre\, 2 Bay Street\, Parry Sound\, Ontario\, P2A 1S3\, Canada
CATEGORIES:Bands on the Bay
ATTACH;FMTTYPE=image/jpeg:https://stockeycentre.com/wp-content/uploads/2023/01/Promo-Pic-scaled.jpg
ORGANIZER;CN="The Stockey Centre":MAILTO:info@stockeycentre.com
END:VEVENT
BEGIN:VEVENT
DTSTART;TZID=America/Toronto:20230613T190000
DTEND;TZID=America/Toronto:20230613T210000
DTSTAMP:20260423T003716
CREATED:20230506T155455Z
LAST-MODIFIED:20230613T202246Z
UID:5536-1686682800-1686690000@stockeycentre.com
SUMMARY:Bands on the Bay: Chris Mapstone
DESCRIPTION:Domino’s Pizza Parry Sound presents Bands on the Bay: Free Summer Concerts\n\n\n\nA free concert overlooking the bay? This is The Thing To Do on a summer Tuesday evening! Performances are held outside on our bayside deck\, or inside in case of rain from June to August. Domino’s Pizza Parry Sound will be on-site selling pizza\, accompanied by The Stockey Centre’s licensed cash bar. \n\n\n\nAbout Chris:  \n\n\n\nA song carrier\, a musical mystic\, a weaver of melody and rhythm. Chris Mapstone has spent a decade travelling in multi dimensional musical realms. He has shared his heart and music around the world at festivals\, events\, retreats\, teepee’s\, fires and ceremonies. His music continues to grow and flourish as he follows the music and the muse to where it is needed. Having shared stages and space with other visionary artists such as Murray Kyle\, Darpan\, and Lulu and Mischka. Chris’s musical path is one of healing and service; It is a deep dive into the mystery\, wrapped in a warm blanket of love and grace. \n\n\n\nWebsite | Facebook
URL:https://stockeycentre.com/event/bands-on-the-bay-chris-mapstone/
LOCATION:The Stockey Centre\, 2 Bay Street\, Parry Sound\, Ontario\, P2A 1S3\, Canada
CATEGORIES:Bands on the Bay
ATTACH;FMTTYPE=image/jpeg:https://stockeycentre.com/wp-content/uploads/2023/05/Chris-Mapstone.jpg
ORGANIZER;CN="The Stockey Centre":MAILTO:info@stockeycentre.com
END:VEVENT
BEGIN:VEVENT
DTSTART;TZID=America/Toronto:20230620T190000
DTEND;TZID=America/Toronto:20230620T210000
DTSTAMP:20260423T003716
CREATED:20230506T160533Z
LAST-MODIFIED:20230613T202239Z
UID:5537-1687287600-1687294800@stockeycentre.com
SUMMARY:Bands on the Bay: Hayley Stark
DESCRIPTION:Domino’s Pizza Parry Sound presents Bands on the Bay: Free Summer Concerts\n\n\n\nA free concert overlooking the bay? This is The Thing To Do on a summer Tuesday evening! Performances are held outside on our bayside deck\, or inside in case of rain from June to August. Domino’s Pizza Parry Sound will be on-site selling pizza\, accompanied by The Stockey Centre’s licensed cash bar. \n\n\n\nAbout The Band: \n\n\n\nSeparated at birth\, Monica Julie and Jennifer Bryan\, front-women vocalist/guitarists of Toronto-based punk pop band Hayley Stark were reunited in their early 20s in a seedy rehearsal space in downtown Toronto. Both were auditioning to be full-time members (Monica on drums\, Jen on lead guitar) of all-girl metal band Spank driven. Little did the ladies know that their fates were sealed at that point – they were destined to play music together for many years to come – and luckily none of their bands would have so ridiculous a name as Spank driven ever again. Eventually Monica(a former metal drummer turned songstress) and Jen (a jazz-trained guitarist with a love of the rock) would create Hayley Stark\, an amalgamation of all of their musical and emotional loves and desires. Hayley Stark performs as both an acoustic duo and also bounces around on stage with a high-energy rhythm section. With a hint of 90s alternative rock\, pop/punk energy\, and diva-esque vocals\, Hayley Stark songs tackle the everyday complexities of life…and the fun bits too. Especially the fun bits. \n\n\n\nFacebook
URL:https://stockeycentre.com/event/bands-on-the-bay-hayley-stark/
LOCATION:The Stockey Centre\, 2 Bay Street\, Parry Sound\, Ontario\, P2A 1S3\, Canada
CATEGORIES:Bands on the Bay
ATTACH;FMTTYPE=image/jpeg:https://stockeycentre.com/wp-content/uploads/2023/05/Hayley-Stark.jpg
ORGANIZER;CN="The Stockey Centre":MAILTO:info@stockeycentre.com
END:VEVENT
BEGIN:VEVENT
DTSTART;TZID=America/Toronto:20230627T190000
DTEND;TZID=America/Toronto:20230627T210000
DTSTAMP:20260423T003716
CREATED:20230506T161834Z
LAST-MODIFIED:20230613T202232Z
UID:5538-1687892400-1687899600@stockeycentre.com
SUMMARY:Bands on the Bay: The Maple Hill Project
DESCRIPTION:Domino’s Pizza Parry Sound presents Bands on the Bay: Free Summer Concerts\n\n\n\nA free concert overlooking the bay? This is The Thing To Do on a summer Tuesday evening! Performances are held outside on our bayside deck\, or inside in case of rain from June to August. Domino’s Pizza Parry Sound will be on-site selling pizza\, accompanied by The Stockey Centre’s licensed cash bar. \n\n\n\nAbout The Band: \n\n\n\nIndividually​\, the members of the Maple Hill Project have a long history of making music in North Bay.  \n\n\n\nPat O’Kane started playing at The Lion’s Heart pub in the mid ’80s. Mark Robinson was inspired by Pat and also began playing there and other venues like Churchill’s\, Perry’s and Casey’s. In 1991\, they teamed up to form the duo Guys Without Ties. They have been regulars in the North Bay scene since then.  Pat is also part of MLC.  \n\n\n\nRobin Bilan is known for his mastery of the keyboards.  He has been a vital part of bands like Syntax Error\, Blackwater\, Beyond Country\, Checkerboard\, Transit\, The Hit Men and That ’70s Group.  In 2010 he teamed up with Mark to form Two Day’s Notice.  \n\n\n\nRob Aultman is a great guitar and mandolin player.  He was a regular guest of Guys Without Ties and added a lot with his soaring harmonies. Doug Herbrand was a hidden gem.  His amazing tenor voice and guitar playing were under appreciated until now. \n\n\n\nIn 2013\, these five came together for the first time at a house party on Maple Hill Road in Powassan ON.  Their musical chemistry with tight vocal harmonies was quickly apparent.  They couldn’t get enough\, so in February of 2014 The Maple Hill Project was born. \n\n\n\nIt has been a labour of love ever since. \n\n\n\nWebsite | Facebook
URL:https://stockeycentre.com/event/bands-on-the-bay-the-maple-hill-project/
LOCATION:The Stockey Centre\, 2 Bay Street\, Parry Sound\, Ontario\, P2A 1S3\, Canada
CATEGORIES:Bands on the Bay
ATTACH;FMTTYPE=image/jpeg:https://stockeycentre.com/wp-content/uploads/2023/05/Maple-Hill-Project.jpg
ORGANIZER;CN="The Stockey Centre":MAILTO:info@stockeycentre.com
END:VEVENT
BEGIN:VEVENT
DTSTART;TZID=America/Toronto:20230630T000000
DTEND;TZID=America/Toronto:20230702T235959
DTSTAMP:20260423T003716
CREATED:20230506T174435Z
LAST-MODIFIED:20230624T162427Z
UID:5521-1688083200-1688342399@stockeycentre.com
SUMMARY:Ribfest Parry Sound and Canada Day Celebrations
DESCRIPTION:Join us from June 30 – July 2\, at The Stockey Centre in Parry Sound for a Canada Day weekend-long party! Parry Sound Ribfest is the place to be to celebrate the Canada Day long weekend with mouth-watering BBQ ribs\, ice cold drinks\, and live music! \n\n\n\nVisit us at https://www.parrysound.ca/play-here/events/parry-sound-ribfest-2023/ for all the up-to-date information on the weekend! \n\n\n\n\n\n\n\n\nFriday\, June 30\n\n\n\n\n11 AM – 9 PM: Ribfest and vendors open.\n\n\n\n1 – 9 PM: Beer Garden open\n\n\n\nLive performances:\n\n1pm to 3pm – Jessica Sole (more information here)\n\n\n\n4pm to 6pm – Cabin Fever (more information here)\n\n\n\n7pm to 9pm – Neon Cactus (more information here)\n\n\n\n\n\n\nSaturday\, July 1 – HAPPY CANADA DAY!\n\n\n\n\n11 AM – 9 PM: Ribfest and vendors open.\n\n\n\n11 AM – 4 PM: Canada Day Celebrations! Kids’ Zone activities including inflatables\, face painting\, balloon artists\, Zoo to You\, Parry Sound Scouts Midway Games.\n\n\n\n1 – 9 PM: Beer Garden open.\n\n\n\nLive performances:\n\n1pm to 3pm – Terry Little and the Rhythm Boys (more information here)\n\n\n\n4pm to 6pm – The DeuxDads (more information here)\n\n\n\n7pm to 9pm – LEASH: A Tribute to Pearl Jam (more information here)\n\n\n\n\n\n\nSunday\, July 2\n\n\n\n\n11 AM – 4 PM: Ribfest and vendors open.\n\n\n\n1 – 4 PM: Beer Garden open.\n\n\n\nThe Great Canadian Lumberjack Show!\n\nShows at 11am\, 1pm & 3pm\n\n\n\n*Please note while our brochure had printed the final performance of The Great Canadian Lumberjack show was at 2pm\, the final performance is now occurring at 3pm.
URL:https://stockeycentre.com/event/ribfest-2023/
LOCATION:The Stockey Centre\, 2 Bay Street\, Parry Sound\, Ontario\, P2A 1S3\, Canada
CATEGORIES:Bands on the Bay,Ribfest Parry Sound & Canada Day Celebrations
ATTACH;FMTTYPE=image/png:https://stockeycentre.com/wp-content/uploads/2023/05/RIBFEST_cutout.png
ORGANIZER;CN="The Stockey Centre":MAILTO:info@stockeycentre.com
END:VEVENT
BEGIN:VEVENT
DTSTART;TZID=America/Toronto:20230630T130000
DTEND;TZID=America/Toronto:20230630T150000
DTSTAMP:20260423T003716
CREATED:20230506T174625Z
LAST-MODIFIED:20230506T175122Z
UID:5597-1688130000-1688137200@stockeycentre.com
SUMMARY:Ribfest Bands on the Bay: Jessica Sole
DESCRIPTION:Visit us at (https://stockeycentre.com/event/ribfest-2023/) for the full schedule for our Three Day Ribfest Parry Sound and Canada Day Celebrations from June 30th to July 2nd! \n\n\n\nJoin us for a free concert at The Stockey Centre as a part of Ribfest Parry Sound! \n\n\n\nAbout Jessica: \n\n\n\nBeing named as “one of the hardest workers in the Ontario Country scene” Jessica Sole is no stranger to commitment and determination. Working alongside award winning producer\, Shawn Moore\, Jessica has crafted a fresh\, new sound. After the release of her EP “Think of Us” (150\,000global streams\, 2 top40 hits on SiriusXM) Jessica has kept busy. In March of 2022\, Jessica recorded her upcoming EP at Nashville’s Blackbird Studios. Jessica is making her mark with fun\, lead singles “In The Name Of Tequila” and “Good in Goodbye”\, with early adds to radio\, and multiple editorial playlist adds across streaming platforms. Jessica draws inspiration from artists including Kelsea Ballerini\, and Miranda Lambert\, but her sweet vocals and original lyrics captivate audiences and keep fans wanting more. \n\n\n\nWebsite | Facebook
URL:https://stockeycentre.com/event/ribfest-bands-on-the-bay-jessica-sole/
LOCATION:The Stockey Centre\, 2 Bay Street\, Parry Sound\, Ontario\, P2A 1S3\, Canada
CATEGORIES:Bands on the Bay,Ribfest Parry Sound & Canada Day Celebrations
ATTACH;FMTTYPE=image/jpeg:https://stockeycentre.com/wp-content/uploads/2023/05/Jessica-Sole.jpg
ORGANIZER;CN="The Stockey Centre":MAILTO:info@stockeycentre.com
END:VEVENT
BEGIN:VEVENT
DTSTART;TZID=America/Toronto:20230630T160000
DTEND;TZID=America/Toronto:20230630T180000
DTSTAMP:20260423T003716
CREATED:20230506T175033Z
LAST-MODIFIED:20230506T175127Z
UID:5598-1688140800-1688148000@stockeycentre.com
SUMMARY:Ribfest Bands on the Bay: Cabin Fever
DESCRIPTION:Visit us at (https://stockeycentre.com/event/ribfest-2023/) for the full schedule for our Three Day Ribfest Parry Sound and Canada Day Celebrations from June 30th to July 2nd! \n\n\n\nJoin us for a free concert at The Stockey Centre as a part of Ribfest Parry Sound! \n\n\n\nAbout The Band: \n\n\n\nDesperately yearning for their Northern roots\, this southwestern Ontario alternative folk/roots duo often finds themselves pining over poplars and birch. They plant these feelings in a forest of incandescent guitar\, heart-pounding upright bass\, and howling vocals that will speak to the hearts of all who stop to listen. Through happenstance and sharing tales of their respective journeys living amongst the forests and lakes of La Ronge\, Saskatchewan\, and Muskoka\, Ontario\, Cabin Fever was formed in the fall of 2019 around a campfire in the unlikely locale of Camlachie\, Ontario\, next to the sparkling and unpredictable blue waters of Lake Huron.Known for captivatingly tight harmonies\, Jess and Kyle have journeyed on as a duo since the summer of 2021\, showcasing compelling style and versatility from the festival stage to intimate house concerts. They have a unique ability to spin performances that are tactfully rugged yet wistful and alluring as they draw in their audiences with dynamic storytelling through song and quick-witted banter. Come along as they take you from a meandering paddle across a lake of glass to the thundering of the herds crossing the Great Plains. Settle in with a cup of cocoa (or something a little stronger) and sit around the fire as Cabin Fever warms your soul and rekindles your wanderlust. \n\n\n\nWebsite | Facebook
URL:https://stockeycentre.com/event/ribfest-bands-on-the-bay-cabin-fever/
LOCATION:The Stockey Centre\, 2 Bay Street\, Parry Sound\, Ontario\, P2A 1S3\, Canada
CATEGORIES:Bands on the Bay,Ribfest Parry Sound & Canada Day Celebrations
ATTACH;FMTTYPE=image/png:https://stockeycentre.com/wp-content/uploads/2023/05/Cabin-Fever-WITH-TEXT.png
ORGANIZER;CN="The Stockey Centre":MAILTO:info@stockeycentre.com
END:VEVENT
BEGIN:VEVENT
DTSTART;TZID=America/Toronto:20230630T190000
DTEND;TZID=America/Toronto:20230630T210000
DTSTAMP:20260423T003716
CREATED:20230506T175949Z
LAST-MODIFIED:20230506T180213Z
UID:5599-1688151600-1688158800@stockeycentre.com
SUMMARY:Ribfest Bands on the Bay: Neon Cactus
DESCRIPTION:Visit us at (https://stockeycentre.com/event/ribfest-2023/) for the full schedule for our Three Day Ribfest Parry Sound and Canada Day Celebrations from June 30th to July 2nd! \n\n\n\nJoin us for a free concert at The Stockey Centre as a part of Ribfest Parry Sound! \n\n\n\nAbout The Band: \n\n\n\nNeon Cactus is a country rock band that has been performing locally for decades. after a break for Co-vid\, Neon Cactus has returned with additional players presenting a high energy country/rock show. \n\n\n\nRAY DEPUIS – VOCAL/GUITAR \n\n\n\nVERNE BUTINEAU – VOCAL/GUITAR \n\n\n\nRICK CAPREOL – VOCAL/GUITAR \n\n\n\nREGEAN PLOURDE – ELECTRIC VIOLIN \n\n\n\nJEFF OIKLE – ELECTRIC BASS \n\n\n\nTERRY BABCOCK – DRUMS
URL:https://stockeycentre.com/event/ribfest-bands-on-the-bay-neon-cactus/
LOCATION:The Stockey Centre\, 2 Bay Street\, Parry Sound\, Ontario\, P2A 1S3\, Canada
CATEGORIES:Bands on the Bay,Ribfest Parry Sound & Canada Day Celebrations
ATTACH;FMTTYPE=image/png:https://stockeycentre.com/wp-content/uploads/2023/05/Bands-on-the-Bay-Channel-Art.png
ORGANIZER;CN="The Stockey Centre":MAILTO:info@stockeycentre.com
END:VEVENT
END:VCALENDAR