BEGIN:VCALENDAR
VERSION:2.0
PRODID:-//The Stockey Centre - ECPv6.15.20//NONSGML v1.0//EN
CALSCALE:GREGORIAN
METHOD:PUBLISH
X-WR-CALNAME:The Stockey Centre
X-ORIGINAL-URL:https://stockeycentre.com
X-WR-CALDESC:Events for The Stockey Centre
REFRESH-INTERVAL;VALUE=DURATION:PT1H
X-Robots-Tag:noindex
X-PUBLISHED-TTL:PT1H
BEGIN:VTIMEZONE
TZID:America/Toronto
BEGIN:DAYLIGHT
TZOFFSETFROM:-0500
TZOFFSETTO:-0400
TZNAME:EDT
DTSTART:20220313T070000
END:DAYLIGHT
BEGIN:STANDARD
TZOFFSETFROM:-0400
TZOFFSETTO:-0500
TZNAME:EST
DTSTART:20221106T060000
END:STANDARD
BEGIN:DAYLIGHT
TZOFFSETFROM:-0500
TZOFFSETTO:-0400
TZNAME:EDT
DTSTART:20230312T070000
END:DAYLIGHT
BEGIN:STANDARD
TZOFFSETFROM:-0400
TZOFFSETTO:-0500
TZNAME:EST
DTSTART:20231105T060000
END:STANDARD
BEGIN:DAYLIGHT
TZOFFSETFROM:-0500
TZOFFSETTO:-0400
TZNAME:EDT
DTSTART:20240310T070000
END:DAYLIGHT
BEGIN:STANDARD
TZOFFSETFROM:-0400
TZOFFSETTO:-0500
TZNAME:EST
DTSTART:20241103T060000
END:STANDARD
END:VTIMEZONE
BEGIN:VEVENT
DTSTART;TZID=America/Toronto:20230630T000000
DTEND;TZID=America/Toronto:20230702T235959
DTSTAMP:20260422T230858
CREATED:20230506T174435Z
LAST-MODIFIED:20230624T162427Z
UID:5521-1688083200-1688342399@stockeycentre.com
SUMMARY:Ribfest Parry Sound and Canada Day Celebrations
DESCRIPTION:Join us from June 30 – July 2\, at The Stockey Centre in Parry Sound for a Canada Day weekend-long party! Parry Sound Ribfest is the place to be to celebrate the Canada Day long weekend with mouth-watering BBQ ribs\, ice cold drinks\, and live music! \n\n\n\nVisit us at https://www.parrysound.ca/play-here/events/parry-sound-ribfest-2023/ for all the up-to-date information on the weekend! \n\n\n\n\n\n\n\n\nFriday\, June 30\n\n\n\n\n11 AM – 9 PM: Ribfest and vendors open.\n\n\n\n1 – 9 PM: Beer Garden open\n\n\n\nLive performances:\n\n1pm to 3pm – Jessica Sole (more information here)\n\n\n\n4pm to 6pm – Cabin Fever (more information here)\n\n\n\n7pm to 9pm – Neon Cactus (more information here)\n\n\n\n\n\n\nSaturday\, July 1 – HAPPY CANADA DAY!\n\n\n\n\n11 AM – 9 PM: Ribfest and vendors open.\n\n\n\n11 AM – 4 PM: Canada Day Celebrations! Kids’ Zone activities including inflatables\, face painting\, balloon artists\, Zoo to You\, Parry Sound Scouts Midway Games.\n\n\n\n1 – 9 PM: Beer Garden open.\n\n\n\nLive performances:\n\n1pm to 3pm – Terry Little and the Rhythm Boys (more information here)\n\n\n\n4pm to 6pm – The DeuxDads (more information here)\n\n\n\n7pm to 9pm – LEASH: A Tribute to Pearl Jam (more information here)\n\n\n\n\n\n\nSunday\, July 2\n\n\n\n\n11 AM – 4 PM: Ribfest and vendors open.\n\n\n\n1 – 4 PM: Beer Garden open.\n\n\n\nThe Great Canadian Lumberjack Show!\n\nShows at 11am\, 1pm & 3pm\n\n\n\n*Please note while our brochure had printed the final performance of The Great Canadian Lumberjack show was at 2pm\, the final performance is now occurring at 3pm.
URL:https://stockeycentre.com/event/ribfest-2023/
LOCATION:The Stockey Centre\, 2 Bay Street\, Parry Sound\, Ontario\, P2A 1S3\, Canada
CATEGORIES:Bands on the Bay,Ribfest Parry Sound & Canada Day Celebrations
ATTACH;FMTTYPE=image/png:https://stockeycentre.com/wp-content/uploads/2023/05/RIBFEST_cutout.png
ORGANIZER;CN="The Stockey Centre":MAILTO:info@stockeycentre.com
END:VEVENT
BEGIN:VEVENT
DTSTART;TZID=America/Toronto:20230701T130000
DTEND;TZID=America/Toronto:20230701T150000
DTSTAMP:20260422T230858
CREATED:20230506T180534Z
LAST-MODIFIED:20230506T180536Z
UID:5600-1688216400-1688223600@stockeycentre.com
SUMMARY:Ribfest Bands on the Bay: Terry Little and the Rhythm Boys
DESCRIPTION:Visit us at (https://stockeycentre.com/event/ribfest-2023/) for the full schedule for our Three Day Ribfest Parry Sound and Canada Day Celebrations from June 30th to July 2nd! \n\n\n\nJoin us for a free concert at The Stockey Centre as a part of Ribfest Parry Sound! \n\n\n\nAbout The Band: \n\n\n\nOld time fiddling\, country singing\, square dancing\, harmonica\, and banjo playing! \n\n\n\nTerry Little and The Rhythm Boys have played music for Cruise Ships (including the Pearl Mist and Victory 2 out of Chicago) for four summers.  The band has played at The Annual Autumn Fiddle Fest for thirteen years at The Charles W. Stockey Centre and have played for local long-term care homes and local fairs for many years. \n\n\n\nTerry Little himself has played Fiddle all his life.  He’s competed at many fiddle contests throughout Ontario and has won many awards (including The Parry Sound District Fiddle Championship) and was inducted into The Northern Ontario Country Music Association in Sault St. Marie. He started playing the fiddle for square dances sixty-four years ago and has two albums with some of his own compositions. He has conducted The Autumn Fiddle Fest each year at The Stockey Centre and brought many top-notch fiddlers and step dancers to the event.  He was named to the Order of Parry Sound for enriching the lives of people in the Parry Sound District.
URL:https://stockeycentre.com/event/ribfest-bands-on-the-bay-terry-little-and-the-rhythm-boys/
LOCATION:The Stockey Centre\, 2 Bay Street\, Parry Sound\, Ontario\, P2A 1S3\, Canada
CATEGORIES:Bands on the Bay,Ribfest Parry Sound & Canada Day Celebrations
ATTACH;FMTTYPE=image/jpeg:https://stockeycentre.com/wp-content/uploads/2021/11/Terry-Little-Edited.jpg
ORGANIZER;CN="The Stockey Centre":MAILTO:info@stockeycentre.com
END:VEVENT
BEGIN:VEVENT
DTSTART;TZID=America/Toronto:20230701T160000
DTEND;TZID=America/Toronto:20230701T180000
DTSTAMP:20260422T230858
CREATED:20230506T180830Z
LAST-MODIFIED:20230506T180838Z
UID:5601-1688227200-1688234400@stockeycentre.com
SUMMARY:Ribfest Bands on the Bay: The DeuxDads
DESCRIPTION:Visit us at (https://stockeycentre.com/event/ribfest-2023/) for the full schedule for our Three Day Ribfest Parry Sound and Canada Day Celebrations from June 30th to July 2nd! \n\n\n\nJoin us for a free concert at The Stockey Centre as a part of Ribfest Parry Sound! \n\n\n\nAbout The Band: \n\n\n\nConsisting of Dean Watson and Peter Trinz\, The DeuxDads is a full sounding\, small footprint\, rock classic playing band. You will know every song they play!
URL:https://stockeycentre.com/event/ribfest-bands-on-the-bay-the-deuxdads/
LOCATION:The Stockey Centre\, 2 Bay Street\, Parry Sound\, Ontario\, P2A 1S3\, Canada
CATEGORIES:Bands on the Bay,Ribfest Parry Sound & Canada Day Celebrations
ATTACH;FMTTYPE=image/png:https://stockeycentre.com/wp-content/uploads/2021/07/DeuxDads-V2-Copy.png
ORGANIZER;CN="The Stockey Centre":MAILTO:info@stockeycentre.com
END:VEVENT
BEGIN:VEVENT
DTSTART;TZID=America/Toronto:20230701T190000
DTEND;TZID=America/Toronto:20230701T210000
DTSTAMP:20260422T230858
CREATED:20230506T181223Z
LAST-MODIFIED:20230506T181241Z
UID:5602-1688238000-1688245200@stockeycentre.com
SUMMARY:Ribfest Bands on the Bay: LEASH - A Tribute to Pearl Jam
DESCRIPTION:Visit us at (https://stockeycentre.com/event/ribfest-2023/) for the full schedule for our Three Day Ribfest Parry Sound and Canada Day Celebrations from June 30th to July 2nd! \n\n\n\nJoin us for a free concert at The Stockey Centre as a part of Ribfest Parry Sound! \n\n\n\nAbout The Band: \n\n\n\nA band of five fans\, friends and musicians\, paying homage to Seattle’s own\, Pearl Jam! One of the finest rock bands of our generation. A high energy\, heavy deliverance of the hits\, the B-sides and the gems that made us all fall in love with Pearl Jam over the years. Just like the real deal\, “LEASH” is committed to the most important aspect of their live show… the music\, the performance\, the crowd\, the energy exchange and the passion of the PJ catalogue. Come together\, join “LEASH” and take part in celebrating one of greatest rock bands of our time! \n\n\n\nWebsite | Facebook
URL:https://stockeycentre.com/event/ribfest-bands-on-the-bay-leash-a-tribute-to-pearl-jam/
LOCATION:The Stockey Centre\, 2 Bay Street\, Parry Sound\, Ontario\, P2A 1S3\, Canada
CATEGORIES:Bands on the Bay,Ribfest Parry Sound & Canada Day Celebrations
ATTACH;FMTTYPE=image/jpeg:https://stockeycentre.com/wp-content/uploads/2023/05/Leash.jpg
ORGANIZER;CN="The Stockey Centre":MAILTO:info@stockeycentre.com
END:VEVENT
BEGIN:VEVENT
DTSTART;TZID=America/Toronto:20230704T190000
DTEND;TZID=America/Toronto:20230704T210000
DTSTAMP:20260422T230858
CREATED:20230506T162607Z
LAST-MODIFIED:20230613T202225Z
UID:5539-1688497200-1688504400@stockeycentre.com
SUMMARY:Bands on the Bay: Sarah Smith
DESCRIPTION:Domino’s Pizza Parry Sound presents Bands on the Bay: Free Summer Concerts\n\n\n\nA free concert overlooking the bay? This is The Thing To Do on a summer Tuesday evening! Performances are held outside on our bayside deck\, or inside in case of rain from June to August. Domino’s Pizza Parry Sound will be on-site selling pizza\, accompanied by The Stockey Centre’s licensed cash bar. \n\n\n\nAbout Sarah: \n\n\n\nSarah Smith is a fiercely talented Canadian singer/songwriter\, known for her powerful and compelling stage performances and the bold humanity of her songwriting. \n\n\n\nAfter honing her craft as a member of proto-Punk band The Joys\, Sarah has spent the last 15 years as a solo artist\, touring relentlessly throughout Canada\, while also building a growing and deeply loyal fan base in key parts of the United States and Europe. She has been honoured with over 25 Canadian Independent industry awards for her work\, and has shared the stage with some of the most respected Canadian artists of all time\, including Carole Pope\, Sass Jordan\, Joel Plaskett\, Bif Naked\, as well as International acts like Melissa Etheridge\, Nancy Wilson and KT Tunstall. \n\n\n\nShe has steadily released original music over the past decade\, including 2021’s Songs From When the World Went Still and Sarah Smith and the Lovers of London. \n\n\n\nA native of London\, Ontario\, Sarah recently moved to Pender Island\, off the coast of mainland British Columbia where she has experienced a personal rebirth and a revitalization of her creative artistry. The balance she has rediscovered in life has translated into new and exciting creative endeavours and re- energized her desire to become an international touring artist. \n\n\n\nSarah Smith is an artist of uncommon ability\, unrivalled authenticity\, who connects with all who encounter her remarkable songs and live performances. \n\n\n\nSarah is an inspiring advocate for mental health and well-being. She uses her platform to not only play shows\, but to also share her story and support organizations like the Canadian Mental Health Association\, Addictions Services of Thames Valley\, My Sister’s Place\, Anova\, and Vanier Children’s Services. Through her social activism\, Sarah is helping to make a real difference in the lives of many. \n\n\n\nBe sure to visit www.sarahsmithmusic.com for all info on Sarah Smith!
URL:https://stockeycentre.com/event/bands-on-the-bay-sarah-smith/
LOCATION:The Stockey Centre\, 2 Bay Street\, Parry Sound\, Ontario\, P2A 1S3\, Canada
CATEGORIES:Bands on the Bay
ATTACH;FMTTYPE=image/jpeg:https://stockeycentre.com/wp-content/uploads/2023/05/Sarah-smith.jpeg
ORGANIZER;CN="The Stockey Centre":MAILTO:info@stockeycentre.com
END:VEVENT
BEGIN:VEVENT
DTSTART;TZID=America/Toronto:20230711T190000
DTEND;TZID=America/Toronto:20230711T210000
DTSTAMP:20260422T230858
CREATED:20230506T163214Z
LAST-MODIFIED:20230613T202218Z
UID:5540-1689102000-1689109200@stockeycentre.com
SUMMARY:Bands on the Bay: Jessica Sevier
DESCRIPTION:Domino’s Pizza Parry Sound presents Bands on the Bay: Free Summer Concerts\n\n\n\nA free concert overlooking the bay? This is The Thing To Do on a summer Tuesday evening! Performances are held outside on our bayside deck\, or inside in case of rain from June to August. Domino’s Pizza Parry Sound will be on-site selling pizza\, accompanied by The Stockey Centre’s licensed cash bar. \n\n\n\nAbout Jessica: \n\n\n\nToronto born vocalist and multi-instrumentalist Jessica Sevier is an up and coming country music artist with lots of accomplishments under her belt. Sevier has released a few singles since her debut “Ghost of Tom” in 2019\, with her music being collectively streamed over 1 million times. Sevier’s success has gained the attention of some of Sony/ATV and Liz Rose Music’s most talented writers\, landing her single “Confetti”. Recorded down in Nashville with Grady Saxman (Luke Combs\, Tenille Arts) this record has been nothing but a success with gaining rotation on Canadian country radio as well as SiriusXM\, and surpassing 400k streams since its release in March 2022. As well\, “Confetti” reached the #1 spot on the Canadian Indie Country Radio Charts. Sevier’s latest single “See You There” was also one recorded in Nashville with Grady Saxman\, it is an upbeat heartbreak tune bound to resonate with young hearts. Since its release in summer 2022 “See You There” has charted on Canadian Radio as the 3rd most downloaded song on its first day as well as the 9th most active single from an independent artist. As well “See You There” played in rotation on 25 Canadian country stations.  \n\n\n\nComing up for Sevier is another collaboration with the writers at Sony Music Publishing Nashville. “Legends of the Summer ” is set to hit listeners May 19th\, 2023. A nostalgic country-rock tune is perfect for summer and reminiscing on the memories of past relationships. \n\n\n\nThe integrity of Jessica’s song writing has not gone unnoticed\, as her original music gained her a spot to compete on the TV show The Shot: Remastered in 2020. As well\, Sevier was a top 7 to watch at 2022 CMW (Canadian Music Week) Featured Artist/Performer\, an Indie Week 2021 exhibitor and was chosen as one of the top 12 in the CNE Rising Star Competition 2020. Sevier has spent most of her career touring around Ontario playing notable downtown Toronto venues and music festivals. Most recently Sevier headlined the legendary Lee’s Palace in Toronto. \n\n\n\nWebsite | Facebook
URL:https://stockeycentre.com/event/bands-on-the-bay-jessica-sevier-2/
LOCATION:The Stockey Centre\, 2 Bay Street\, Parry Sound\, Ontario\, P2A 1S3\, Canada
CATEGORIES:Bands on the Bay
ATTACH;FMTTYPE=image/jpeg:https://stockeycentre.com/wp-content/uploads/2023/05/Jessica-Sevier.jpg
ORGANIZER;CN="The Stockey Centre":MAILTO:info@stockeycentre.com
END:VEVENT
BEGIN:VEVENT
DTSTART;TZID=America/Toronto:20230718T190000
DTEND;TZID=America/Toronto:20230718T221500
DTSTAMP:20260422T230858
CREATED:20230506T165857Z
LAST-MODIFIED:20230623T190825Z
UID:5541-1689706800-1689718500@stockeycentre.com
SUMMARY:Bands on the Bay: Sully Burrows & Jason Meadowcroft
DESCRIPTION:Domino’s Pizza Parry Sound presents Bands on the Bay: Free Summer Concerts\n\n\n\nA free concert overlooking the bay? This is The Thing To Do on a summer Tuesday evening! Performances are held outside on our bayside deck\, or inside in case of rain from June to August. Domino’s Pizza Parry Sound will be on-site selling pizza\, accompanied by The Stockey Centre’s licensed cash bar. \n\n\n\nTonight’s performance is extra special for two reasons: July 18th marks the 20th Anniversary of the grand opening of The Charles W. Stockey Centre for the Performing Arts and Bobby Orr Hall of Fame and we have two performers for Bands on the Bay on this date! Sully Burrows will perform from 7:00pm to 8:30pm and Jason Meadowcroft will perform from 8:45pm to 10:15pm. \n\n\n\nAbout Sully: \n\n\n\nSully Burrows is a 16 year old local singer/songwriter who has performed at various Parry Sound-Muskoka venues over the course of 2022 and2023. Sully plays songs that he has written and covers many artists such as The Tragically Hip\, Bob Dylan\, Morgan Wallen\, Chris Stapleton\, and many others. \n\n\n\nWebsite | Instagram \n\n\n\nAbout Jason: \n\n\n\nJason began playing publicly in restaurants as well as performing various private events in the spring of 2022. He will never stop growing as an artist; he continues to enjoy every minute he spends playing his guitar and singing for those who enjoy to listen. Can’t wait to see what 2023 brings. \n\n\n\nInstagram
URL:https://stockeycentre.com/event/bands-on-the-bay-sully-burrows-jason-meadowcroft/
LOCATION:The Stockey Centre\, 2 Bay Street\, Parry Sound\, Ontario\, P2A 1S3\, Canada
CATEGORIES:Bands on the Bay,Twentieth Anniversary Celebrations
ATTACH;FMTTYPE=image/png:https://stockeycentre.com/wp-content/uploads/2023/05/Sully-Jason.png
ORGANIZER;CN="The Stockey Centre":MAILTO:info@stockeycentre.com
END:VEVENT
END:VCALENDAR