BEGIN:VCALENDAR
VERSION:2.0
PRODID:-//The Stockey Centre - ECPv6.15.20//NONSGML v1.0//EN
CALSCALE:GREGORIAN
METHOD:PUBLISH
X-WR-CALNAME:The Stockey Centre
X-ORIGINAL-URL:https://stockeycentre.com
X-WR-CALDESC:Events for The Stockey Centre
REFRESH-INTERVAL;VALUE=DURATION:PT1H
X-Robots-Tag:noindex
X-PUBLISHED-TTL:PT1H
BEGIN:VTIMEZONE
TZID:America/Toronto
BEGIN:DAYLIGHT
TZOFFSETFROM:-0500
TZOFFSETTO:-0400
TZNAME:EDT
DTSTART:20220313T070000
END:DAYLIGHT
BEGIN:STANDARD
TZOFFSETFROM:-0400
TZOFFSETTO:-0500
TZNAME:EST
DTSTART:20221106T060000
END:STANDARD
BEGIN:DAYLIGHT
TZOFFSETFROM:-0500
TZOFFSETTO:-0400
TZNAME:EDT
DTSTART:20230312T070000
END:DAYLIGHT
BEGIN:STANDARD
TZOFFSETFROM:-0400
TZOFFSETTO:-0500
TZNAME:EST
DTSTART:20231105T060000
END:STANDARD
BEGIN:DAYLIGHT
TZOFFSETFROM:-0500
TZOFFSETTO:-0400
TZNAME:EDT
DTSTART:20240310T070000
END:DAYLIGHT
BEGIN:STANDARD
TZOFFSETFROM:-0400
TZOFFSETTO:-0500
TZNAME:EST
DTSTART:20241103T060000
END:STANDARD
END:VTIMEZONE
BEGIN:VEVENT
DTSTART;TZID=America/Toronto:20230914T190000
DTEND;TZID=America/Toronto:20230914T190000
DTSTAMP:20260422T202914
CREATED:20230722T170703Z
LAST-MODIFIED:20230820T173655Z
UID:5896-1694718000-1694718000@stockeycentre.com
SUMMARY:Bands on the Bay: Filthy Rich and the Empty Pockets
DESCRIPTION:Domino’s Pizza Parry Sound presents Bands on the Bay: Free Summer Concerts\n\n\n\nA free concert overlooking the bay? This is The Thing To Do on a summer Tuesday evening! Performances are held outside on our bayside deck\, or inside in case of rain from June to August. Domino’s Pizza Parry Sound will be on-site selling pizza\, accompanied by The Stockey Centre’s licensed cash bar.  \n\n\n\nAbout The Band:  \n\n\n\nFilthy Rich and the Empty Pockets play what people want to hear when they go to see a live band—all the hits! Performing a repertoire of radio-friendly classic-rock and pop\, this band gets you dancing and singing along to song you love! \n\n\n\nWebsite | Facebook
URL:https://stockeycentre.com/event/bands-on-the-bay-filthy-rich-and-the-empty-pockets-5/
LOCATION:The Stockey Centre\, 2 Bay Street\, Parry Sound\, Ontario\, P2A 1S3\, Canada
CATEGORIES:Bands on the Bay
ATTACH;FMTTYPE=image/jpeg:https://stockeycentre.com/wp-content/uploads/2023/01/Promo-Pic-scaled.jpg
ORGANIZER;CN="The Stockey Centre":MAILTO:info@stockeycentre.com
END:VEVENT
END:VCALENDAR