BEGIN:VCALENDAR
VERSION:2.0
PRODID:-//The Stockey Centre - ECPv6.15.20//NONSGML v1.0//EN
CALSCALE:GREGORIAN
METHOD:PUBLISH
X-WR-CALNAME:The Stockey Centre
X-ORIGINAL-URL:https://stockeycentre.com
X-WR-CALDESC:Events for The Stockey Centre
REFRESH-INTERVAL;VALUE=DURATION:PT1H
X-Robots-Tag:noindex
X-PUBLISHED-TTL:PT1H
BEGIN:VTIMEZONE
TZID:America/Toronto
BEGIN:DAYLIGHT
TZOFFSETFROM:-0500
TZOFFSETTO:-0400
TZNAME:EDT
DTSTART:20210314T070000
END:DAYLIGHT
BEGIN:STANDARD
TZOFFSETFROM:-0400
TZOFFSETTO:-0500
TZNAME:EST
DTSTART:20211107T060000
END:STANDARD
BEGIN:DAYLIGHT
TZOFFSETFROM:-0500
TZOFFSETTO:-0400
TZNAME:EDT
DTSTART:20220313T070000
END:DAYLIGHT
BEGIN:STANDARD
TZOFFSETFROM:-0400
TZOFFSETTO:-0500
TZNAME:EST
DTSTART:20221106T060000
END:STANDARD
BEGIN:DAYLIGHT
TZOFFSETFROM:-0500
TZOFFSETTO:-0400
TZNAME:EDT
DTSTART:20230312T070000
END:DAYLIGHT
BEGIN:STANDARD
TZOFFSETFROM:-0400
TZOFFSETTO:-0500
TZNAME:EST
DTSTART:20231105T060000
END:STANDARD
END:VTIMEZONE
BEGIN:VEVENT
DTSTART;TZID=America/Toronto:20220618T170000
DTEND;TZID=America/Toronto:20220618T170000
DTSTAMP:20260424T175110
CREATED:20220610T175009Z
LAST-MODIFIED:20220610T184914Z
UID:4165-1655571600-1655571600@stockeycentre.com
SUMMARY:Bobby Orr Hall of Fame Induction Ceremony presented by Engel & Völkers Parry Sound
DESCRIPTION:The Bobby Orr Hall of Fame Induction Committee is pleased to announce we will host an Induction Ceremony for the Class of 2020 on Saturday\, June 18th\, 2022 at the Charles W. Stockey Centre in Parry Sound. The Class of 2020 is comprised of Chris Lee (Athlete)\, Sarah ‘Sally’ Manning (Athlete) and Peter Wiltmann (Builder). After a two-year delay due to the Covid-19 pandemic\, we are excited to officially welcome them into the Bobby Orr Hall of Fame. This event is presented by Engel & Völkers Parry Sound. \n\n\n\n\n\n\n\n\nThere are two ticket options for the event. \n\n\n\nDinner & Ceremony – $105 plus HST \n\n\n\nSeated at banquet tables on the ground floor in the performance hallArrive between 4:30-5:00 pmPlated dinner served at 5:15 in the performance hallCeremony at 7:00 pm in the performance hallCocktail reception with dessert in the lobby\n\n\n\nCeremony – $65 plus HST \n\n\n\nSeated in the mezzanine level of the performance hallArrive at 6:30 pmCeremony at 7:00 pm in the performance hallCocktail reception with dessert in the lobby\n\n\n\nTickets are available from the Charles W. Stockey Centre Box Office at (877) 746-4466 ext. 205 or visit us in person. \n\n\n\nThank you to our generous sponsors for this event. \n\n\n\n\n\n\n\n\n\n\n\n\n\n\n\n\n\n\n\n\n\n\n\nChris LeeAthleteChris Lee\, born in MacTier\, ON\, has further solidified the reputation of the West Parry Sound region for producing great hockey players. Chris grew up playing Minor Hockey in Parry Sound and his teams won Bantam\, Midget and Juvenile All-Ontario Championships. He attended State University of New York (SUNY)\, Potsdam\, an NCAA division II school on a hockey scholarship. In his final season he was named SUNY Athletic Conference Player of the Year and selected for the All-American First Team by the American Hockey Coaches Association. Lee went on to play 249 games in the American Hockey League for the Albany River Rats\, Omaha Ak-Sar-Ben Knights\, Iowa Stars\, Bridgeport Sound Tigers\, and Wilkes-Barre/Scranton Penguins. Moving to the German DEL league with Adler Manheim in 2011-12\, he earned the Defenceman of the Year Award. Chris went on to play a total of 118 games in the DEL\, 71 games in the Swedish Hockey League (SHL) and 322 games in the KHL where he holds five all-time records. Chris made his team Canada debut on the world stage in 2017\, winning a silver medal at the 2017 IIHF World Championships followed by a bronze medal with Team Canada at the 2018 Winter Olympic Games.Sarah ‘Sally’ ManningAthleteSarah ‘Sally’ Manning was an outstanding and dedicated multi-sport athlete and role model for active living. One of Canada’s most accomplished field hockey players\, she won multiple national championships\, played on Team Canada at three world field hockey tournaments and was selected as a member of the World Eleven all-star team to play at the Golden Jubilee Tournament of 1980 in Ayr\, Scotland. Although born in Toronto\, Sally had a long connection to Parry Sound before relocating here through her involvement with local adventure travel company Black Feather with whom she guided canoe\, kayak and hiking trips for more than 25 years. Sally was an avid golfer; at Parry Sound Golf & Country Club she was a four-time Senior Ladies Club Champion and three-time Ladies Club Champion. Sally was an also an avid hockey player with the Parry Sound Phantoms for more than a decade competing provincially. Additionally\, she was a committed master cross-country skier\, winning numerous provincial and national championships and competing at multiple world championships. She won a silver medal in 20km skate ski at the 2008 World Masters Cross Country Ski Championships. While Sally was a fierce competitor in all her sports\, she is remembered by teammates and competitors alike for her sportsmanship\, integrity and quiet modesty. Sally passed away in 2014 after a battle with cancer\, during which she showed the same fighting spirit that allowed her to rise to such a high level in so many sports.Peter WiltmannBuilderPeter Wiltmann emigrated to Canada from Germany in search of open spaces and room to play. He landed at Wawanaisa Resort in Carling with wife Dorte\, which they have operated together for more than 40 years. With a great deal of winter downtime on his hands and trails nearby\, cross-country skiing quickly became a passion for Peter\, shared by sons Viktor and Konrad. He began volunteering at Georgian Nordic Ski Club more than 20 years ago and since that time has coached the high school ski team\, assisted in the creation of the Georgian Nordic Racing Team and served as a Georgian Nordic Board Member. Athletes coached by Peter have gone on to race at provincial\, national and international levels. Athletes\, parents and fellow coaches alike have noted Peter’s dedication\, enthusiasm and the fun\, caring\, team atmosphere he builds. Just like his athletes\, Peter is always striving to improve his coaching techniques and stay abreast of new developments in the sport. Peter is passionate about teaching youth to love sports and considers a day successful if his athletes are giving their best and have a great time outdoors on the snow. In 2018 he was recognized with the Heinz Niederhauser Outstanding Coaching Award by Cross Country Ski Ontario for his significant\, long-term commitment to coaching cross-country ski racing in Ontario.For more information\, please contact Bobby Orr Hall of Fame Curator Caitlin Dyer or Induction Committee Chair Dave Garagan.Contact: Caitlin Dyer Bobby Orr Hall of Fame Curator cdyer@bobbyorrhalloffame.com  \n\n\n\nOR  \n\n\n\nDave Garagan Chair\, Induction Committee dave@parrysoundinsurance.com 
URL:https://stockeycentre.com/event/bobby-orr-hall-of-fame-induction-class-of-2020/
LOCATION:The Stockey Centre\, 2 Bay Street\, Parry Sound\, Ontario\, P2A 1S3\, Canada
CATEGORIES:Bobby Orr Hall of Fame Event
ATTACH;FMTTYPE=image/png:https://stockeycentre.com/wp-content/uploads/2022/03/2022-Induction-Image.png
ORGANIZER;CN="Bobby Orr Hall of Fame":MAILTO:cdyer@bobbyorrhalloffame.com
END:VEVENT
END:VCALENDAR