BEGIN:VCALENDAR
VERSION:2.0
PRODID:-//The Stockey Centre - ECPv6.15.20//NONSGML v1.0//EN
CALSCALE:GREGORIAN
METHOD:PUBLISH
X-WR-CALNAME:The Stockey Centre
X-ORIGINAL-URL:https://stockeycentre.com
X-WR-CALDESC:Events for The Stockey Centre
REFRESH-INTERVAL;VALUE=DURATION:PT1H
X-Robots-Tag:noindex
X-PUBLISHED-TTL:PT1H
BEGIN:VTIMEZONE
TZID:America/Toronto
BEGIN:DAYLIGHT
TZOFFSETFROM:-0500
TZOFFSETTO:-0400
TZNAME:EDT
DTSTART:20170312T070000
END:DAYLIGHT
BEGIN:STANDARD
TZOFFSETFROM:-0400
TZOFFSETTO:-0500
TZNAME:EST
DTSTART:20171105T060000
END:STANDARD
BEGIN:DAYLIGHT
TZOFFSETFROM:-0500
TZOFFSETTO:-0400
TZNAME:EDT
DTSTART:20180311T070000
END:DAYLIGHT
BEGIN:STANDARD
TZOFFSETFROM:-0400
TZOFFSETTO:-0500
TZNAME:EST
DTSTART:20181104T060000
END:STANDARD
BEGIN:DAYLIGHT
TZOFFSETFROM:-0500
TZOFFSETTO:-0400
TZNAME:EDT
DTSTART:20190310T070000
END:DAYLIGHT
BEGIN:STANDARD
TZOFFSETFROM:-0400
TZOFFSETTO:-0500
TZNAME:EST
DTSTART:20191103T060000
END:STANDARD
END:VTIMEZONE
BEGIN:VEVENT
DTSTART;TZID=America/Toronto:20181024T193000
DTEND;TZID=America/Toronto:20181024T193000
DTSTAMP:20260425T222045
CREATED:20180821T154839Z
LAST-MODIFIED:20180823T153132Z
UID:1055-1540409400-1540409400@stockeycentre.com
SUMMARY:Parry Sound Festival of Authors
DESCRIPTION:Literary fiction and non-fiction from four versatile and accomplished authors: Katherine Ashenburg\, James FitzGerald\, Wayne Grady\, and Merilyn Simonds.
URL:https://stockeycentre.com/event/parry-sound-festival-of-authors/
LOCATION:The Stockey Centre\, 2 Bay Street\, Parry Sound\, Ontario\, P2A 1S3\, Canada
CATEGORIES:Book Reading
ATTACH;FMTTYPE=image/jpeg:https://stockeycentre.com/wp-content/uploads/2018/08/PS-FOA-poster-Final-draft-2018.jpg
END:VEVENT
END:VCALENDAR