BEGIN:VCALENDAR
VERSION:2.0
PRODID:-//The Stockey Centre - ECPv6.15.20//NONSGML v1.0//EN
CALSCALE:GREGORIAN
METHOD:PUBLISH
X-WR-CALNAME:The Stockey Centre
X-ORIGINAL-URL:https://stockeycentre.com
X-WR-CALDESC:Events for The Stockey Centre
REFRESH-INTERVAL;VALUE=DURATION:PT1H
X-Robots-Tag:noindex
X-PUBLISHED-TTL:PT1H
BEGIN:VTIMEZONE
TZID:America/Toronto
BEGIN:DAYLIGHT
TZOFFSETFROM:-0500
TZOFFSETTO:-0400
TZNAME:EDT
DTSTART:20220313T070000
END:DAYLIGHT
BEGIN:STANDARD
TZOFFSETFROM:-0400
TZOFFSETTO:-0500
TZNAME:EST
DTSTART:20221106T060000
END:STANDARD
BEGIN:DAYLIGHT
TZOFFSETFROM:-0500
TZOFFSETTO:-0400
TZNAME:EDT
DTSTART:20230312T070000
END:DAYLIGHT
BEGIN:STANDARD
TZOFFSETFROM:-0400
TZOFFSETTO:-0500
TZNAME:EST
DTSTART:20231105T060000
END:STANDARD
BEGIN:DAYLIGHT
TZOFFSETFROM:-0500
TZOFFSETTO:-0400
TZNAME:EDT
DTSTART:20240310T070000
END:DAYLIGHT
BEGIN:STANDARD
TZOFFSETFROM:-0400
TZOFFSETTO:-0500
TZNAME:EST
DTSTART:20241103T060000
END:STANDARD
END:VTIMEZONE
BEGIN:VEVENT
DTSTART;TZID=America/Toronto:20231122T193000
DTEND;TZID=America/Toronto:20231122T193000
DTSTAMP:20260422T072034
CREATED:20230810T150203Z
LAST-MODIFIED:20230811T141701Z
UID:5923-1700681400-1700681400@stockeycentre.com
SUMMARY:An Evening with Waubgeshig Rice
DESCRIPTION:The Stockey Centre with Parry Sound Books and Trestle Brewing Company present An Evening with Waubgeshig Rice with special guests The Friendship Centre of Parry Sound. \n\n\n\n\n\n\n\n\n\n\n\n\n\n\n\n\n\n\n\n\n\n\n\n\n\nWaubgeshig Rice is an author and journalist from Wasauksing First Nation. \n\n\n\nHe’s written four books\, most notably the bestselling novel Moon of the Crusted Snow\, published in 2018. \n\n\n\nHe graduated from the journalism program at Toronto Metropolitan University in 2002\, and spent most of his journalism career with the Canadian Broadcasting Corporation as a video journalist and radio host. \n\n\n\nHe left CBC in 2020 to focus on his literary career. \n\n\n\nHis forthcoming novel\, Moon of the Turning Leaves\, will be published in October 2023. \n\n\n\nIn addition to his writing endeavours\, Waubgeshig is an eclectic public speaker\, delivering keynote addresses and workshops\, engaging in interviews\, and contributing to various panels at literary festivals and conferences. \n\n\n\nHe speaks on creative writing and oral storytelling\, contemporary Anishinaabe culture and matters\, Indigenous representation in arts and media\, and more. \n\n\n\nHe lives in Sudbury\, Ontario with his wife and three sons. \n\n\n\nTickets are $15 + HST each. This event is general seating. \n\n\n\nBUY TICKETS ONLINE HERE \n\n\n\nTickets can also be purchased during our business hours by calling our Box Office at 705-746-4466 extension 405 or visiting us at 2 Bay Street\, Parry Sound.
URL:https://stockeycentre.com/event/an-evening-with-waubgeshig-rice/
LOCATION:The Stockey Centre\, 2 Bay Street\, Parry Sound\, Ontario\, P2A 1S3\, Canada
CATEGORIES:Book Reading
ATTACH;FMTTYPE=image/jpeg:https://stockeycentre.com/wp-content/uploads/2023/08/Waub2-scaled-1.jpg
ORGANIZER;CN="The Stockey Centre":MAILTO:info@stockeycentre.com
END:VEVENT
END:VCALENDAR