BEGIN:VCALENDAR
VERSION:2.0
PRODID:-//The Stockey Centre - ECPv6.15.20//NONSGML v1.0//EN
CALSCALE:GREGORIAN
METHOD:PUBLISH
X-WR-CALNAME:The Stockey Centre
X-ORIGINAL-URL:https://stockeycentre.com
X-WR-CALDESC:Events for The Stockey Centre
REFRESH-INTERVAL;VALUE=DURATION:PT1H
X-Robots-Tag:noindex
X-PUBLISHED-TTL:PT1H
BEGIN:VTIMEZONE
TZID:America/Toronto
BEGIN:DAYLIGHT
TZOFFSETFROM:-0500
TZOFFSETTO:-0400
TZNAME:EDT
DTSTART:20240310T070000
END:DAYLIGHT
BEGIN:STANDARD
TZOFFSETFROM:-0400
TZOFFSETTO:-0500
TZNAME:EST
DTSTART:20241103T060000
END:STANDARD
BEGIN:DAYLIGHT
TZOFFSETFROM:-0500
TZOFFSETTO:-0400
TZNAME:EDT
DTSTART:20250309T070000
END:DAYLIGHT
BEGIN:STANDARD
TZOFFSETFROM:-0400
TZOFFSETTO:-0500
TZNAME:EST
DTSTART:20251102T060000
END:STANDARD
BEGIN:DAYLIGHT
TZOFFSETFROM:-0500
TZOFFSETTO:-0400
TZNAME:EDT
DTSTART:20260308T070000
END:DAYLIGHT
BEGIN:STANDARD
TZOFFSETFROM:-0400
TZOFFSETTO:-0500
TZNAME:EST
DTSTART:20261101T060000
END:STANDARD
END:VTIMEZONE
BEGIN:VEVENT
DTSTART;TZID=America/Toronto:20250701T130000
DTEND;TZID=America/Toronto:20250701T210000
DTSTAMP:20260422T161255
CREATED:20250515T190000Z
LAST-MODIFIED:20250625T192034Z
UID:7905-1751374800-1751403600@stockeycentre.com
SUMMARY:Bands on the Bay: Canada Day
DESCRIPTION:Domino’s Pizza Parry Sound presents Bands on the Bay: Free Summer Concerts \n\n\n\nA free concert overlooking the bay? This is The Thing To Do on a summer Tuesday evening! Performances are held outside on our bayside deck\, or inside in case of rain from June to August. Domino’s Pizza Parry Sound will be on-site selling pizza\, accompanied by The Stockey Centre’s licensed cash bar. \n\n\n\nDomino’s Pizza will be available on this date starting at 5pm and 7pm. \n\n\n\nTodd & Robyn from 1pm to 3pm \n\n\n\nSimple songs for simple life: a concept the husband/wife duo from Bracebridge\, Ontario are becoming familiar with lately. After moving North in 2021\, the pair decided to dive into the vibrant Muskoka music scene! Calling the Bracebridge Hall their second home\, Todd & Robyn have had the rare opportunity to develop their live chops all while being supported to write original music. With soulful harmonies and lively tambourine\, this Folksy Americana duo will not disappoint. \n\n\n\nMike Branton Band from 4pm to 6pm \n\n\n\nMike Branton is a Canadian blues guitarist known for his energetic and soulful performances. With a career spanning decades\, Branton has honed his skills\, becoming a respected figure in the Canadian blues scene. His music is a blend of traditional blues with a contemporary edge\, showcasing his mastery of the guitar and his deep understanding of the genre. Branton’s performances are captivating\, filled with raw emotion and technical prowess\, leaving audiences wanting more. He has released albums showcasing his talent and has been a mainstay at blues festivals and venues across Canada. Mike Branton is a true bluesman\, dedicated to his craft and passionate about sharing his love of the blues with the world. \n\n\n\nThe Weber Brothers from 7pm to 9pm \n\n\n\nTo many\, The Weber Brothers are the baddest band in the land. To many others\, their story sits like an ancient volume in an old bookstore\, dust covered\, tucked away behind hundreds of newer\, shinier books. Untouched. Waiting to be discovered. Regardless of what side you’re on\, there’s an undeniable truth. In the rough and tumble world of rock and roll\, The Weber Brothers have been around the block.  \n\n\n\nRyan and Sam Weber left their Baltimore\, MD home one night as teenagers\, with the aim of meeting their idol\, rockabilly legend Ronnie Hawkins\, and ten hours later showed up at his doorstep. “The Hawk”\, the elder statesman of rock who’s former protégés (Robbie Robertson\, Rick Danko\, Levon Helm\, Richard Manuel\, Garth Hudson) went on to reshape music history as “The Band”\, was duly impressed by the pair’s immense raw talent\, and promptly invited them to audition for his storied backing band\, The Hawks. Mere months later\, after surviving the intense musical apprenticeship of his fabled “Rock ‘n’ Roll Boot-camp\,” they were in: full-blooded Hawks. By the ages of 18 and 21 they had already performed alongside Kris Kristofferson\, Levon Helm\, Garth Hudson\, Jeff Healey and the Tragically Hip to name a few. \n\n\n\nOver the past 18 years they’ve recorded 16 independent albums and toured extensively throughout the U.S.\, Canada and Europe.
URL:https://stockeycentre.com/event/bands-on-the-bay-canada-day/
LOCATION:The Stockey Centre\, 2 Bay Street\, Parry Sound\, Ontario\, P2A 1S3\, Canada
CATEGORIES:Bands on the Bay,Canada Day Celebrations
ATTACH;FMTTYPE=image/jpeg:https://stockeycentre.com/wp-content/uploads/2025/05/Todd-Robyn.jpg
ORGANIZER;CN="The Stockey Centre":MAILTO:info@stockeycentre.com
END:VEVENT
END:VCALENDAR