BEGIN:VCALENDAR
VERSION:2.0
PRODID:-//The Stockey Centre - ECPv6.15.20//NONSGML v1.0//EN
CALSCALE:GREGORIAN
METHOD:PUBLISH
X-ORIGINAL-URL:https://stockeycentre.com
X-WR-CALDESC:Events for The Stockey Centre
REFRESH-INTERVAL;VALUE=DURATION:PT1H
X-Robots-Tag:noindex
X-PUBLISHED-TTL:PT1H
BEGIN:VTIMEZONE
TZID:America/Toronto
BEGIN:DAYLIGHT
TZOFFSETFROM:-0500
TZOFFSETTO:-0400
TZNAME:EDT
DTSTART:20230312T070000
END:DAYLIGHT
BEGIN:STANDARD
TZOFFSETFROM:-0400
TZOFFSETTO:-0500
TZNAME:EST
DTSTART:20231105T060000
END:STANDARD
BEGIN:DAYLIGHT
TZOFFSETFROM:-0500
TZOFFSETTO:-0400
TZNAME:EDT
DTSTART:20240310T070000
END:DAYLIGHT
BEGIN:STANDARD
TZOFFSETFROM:-0400
TZOFFSETTO:-0500
TZNAME:EST
DTSTART:20241103T060000
END:STANDARD
BEGIN:DAYLIGHT
TZOFFSETFROM:-0500
TZOFFSETTO:-0400
TZNAME:EDT
DTSTART:20250309T070000
END:DAYLIGHT
BEGIN:STANDARD
TZOFFSETFROM:-0400
TZOFFSETTO:-0500
TZNAME:EST
DTSTART:20251102T060000
END:STANDARD
BEGIN:DAYLIGHT
TZOFFSETFROM:-0500
TZOFFSETTO:-0400
TZNAME:EDT
DTSTART:20260308T070000
END:DAYLIGHT
BEGIN:STANDARD
TZOFFSETFROM:-0400
TZOFFSETTO:-0500
TZNAME:EST
DTSTART:20261101T060000
END:STANDARD
END:VTIMEZONE
BEGIN:VEVENT
DTSTART;TZID=America/Toronto:20250701T130000
DTEND;TZID=America/Toronto:20250701T210000
DTSTAMP:20260422T043933
CREATED:20250515T190000Z
LAST-MODIFIED:20250625T192034Z
UID:7905-1751374800-1751403600@stockeycentre.com
SUMMARY:Bands on the Bay: Canada Day
DESCRIPTION:Domino’s Pizza Parry Sound presents Bands on the Bay: Free Summer Concerts \n\n\n\nA free concert overlooking the bay? This is The Thing To Do on a summer Tuesday evening! Performances are held outside on our bayside deck\, or inside in case of rain from June to August. Domino’s Pizza Parry Sound will be on-site selling pizza\, accompanied by The Stockey Centre’s licensed cash bar. \n\n\n\nDomino’s Pizza will be available on this date starting at 5pm and 7pm. \n\n\n\nTodd & Robyn from 1pm to 3pm \n\n\n\nSimple songs for simple life: a concept the husband/wife duo from Bracebridge\, Ontario are becoming familiar with lately. After moving North in 2021\, the pair decided to dive into the vibrant Muskoka music scene! Calling the Bracebridge Hall their second home\, Todd & Robyn have had the rare opportunity to develop their live chops all while being supported to write original music. With soulful harmonies and lively tambourine\, this Folksy Americana duo will not disappoint. \n\n\n\nMike Branton Band from 4pm to 6pm \n\n\n\nMike Branton is a Canadian blues guitarist known for his energetic and soulful performances. With a career spanning decades\, Branton has honed his skills\, becoming a respected figure in the Canadian blues scene. His music is a blend of traditional blues with a contemporary edge\, showcasing his mastery of the guitar and his deep understanding of the genre. Branton’s performances are captivating\, filled with raw emotion and technical prowess\, leaving audiences wanting more. He has released albums showcasing his talent and has been a mainstay at blues festivals and venues across Canada. Mike Branton is a true bluesman\, dedicated to his craft and passionate about sharing his love of the blues with the world. \n\n\n\nThe Weber Brothers from 7pm to 9pm \n\n\n\nTo many\, The Weber Brothers are the baddest band in the land. To many others\, their story sits like an ancient volume in an old bookstore\, dust covered\, tucked away behind hundreds of newer\, shinier books. Untouched. Waiting to be discovered. Regardless of what side you’re on\, there’s an undeniable truth. In the rough and tumble world of rock and roll\, The Weber Brothers have been around the block.  \n\n\n\nRyan and Sam Weber left their Baltimore\, MD home one night as teenagers\, with the aim of meeting their idol\, rockabilly legend Ronnie Hawkins\, and ten hours later showed up at his doorstep. “The Hawk”\, the elder statesman of rock who’s former protégés (Robbie Robertson\, Rick Danko\, Levon Helm\, Richard Manuel\, Garth Hudson) went on to reshape music history as “The Band”\, was duly impressed by the pair’s immense raw talent\, and promptly invited them to audition for his storied backing band\, The Hawks. Mere months later\, after surviving the intense musical apprenticeship of his fabled “Rock ‘n’ Roll Boot-camp\,” they were in: full-blooded Hawks. By the ages of 18 and 21 they had already performed alongside Kris Kristofferson\, Levon Helm\, Garth Hudson\, Jeff Healey and the Tragically Hip to name a few. \n\n\n\nOver the past 18 years they’ve recorded 16 independent albums and toured extensively throughout the U.S.\, Canada and Europe.
URL:https://stockeycentre.com/event/bands-on-the-bay-canada-day/
LOCATION:The Stockey Centre\, 2 Bay Street\, Parry Sound\, Ontario\, P2A 1S3\, Canada
CATEGORIES:Bands on the Bay,Canada Day Celebrations
ATTACH;FMTTYPE=image/jpeg:https://stockeycentre.com/wp-content/uploads/2025/05/Todd-Robyn.jpg
ORGANIZER;CN="The Stockey Centre":MAILTO:info@stockeycentre.com
END:VEVENT
BEGIN:VEVENT
DTSTART;TZID=America/Toronto:20240701T110000
DTEND;TZID=America/Toronto:20240701T220000
DTSTAMP:20260422T043933
CREATED:20240514T152808Z
LAST-MODIFIED:20240622T145154Z
UID:6709-1719831600-1719871200@stockeycentre.com
SUMMARY:Canada Day Celebrations
DESCRIPTION:Start the Canada Day weekend off with three free concerts presented by The Charles W. Stockey Centre\, sponsored by Domino’s Pizza Parry Sound! A free concert overlooking the bay? This is The Thing To Do on a summer evening! Performances are held outside on our bayside deck\, or inside in case of rain from June to August (typically on Tuesday evenings\, however this is a part of our special Canada Day weekend series). Domino’s Pizza Parry Sound will be on-site selling pizza\, accompanied by The Stockey Centre’s licensed cash bar. Follow the links for more information on each concert. \n\n\n\nFriday June 28th at 7pm to 9pm: Chris Mapstone (click here) \n\n\n\nSaturday June 29th from 7pm to 9pm: Kick Ptarmigan (click here) \n\n\n\nSunday June 30th from 7pm to 9pm: Freez’Careeb (click here) \n\n\n\n\n\n\n\n\n\n\n\n\n\n\n\nJoin us on Monday\, July 01\, at the Charles W. Stockey Centre in Parry Sound for a Canada Day party! This celebration will host a beer garden\, music\, shows\, food & attractions for the whole family!  \n\n\n\nThis jam-packed day runs from 11am-10pm and wraps up with a spectacular firework display over the inner harbour of Georgian Bay.  \n\n\n\n \n\n\n\nSCHEDULE: \n\n\n\n11:00am-4:00pm: Family Fun Activities (please view the tab above for more details) \n\n\n\n12:00pm-12:30pm: Birds of Prey Show- Canadian Raptor Conservancy  \n\n\n\n1:30pm-2:00pm: Performance by Georgian Jumpers  \n\n\n\n2:30pm-3:00pm: Birds of Prey Show- Canadian Raptor Conservancy  \n\n\n\n3:30pm: Happy Birthday Canada by Mayor McGarvey  \n\n\n\n4:00pm-4:30pm: Birds of Prey Show- Canadian Raptor Conservancy  \n\n\n\n6:00pm-10:00pm: Beer Garden open \n\n\n\n6:00pm-9:00pm: The Michael Granka Band  \n\n\n\n10:00pm: Fireworks \n\n\n\n** Inflatable axe throwing and lawn games available all day!  \n\n\n\n \n\n\n\nFOOD VENDORS: \n\n\n\nJohnnys Frozen Treats: Funnel Cakes\, Tornado Potato\, Iced Cappuccino\, pop\, water \n\n\n\nDominos Pizza: Pizza and non-alcoholic Drinks \n\n\n\nParry Sound Scouts: Hot dogs and non-alcoholic Drinks \n\n\n\nDC’s Ice Cream: Ice Cream \n\n\n\n \n\n\n\n \n\n\n\nFamily Fun activities- for everyone! \n\n\n\n11am-4pm: \n\n\n\nInflatables- bouncy castles\, obstacle course\, and NEW THIS YEAR- Zorb Track! \n\n\n\nFREE Face painting provided by McNabb Furniture \n\n\n\nBalloon Twisting by Tickled Teals \n\n\n\nDaCosta Magic Entertainment- walk around magic \n\n\n\nSand Castle Contest sponsored by Adam’s BrothersAge categories include:Under 10 years old10-16 years old17 and up- Adult participation encouraged!Great prizes to be won! \n\n\n\nThe Great Parry Sound Canada Day ChallengeEggs Eh’\,Sacks Eh’\,Donut Eh’ \n\n\n\nMore information on the Town of Parry Sound’s website here.
URL:https://stockeycentre.com/event/canada-day-celebrations/
LOCATION:The Stockey Centre\, 2 Bay Street\, Parry Sound\, Ontario\, P2A 1S3\, Canada
CATEGORIES:Canada Day Celebrations
ATTACH;FMTTYPE=image/webp:https://stockeycentre.com/wp-content/uploads/2024/06/banner-1.webp
END:VEVENT
BEGIN:VEVENT
DTSTART;TZID=America/Toronto:20240630T190000
DTEND;TZID=America/Toronto:20240630T210000
DTSTAMP:20260422T043934
CREATED:20240608T161101Z
LAST-MODIFIED:20240608T161459Z
UID:6877-1719774000-1719781200@stockeycentre.com
SUMMARY:Bands on the Bay: Freez'Careeb
DESCRIPTION:Domino’s Pizza Parry Sound presents Bands on the Bay: Free Summer Concerts\n\n\n\n\n\n\n\nA free concert overlooking the bay? This is The Thing To Do on a summer evening! Performances are held outside on our bayside deck\, or inside in case of rain from June to August (typically on Tuesday evenings\, however this is a part of our special Canada Day weekend series). Domino’s Pizza Parry Sound will be on-site selling pizza\, accompanied by The Stockey Centre’s licensed cash bar. \n\n\n\nA high energy Caribbean dance band performing both original and cover songs featuring reggae\, soca\, calypso\, ska & more. They are based in Wasaga Beach\, ON\, Canada. 
URL:https://stockeycentre.com/event/bands-on-the-bay-freezcareeb/
LOCATION:The Stockey Centre\, 2 Bay Street\, Parry Sound\, Ontario\, P2A 1S3\, Canada
CATEGORIES:Bands on the Bay,Canada Day Celebrations
ATTACH;FMTTYPE=image/jpeg:https://stockeycentre.com/wp-content/uploads/2024/06/352685006_291777489867209_6004381970211520774_n.jpg
ORGANIZER;CN="The Stockey Centre":MAILTO:info@stockeycentre.com
END:VEVENT
BEGIN:VEVENT
DTSTART;TZID=America/Toronto:20240629T190000
DTEND;TZID=America/Toronto:20240629T210000
DTSTAMP:20260422T043934
CREATED:20240608T161018Z
LAST-MODIFIED:20240608T161418Z
UID:6876-1719687600-1719694800@stockeycentre.com
SUMMARY:Bands on the Bay: Kick Ptarmigan
DESCRIPTION:Domino’s Pizza Parry Sound presents Bands on the Bay: Free Summer Concerts\n\n\n\nA free concert overlooking the bay? This is The Thing To Do on a summer evening! Performances are held outside on our bayside deck\, or inside in case of rain from June to August (typically on Tuesday evenings\, however this is a part of our special Canada Day weekend series). Domino’s Pizza Parry Sound will be on-site selling pizza\, accompanied by The Stockey Centre’s licensed cash bar. \n\n\n\nKick Ptarmigan are back\, after a 5 years hiatus. Featuring their unique blend of folk/rock\, earning them comparisons to the Barenaked Ladies and the Violent Femmes\, they’ll be performing old favourites\, new songs and maybe a cover or two.
URL:https://stockeycentre.com/event/bands-on-the-bay-kick-ptarmigan/
LOCATION:The Stockey Centre\, 2 Bay Street\, Parry Sound\, Ontario\, P2A 1S3\, Canada
CATEGORIES:Bands on the Bay,Canada Day Celebrations
ATTACH;FMTTYPE=image/jpeg:https://stockeycentre.com/wp-content/uploads/2024/06/300430074_495141355947028_151318913173105023_n.jpg
ORGANIZER;CN="The Stockey Centre":MAILTO:info@stockeycentre.com
END:VEVENT
BEGIN:VEVENT
DTSTART;TZID=America/Toronto:20240628T190000
DTEND;TZID=America/Toronto:20240628T210000
DTSTAMP:20260422T043934
CREATED:20240608T160825Z
LAST-MODIFIED:20240608T161404Z
UID:6875-1719601200-1719608400@stockeycentre.com
SUMMARY:Bands on the Bay: Chris Mapstone
DESCRIPTION:Domino’s Pizza Parry Sound presents Bands on the Bay: Free Summer Concerts\n\n\n\nA free concert overlooking the bay? This is The Thing To Do on a summer evening! Performances are held outside on our bayside deck\, or inside in case of rain from June to August (typically on Tuesday evenings\, however this is a part of our special Canada Day weekend series). Domino’s Pizza Parry Sound will be on-site selling pizza\, accompanied by The Stockey Centre’s licensed cash bar. \n\n\n\nA song carrier\, a musical mystic\, a weaver of melody and rhythm. Chris Mapstone has spent a decade travelling in multi dimensional musical realms. He has shared his heart and music around the world at festivals\, events\, retreats\, teepee’s\, fires and ceremonies. His music continues to grow and flourish as he follows the music and the muse to where it is needed. Having shared stages and space with other visionary artists such as Murray Kyle\, Darpan\, and Lulu and Mischka. Chris’s musical path is one of healing and service; It is a deep dive into the mystery\, wrapped in a warm blanket of love and grace.
URL:https://stockeycentre.com/event/bands-on-the-bay-chris-mapstone-2/
LOCATION:The Stockey Centre\, 2 Bay Street\, Parry Sound\, Ontario\, P2A 1S3\, Canada
CATEGORIES:Bands on the Bay,Canada Day Celebrations
ATTACH;FMTTYPE=image/jpeg:https://stockeycentre.com/wp-content/uploads/2024/06/Chris-Mapstone.jpg
ORGANIZER;CN="The Stockey Centre":MAILTO:info@stockeycentre.com
END:VEVENT
END:VCALENDAR