BEGIN:VCALENDAR
VERSION:2.0
PRODID:-//The Stockey Centre - ECPv6.15.20//NONSGML v1.0//EN
CALSCALE:GREGORIAN
METHOD:PUBLISH
X-WR-CALNAME:The Stockey Centre
X-ORIGINAL-URL:https://stockeycentre.com
X-WR-CALDESC:Events for The Stockey Centre
REFRESH-INTERVAL;VALUE=DURATION:PT1H
X-Robots-Tag:noindex
X-PUBLISHED-TTL:PT1H
BEGIN:VTIMEZONE
TZID:America/Toronto
BEGIN:DAYLIGHT
TZOFFSETFROM:-0500
TZOFFSETTO:-0400
TZNAME:EDT
DTSTART:20210314T070000
END:DAYLIGHT
BEGIN:STANDARD
TZOFFSETFROM:-0400
TZOFFSETTO:-0500
TZNAME:EST
DTSTART:20211107T060000
END:STANDARD
BEGIN:DAYLIGHT
TZOFFSETFROM:-0500
TZOFFSETTO:-0400
TZNAME:EDT
DTSTART:20220313T070000
END:DAYLIGHT
BEGIN:STANDARD
TZOFFSETFROM:-0400
TZOFFSETTO:-0500
TZNAME:EST
DTSTART:20221106T060000
END:STANDARD
BEGIN:DAYLIGHT
TZOFFSETFROM:-0500
TZOFFSETTO:-0400
TZNAME:EDT
DTSTART:20230312T070000
END:DAYLIGHT
BEGIN:STANDARD
TZOFFSETFROM:-0400
TZOFFSETTO:-0500
TZNAME:EST
DTSTART:20231105T060000
END:STANDARD
END:VTIMEZONE
BEGIN:VEVENT
DTSTART;TZID=America/Toronto:20220706T193000
DTEND;TZID=America/Toronto:20220706T193000
DTSTAMP:20260425T125733
CREATED:20220705T160209Z
LAST-MODIFIED:20220705T160410Z
UID:4098-1657135800-1657135800@stockeycentre.com
SUMMARY:An Evening with Mary Walsh
DESCRIPTION:Canadian cultural icon\, comedienne and social activist MARY WALSH will perform some of her best comedic bits and most popular characters from Dancing With Rage\, CODCO and This Hour Has 22 Minutes\, along with up-to-the-minute local political satire. \n\n\n\nHailing from St. John’s\, NL\, Mary Walsh was an original member of the infamous CODCO sketch comedy series\, which ran on CBC Television from 1987 to 1992. In 1992\, she began to work with Rick Mercer\, creating and starring in the highly acclaimed series This Hour Has 22 Minutes\, where Mary’s Warrior Princess character Marg Delahunty became famous for ambushing politicians and submitting them to satirical interviews. In 2011 she reprised the role of Marg Delahunty\, conducting the now infamous ambush interview of Toronto Mayor Rob Ford at his home. Mary Walsh is the recipient of 25 Gemini awards\, the Order of Canada award and in 2012 she received a Governor General’s Performing Arts Awards for Lifetime Artistic Achievement. \n\n\n\nTickets are: \n\n\n\nOrchestra – $65.00Mezzanine – $60.00Balcony – $55.00\n\n\n\nFor full details of the COVID-19 health protocols that will be in place at The Stockey Centre for this event\, please visit our Safety Guidelines page. Please note this page is regularly updated to reflect current Ontario Public Health Measures. \n\n\n\nBUY TICKETS ONLINE HERE
URL:https://stockeycentre.com/event/an-evening-with-mary-walsh/
LOCATION:The Stockey Centre\, 2 Bay Street\, Parry Sound\, Ontario\, P2A 1S3\, Canada
CATEGORIES:Comedian
ATTACH;FMTTYPE=image/jpeg:https://stockeycentre.com/wp-content/uploads/2022/03/Mary-Walsh-Photo-1-Copy-scaled.jpg
END:VEVENT
END:VCALENDAR