BEGIN:VCALENDAR
VERSION:2.0
PRODID:-//The Stockey Centre - ECPv6.15.20//NONSGML v1.0//EN
CALSCALE:GREGORIAN
METHOD:PUBLISH
X-WR-CALNAME:The Stockey Centre
X-ORIGINAL-URL:https://stockeycentre.com
X-WR-CALDESC:Events for The Stockey Centre
REFRESH-INTERVAL;VALUE=DURATION:PT1H
X-Robots-Tag:noindex
X-PUBLISHED-TTL:PT1H
BEGIN:VTIMEZONE
TZID:America/Toronto
BEGIN:DAYLIGHT
TZOFFSETFROM:-0500
TZOFFSETTO:-0400
TZNAME:EDT
DTSTART:20210314T070000
END:DAYLIGHT
BEGIN:STANDARD
TZOFFSETFROM:-0400
TZOFFSETTO:-0500
TZNAME:EST
DTSTART:20211107T060000
END:STANDARD
BEGIN:DAYLIGHT
TZOFFSETFROM:-0500
TZOFFSETTO:-0400
TZNAME:EDT
DTSTART:20220313T070000
END:DAYLIGHT
BEGIN:STANDARD
TZOFFSETFROM:-0400
TZOFFSETTO:-0500
TZNAME:EST
DTSTART:20221106T060000
END:STANDARD
BEGIN:DAYLIGHT
TZOFFSETFROM:-0500
TZOFFSETTO:-0400
TZNAME:EDT
DTSTART:20230312T070000
END:DAYLIGHT
BEGIN:STANDARD
TZOFFSETFROM:-0400
TZOFFSETTO:-0500
TZNAME:EST
DTSTART:20231105T060000
END:STANDARD
END:VTIMEZONE
BEGIN:VEVENT
DTSTART;TZID=America/Toronto:20220915T190000
DTEND;TZID=America/Toronto:20220915T220000
DTSTAMP:20260425T100044
CREATED:20220915T141208Z
LAST-MODIFIED:20220915T141208Z
UID:4840-1663268400-1663279200@stockeycentre.com
SUMMARY:Cedric Newman & Marshall Dane present Comedy Meets Music
DESCRIPTION:Join us at The Stockey Centre for a fun night of comedy and music!  \n\n\n\nSchedule of Events: \n\n\n\nDoors Open: 6:30pmCedric Newman Performs: 7pmIntermissionMarshall Dane Performs: 8:15pm\n\n\n\nAge 16+ for the Comedy. All Ages Can Meet for the Music! \n\n\n\nFloor Seats (Pub-Style Seating): $47.95 + HST. For pub-style seating\, tables of 8 can be reserved for your group of friends when all the tickets are purchased at once! \n\n\n\nMezzanine/Balcony Seats (Theatre-Style Seating): $42.95 + HST. \n\n\n\nBUY TICKETS ONLINE HERE \n\n\n\nTickets can also be purchased during our business hours by calling our Box Office at 705-746-4466 extension 205 or visiting us at 2 Bay Street\, Parry Sound.
URL:https://stockeycentre.com/event/comedy-meets-music/
LOCATION:The Stockey Centre\, 2 Bay Street\, Parry Sound\, Ontario\, P2A 1S3\, Canada
CATEGORIES:Comedian,Concert
ATTACH;FMTTYPE=image/png:https://stockeycentre.com/wp-content/uploads/2022/08/png_20220823_134619_0000-FINAL.png
END:VEVENT
END:VCALENDAR