BEGIN:VCALENDAR
VERSION:2.0
PRODID:-//The Stockey Centre - ECPv6.15.20//NONSGML v1.0//EN
CALSCALE:GREGORIAN
METHOD:PUBLISH
X-WR-CALNAME:The Stockey Centre
X-ORIGINAL-URL:https://stockeycentre.com
X-WR-CALDESC:Events for The Stockey Centre
REFRESH-INTERVAL;VALUE=DURATION:PT1H
X-Robots-Tag:noindex
X-PUBLISHED-TTL:PT1H
BEGIN:VTIMEZONE
TZID:America/Toronto
BEGIN:DAYLIGHT
TZOFFSETFROM:-0500
TZOFFSETTO:-0400
TZNAME:EDT
DTSTART:20220313T070000
END:DAYLIGHT
BEGIN:STANDARD
TZOFFSETFROM:-0400
TZOFFSETTO:-0500
TZNAME:EST
DTSTART:20221106T060000
END:STANDARD
BEGIN:DAYLIGHT
TZOFFSETFROM:-0500
TZOFFSETTO:-0400
TZNAME:EDT
DTSTART:20230312T070000
END:DAYLIGHT
BEGIN:STANDARD
TZOFFSETFROM:-0400
TZOFFSETTO:-0500
TZNAME:EST
DTSTART:20231105T060000
END:STANDARD
BEGIN:DAYLIGHT
TZOFFSETFROM:-0500
TZOFFSETTO:-0400
TZNAME:EDT
DTSTART:20240310T070000
END:DAYLIGHT
BEGIN:STANDARD
TZOFFSETFROM:-0400
TZOFFSETTO:-0500
TZNAME:EST
DTSTART:20241103T060000
END:STANDARD
END:VTIMEZONE
BEGIN:VEVENT
DTSTART;TZID=America/Toronto:20230602T193000
DTEND;TZID=America/Toronto:20230602T193000
DTSTAMP:20260423T002327
CREATED:20230207T170000Z
LAST-MODIFIED:20230301T194021Z
UID:5217-1685734200-1685734200@stockeycentre.com
SUMMARY:The Comic Strippers (19+ Only)
DESCRIPTION:A Male Stripper Parody and Improv Comedy Show \n\n\n\nCanadian Comedy Award Winner – Best Live Production \n\n\n\nWARNING: No extreme nudity\, just extreme hilarity. A show for all genders. Please note this event is 19+ only. \n\n\n\nThe Comic Strippers are a fictitious male stripper troupe\, played by a cast of some of Canada’s best improvisational comedians. These guys try to be sexy… it just comes out funny. Constantly grooving and gyrating\, in between scenes they banter with the crowd and perform their sexylarious twist on improv sketches. They sing\, they “dance;” these guys are oiled up and ready to make you laugh. Women often say the most attractive thing about a man is his sense of humour – so ladies\, these stripped-down comedians are sure to make your head explode. And not to worry\, gentlemen\, this is definitely a parody of male strippers. “A show suitable for both men and women… an entertaining ride where anything goes.” – Rip It Up Magazine \n\n\n\nSemi-undressed and completely unscripted\, The Comic Strippers take off their shirts and take on your suggestions to create a whole new genre of comedy. \n\n\n\n\n\n\n\nFresh from sold out shows in Vegas\, Australia and across Canada and Canadian Comedy Award Winners for Best Live Production\, The Comic Strippers are: \n\n\n\nRoman Danylo -For five seasons\, Roman starred on CTV’s Comedy Inc. As a stand-up comedian\, he has appeared on Just For Laughs and The Debaters. \n\n\n\nChris Casillan – An improv comedy vet with The Vancouver Theatre Sports League\, Chris is also a Canadian Comedy Award winner with his sketch comedy group Canadian Content. \n\n\n\nMichael Teigen – As well as being a professional improviser and theatre actor\, Michael has been in over 30 television shows and over 40 feature films. \n\n\n\nPearce Visser – Pearce is a 25 year veteran of improv\, performing and teaching across Canada and the globe\, is in the Cirque du Soleil talent roster\, and can be seen occasionally on film and tv. \n\n\n\n\n\n\n\n★★★★★ Extremely funny comedy show that showcases their mercurial improvisational talents.” – UK Fringe Review \n\n\n\n★★★★ A high- energy evening that never loses pace.” – Adelaide Now \n\n\n\n“One of the most hilarious shows I’ve ever seen.” – Vancouver Sun \n\n\n\nTickets are $57.50 each. For groups of ten or more\, tickets are $52.50 each (group tickets must be purchased all at the same time and are only available over the phone at 705-746-4466 extension 405 or in-person at 2 Bay Street\, Parry Sound).  \n\n\n\nBUY TICKETS ONLINE HERE \n\n\n\nTickets can also be purchased during our business hours by calling our Box Office at 705-746-4466 extension 405 or visiting us at 2 Bay Street\, Parry Sound.
URL:https://stockeycentre.com/event/the-comic-strippers/
LOCATION:The Stockey Centre\, 2 Bay Street\, Parry Sound\, Ontario\, P2A 1S3\, Canada
CATEGORIES:Comedian
ATTACH;FMTTYPE=image/jpeg:https://stockeycentre.com/wp-content/uploads/2023/01/PMRC-new-CS-scaled.jpg
END:VEVENT
BEGIN:VEVENT
DTSTART;TZID=America/Toronto:20230617T190000
DTEND;TZID=America/Toronto:20230617T190000
DTSTAMP:20260423T002327
CREATED:20230330T150000Z
LAST-MODIFIED:20230330T150132Z
UID:5402-1687028400-1687028400@stockeycentre.com
SUMMARY:The Big Sound Comedy Festival Gala
DESCRIPTION:Host Ali Hassan of CBC Radio’s Laugh Out Loud presents the final Gala Event of the Big Sound Comedy Festival. Trestle Brewing Company and Icebreakers Comedy partner on a great night of comedy with CBC Radio’s Laugh Out Loud onsite for a remote recording session. Join us for a night of good clean fun and laughs on the shores of Georgian Bay with a lineup of seven incredible Canadian comedians. \n\n\n\nCocktail hour begins at 7pm and the show begins at 8pm. \n\n\n\nFor more information visit: bigsoundcomedyfestival.com \n\n\n\nLineup:  \n\n\n\nHosted by Ali Hassan featuring Todd Graham\, Rebecca Reeds\, Moe Ismail\, Courtney Gilmour\, Kyle Brownrigg & Mike Rita. \n\n\n\n\n\n\n\n\nTickets are $49.00 each. \n\n\n\nBUY TICKETS ONLINE HERE \n\n\n\nTickets can also be purchased during our business hours by calling our Box Office at 705-746-4466 extension 405 or visiting us at 2 Bay Street\, Parry Sound.
URL:https://stockeycentre.com/event/the-big-sound-comedy-festival-gala/
LOCATION:The Stockey Centre\, 2 Bay Street\, Parry Sound\, Ontario\, P2A 1S3\, Canada
CATEGORIES:Comedian
ATTACH;FMTTYPE=image/jpeg:https://stockeycentre.com/wp-content/uploads/2023/03/Big-Sound-Comedy-Festival-LOGO.jpg
END:VEVENT
END:VCALENDAR