BEGIN:VCALENDAR
VERSION:2.0
PRODID:-//The Stockey Centre - ECPv6.15.20//NONSGML v1.0//EN
CALSCALE:GREGORIAN
METHOD:PUBLISH
X-ORIGINAL-URL:https://stockeycentre.com
X-WR-CALDESC:Events for The Stockey Centre
REFRESH-INTERVAL;VALUE=DURATION:PT1H
X-Robots-Tag:noindex
X-PUBLISHED-TTL:PT1H
BEGIN:VTIMEZONE
TZID:America/Toronto
BEGIN:DAYLIGHT
TZOFFSETFROM:-0500
TZOFFSETTO:-0400
TZNAME:EDT
DTSTART:20220313T070000
END:DAYLIGHT
BEGIN:STANDARD
TZOFFSETFROM:-0400
TZOFFSETTO:-0500
TZNAME:EST
DTSTART:20221106T060000
END:STANDARD
BEGIN:DAYLIGHT
TZOFFSETFROM:-0500
TZOFFSETTO:-0400
TZNAME:EDT
DTSTART:20230312T070000
END:DAYLIGHT
BEGIN:STANDARD
TZOFFSETFROM:-0400
TZOFFSETTO:-0500
TZNAME:EST
DTSTART:20231105T060000
END:STANDARD
BEGIN:DAYLIGHT
TZOFFSETFROM:-0500
TZOFFSETTO:-0400
TZNAME:EDT
DTSTART:20240310T070000
END:DAYLIGHT
BEGIN:STANDARD
TZOFFSETFROM:-0400
TZOFFSETTO:-0500
TZNAME:EST
DTSTART:20241103T060000
END:STANDARD
END:VTIMEZONE
BEGIN:VEVENT
DTSTART;TZID=America/Toronto:20231028T200000
DTEND;TZID=America/Toronto:20231028T200000
DTSTAMP:20260422T191222
CREATED:20230905T140000Z
LAST-MODIFIED:20231025T153615Z
UID:5987-1698523200-1698523200@stockeycentre.com
SUMMARY:Postponed: Shaun Majumder "The Love Tour"
DESCRIPTION:Please note\, this event is being postponed to a new date. Our Box Office is contacting ticket holders. \n\n\n\nGemini Award winner delivers slice-of-life comedy. \n\n\n\nOne of Canada’s beloved comedians\, Shaun Majumder has kept fans laughing for over 20 years in several shows and movies including Cedric the Entertainer Presents\, Unhitched\, Hatching\, Matching and Dispatching\, and This Hour Has 22 Minutes\, for which he won a Gemini Award. With sharp wit\, impeccable timing\, and an infectious energy\, Majumder delivers a show not to be missed! \n\n\n\n“Love is no joke\, but comedian Shaun Majumder finds a way to make it funny.” – Niagara Falls Review \n\n\n\nshaunmajumder.com \n\n\n\nTickets are $72.45 each.
URL:https://stockeycentre.com/event/shaun-majumder-the-love-tour/
LOCATION:The Stockey Centre\, 2 Bay Street\, Parry Sound\, Ontario\, P2A 1S3\, Canada
CATEGORIES:Comedian
ATTACH;FMTTYPE=image/jpeg:https://stockeycentre.com/wp-content/uploads/2023/09/@RILEYSMITHPHOTO-3968-scaled-1.jpg
END:VEVENT
END:VCALENDAR