BEGIN:VCALENDAR
VERSION:2.0
PRODID:-//The Stockey Centre - ECPv6.15.20//NONSGML v1.0//EN
CALSCALE:GREGORIAN
METHOD:PUBLISH
X-WR-CALNAME:The Stockey Centre
X-ORIGINAL-URL:https://stockeycentre.com
X-WR-CALDESC:Events for The Stockey Centre
REFRESH-INTERVAL;VALUE=DURATION:PT1H
X-Robots-Tag:noindex
X-PUBLISHED-TTL:PT1H
BEGIN:VTIMEZONE
TZID:America/Toronto
BEGIN:DAYLIGHT
TZOFFSETFROM:-0500
TZOFFSETTO:-0400
TZNAME:EDT
DTSTART:20230312T070000
END:DAYLIGHT
BEGIN:STANDARD
TZOFFSETFROM:-0400
TZOFFSETTO:-0500
TZNAME:EST
DTSTART:20231105T060000
END:STANDARD
BEGIN:DAYLIGHT
TZOFFSETFROM:-0500
TZOFFSETTO:-0400
TZNAME:EDT
DTSTART:20240310T070000
END:DAYLIGHT
BEGIN:STANDARD
TZOFFSETFROM:-0400
TZOFFSETTO:-0500
TZNAME:EST
DTSTART:20241103T060000
END:STANDARD
BEGIN:DAYLIGHT
TZOFFSETFROM:-0500
TZOFFSETTO:-0400
TZNAME:EDT
DTSTART:20250309T070000
END:DAYLIGHT
BEGIN:STANDARD
TZOFFSETFROM:-0400
TZOFFSETTO:-0500
TZNAME:EST
DTSTART:20251102T060000
END:STANDARD
END:VTIMEZONE
BEGIN:VEVENT
DTSTART;TZID=America/Toronto:20240414T200000
DTEND;TZID=America/Toronto:20240414T200000
DTSTAMP:20260422T100545
CREATED:20240112T190755Z
LAST-MODIFIED:20240112T190947Z
UID:6401-1713124800-1713124800@stockeycentre.com
SUMMARY:Shaun Majumder "Hardly Dead"
DESCRIPTION:Raised in rural Newfoundland Canada\, Shaun Majumder has been a performer his entire life. After leaving his hometown of Burlington (Pop 350) and moving to Mississauga Ontario at the age of thirteen\, Shaun acted in his first stage play in the 8th Grade (Grade 8 in Canada). Immediately he was hooked. He continued theatre throughout high school\, winning several awards at festivals for his many performances. But according to the adults around him\, there was no future in this acting thing. So\, Shaun followed the guidance of his teachers and did what most did; went to university with the hopes of a career finding him. After one year of partying and taking general arts classes\, Shaun quickly realized his true passion was acting\, so he abandoned his safety net and went for it. \n\n\n\nHe found early success as a Standup Comedian and host\, landing his first gigs with YTV (Canada’s Nickelodeon) as a host/PJ for five years\, along with CBC’s Just For Laughs comedy series. He continued to book small roles in Film and TV and in 2003 he Joined the cast of CBC’s This Hour Has 22 minutes where he spent seventeen seasons. \n\n\n\nFor the past twenty plus years\, Shaun has found success on both sides of the border. A few noteworthy performances include his work as Detective Vik Mahajan in the ABC’s critically acclaimed crime drama\, Detroit 1-8-7. His role as Andrew Palmer on NBC’s The Firm starring alongside Josh Lucas and Juliette Lewis. As Hassan Numair on FOX’s 24. His comedy roles include starring in the Sketch Comedy Series Cedric The Entertainer Presents\, The Farrelly Brothers Unhitched\, ABC’s Married Not Dead\, NBC’s Nevermind Nirvana\, and CBC’s Hatching Matching and Dispatching. He currently stars alongside Harold Parineau\, Catalina Sandino Moreno and Eion Bailey\, in the EPIX Sci Fi/Horror series FROM playing Father Khatri. Shaun resides in Los Angeles with his wife Shelby Fenner\, his two daughters Mattis Maple and Eslyn Willow and their two Boston terriers Jazzy and Freddy. \n\n\n\nTickets are $72.45 each. \n\n\n\nBUY TICKETS ONLINE HERE \n\n\n\nTickets can also be purchased during our business hours by calling our Box Office at 705-746-4466 extension 405 or visiting us at 2 Bay Street\, Parry Sound.
URL:https://stockeycentre.com/event/shaun-majumder-24/
LOCATION:The Stockey Centre\, 2 Bay Street\, Parry Sound\, Ontario\, P2A 1S3\, Canada
CATEGORIES:Comedian
ATTACH;FMTTYPE=image/jpeg:https://stockeycentre.com/wp-content/uploads/2024/01/Shaun-Majumder.jpg
END:VEVENT
END:VCALENDAR