BEGIN:VCALENDAR
VERSION:2.0
PRODID:-//The Stockey Centre - ECPv6.15.20//NONSGML v1.0//EN
CALSCALE:GREGORIAN
METHOD:PUBLISH
X-ORIGINAL-URL:https://stockeycentre.com
X-WR-CALDESC:Events for The Stockey Centre
REFRESH-INTERVAL;VALUE=DURATION:PT1H
X-Robots-Tag:noindex
X-PUBLISHED-TTL:PT1H
BEGIN:VTIMEZONE
TZID:America/Toronto
BEGIN:DAYLIGHT
TZOFFSETFROM:-0500
TZOFFSETTO:-0400
TZNAME:EDT
DTSTART:20230312T070000
END:DAYLIGHT
BEGIN:STANDARD
TZOFFSETFROM:-0400
TZOFFSETTO:-0500
TZNAME:EST
DTSTART:20231105T060000
END:STANDARD
BEGIN:DAYLIGHT
TZOFFSETFROM:-0500
TZOFFSETTO:-0400
TZNAME:EDT
DTSTART:20240310T070000
END:DAYLIGHT
BEGIN:STANDARD
TZOFFSETFROM:-0400
TZOFFSETTO:-0500
TZNAME:EST
DTSTART:20241103T060000
END:STANDARD
BEGIN:DAYLIGHT
TZOFFSETFROM:-0500
TZOFFSETTO:-0400
TZNAME:EDT
DTSTART:20250309T070000
END:DAYLIGHT
BEGIN:STANDARD
TZOFFSETFROM:-0400
TZOFFSETTO:-0500
TZNAME:EST
DTSTART:20251102T060000
END:STANDARD
END:VTIMEZONE
BEGIN:VEVENT
DTSTART;TZID=America/Toronto:20240517T193000
DTEND;TZID=America/Toronto:20240517T193000
DTSTAMP:20260422T083837
CREATED:20231025T150000Z
LAST-MODIFIED:20231021T163438Z
UID:6134-1715974200-1715974200@stockeycentre.com
SUMMARY:Derek Seguin: Nap. Laugh. Repeat!
DESCRIPTION:Comedy super star Derek Seguin is touring Canada with his hysterical new show to celebrate his 20th year as a professional joke teller. Derek’s Juno nominated stand-up is always a pure reflection of his dysfunctional life\, but naturally seen through his “slightly” twisted looking glass. This show will feature more of his hilarious stories on the challenges of relationships with his girlfriend\, his three nearly grown-up children and every-day life in a mixed-up world that he finds peculiar at best. With barely a moment to catch your breath between laughs there is never a dull moment in Derek’s shows and for 20 years audiences have loved him for it\, but he loves you more! \n\n\n\nOne of CBC’s The Debaters’ fan-favorites; people are often surprised at the raw nature of Derek’s stand-up… and how short he is. If you haven’t seen him live before; come out and discover the many hilarious surprises that his in-person shows are renowned for. No subject is off limits and no rabbit hole too deep. \n\n\n\n*Please be advised this performance contains frequent use of strong language and is intended for mature audiences. \n\n\n\nTickets are $49.50 each. \n\n\n\nBUY TICKETS ONLINE HERE \n\n\n\nTickets can also be purchased during our business hours by calling our Box Office at 705-746-4466 extension 405 or visiting us at 2 Bay Street\, Parry Sound.
URL:https://stockeycentre.com/event/derek-seguin/
LOCATION:The Stockey Centre\, 2 Bay Street\, Parry Sound\, Ontario\, P2A 1S3\, Canada
CATEGORIES:Comedian
ATTACH;FMTTYPE=image/png:https://stockeycentre.com/wp-content/uploads/2023/10/1920x1005-Derek-Parry-Sound-May-17-min.png
END:VEVENT
END:VCALENDAR