BEGIN:VCALENDAR
VERSION:2.0
PRODID:-//The Stockey Centre - ECPv6.15.20//NONSGML v1.0//EN
CALSCALE:GREGORIAN
METHOD:PUBLISH
X-WR-CALNAME:The Stockey Centre
X-ORIGINAL-URL:https://stockeycentre.com
X-WR-CALDESC:Events for The Stockey Centre
REFRESH-INTERVAL;VALUE=DURATION:PT1H
X-Robots-Tag:noindex
X-PUBLISHED-TTL:PT1H
BEGIN:VTIMEZONE
TZID:America/Toronto
BEGIN:DAYLIGHT
TZOFFSETFROM:-0500
TZOFFSETTO:-0400
TZNAME:EDT
DTSTART:20220313T070000
END:DAYLIGHT
BEGIN:STANDARD
TZOFFSETFROM:-0400
TZOFFSETTO:-0500
TZNAME:EST
DTSTART:20221106T060000
END:STANDARD
BEGIN:DAYLIGHT
TZOFFSETFROM:-0500
TZOFFSETTO:-0400
TZNAME:EDT
DTSTART:20230312T070000
END:DAYLIGHT
BEGIN:STANDARD
TZOFFSETFROM:-0400
TZOFFSETTO:-0500
TZNAME:EST
DTSTART:20231105T060000
END:STANDARD
BEGIN:DAYLIGHT
TZOFFSETFROM:-0500
TZOFFSETTO:-0400
TZNAME:EDT
DTSTART:20240310T070000
END:DAYLIGHT
BEGIN:STANDARD
TZOFFSETFROM:-0400
TZOFFSETTO:-0500
TZNAME:EST
DTSTART:20241103T060000
END:STANDARD
END:VTIMEZONE
BEGIN:VEVENT
DTSTART;TZID=America/Toronto:20231201T190000
DTEND;TZID=America/Toronto:20231201T190000
DTSTAMP:20260422T043648
CREATED:20230527T150000Z
LAST-MODIFIED:20230526T164131Z
UID:5746-1701457200-1701457200@stockeycentre.com
SUMMARY:The Barra MacNeils: An East Coast Christmas
DESCRIPTION:The Barra MacNeils – An East Coast Christmas is a musical potpourri of traditional MacNeil family favourites gleaned from Christmas ceilidhs\, midnight masses and the general festive frolic that accompanies each holiday season.  With their captivating vocals\, distinctive harmonies and extraordinary musicianship\, The Barra MacNeils inject new life and energy into the sights and sounds of Christmas…one moment a rousing chorus\, then a hauntingly beautiful Gaelic ballad\, the next a flurry of foot-stomping instrumentals\, which of course pulls one then another into a step-dancing revelry. For a delightful seasonal celebration\, don’t miss An East Coast Christmas with the Barra MacNeils! \n\n\n\nTickets go on sale on Saturday May 27th to Stockey Members. Tickets go on sale to the general public on Saturday June 3rd at 11am.  \n\n\n\nTo become a Stockey Member\, you can visit us on our Membership page for more information and to purchase online\, give us a call at 705-746-4466 extension 405\, or visit us at 2 Bay Street\, Parry Sound. \n\n\n\nBUY TICKETS ONLINE HERE \n\n\n\nTickets can also be purchased during our business hours by calling our Box Office at 705-746-4466 extension 405 or visiting us at 2 Bay Street\, Parry Sound.
URL:https://stockeycentre.com/event/the-barra-macneils-an-east-coast-christmas/
LOCATION:The Stockey Centre\, 2 Bay Street\, Parry Sound\, Ontario\, P2A 1S3\, Canada
CATEGORIES:Concert,Holiday Concert
ATTACH;FMTTYPE=image/jpeg:https://stockeycentre.com/wp-content/uploads/2019/07/BarraMacNeils_xmas.jpg
ORGANIZER;CN="The Stockey Centre":MAILTO:info@stockeycentre.com
END:VEVENT
BEGIN:VEVENT
DTSTART;TZID=America/Toronto:20231203T140000
DTEND;TZID=America/Toronto:20231203T140000
DTSTAMP:20260422T043648
CREATED:20231101T142235Z
LAST-MODIFIED:20231101T142907Z
UID:6182-1701612000-1701612000@stockeycentre.com
SUMMARY:The Orillia Silver Band presents Sleigh Bells & Brass
DESCRIPTION:Tickets go on sale on Wednesday November 1st at 11am to the public. This event has general admission seating. \n\n\n\nBUY TICKETS ONLINE HERE \n\n\n\nTickets can also be purchased during our business hours by calling our Box Office at 705-746-4466 extension 405 or visiting us at 2 Bay Street\, Parry Sound.
URL:https://stockeycentre.com/event/sleigh-bells-brass/
LOCATION:The Stockey Centre\, 2 Bay Street\, Parry Sound\, Ontario\, P2A 1S3\, Canada
CATEGORIES:Concert,Holiday Concert
ATTACH;FMTTYPE=image/png:https://stockeycentre.com/wp-content/uploads/2023/11/Sleigh-Bells-and-Brass-2023-10x12-1.png
END:VEVENT
BEGIN:VEVENT
DTSTART;TZID=America/Toronto:20231213T190000
DTEND;TZID=America/Toronto:20231213T190000
DTSTAMP:20260422T043648
CREATED:20230527T150000Z
LAST-MODIFIED:20230526T165835Z
UID:5747-1702494000-1702494000@stockeycentre.com
SUMMARY:Boreal's Songs for the Snowy Season
DESCRIPTION:Boreal’s ‘Songs for the Snowy Season’ is the perfect antidote to a cold winter’s night. Award-winning solo musical artists Katherine Wheatley\, Tannis Slimmon\, and Angie Nussey come together as Boreal each December to shine their collective light on Canada’s darkest month with their uplifting show\, “Songs for the Snowy Season”. This year’s concert features Boreal’s own wintry songs and some of the trio’s favourite standards. Their lyrics conjure up sights and sounds that bring chills of recognition to the listener: squirrels’ footprints in the snow\, winter’s hush\, mittens\, snowball fights\, blizzards and shovels. But it’s the beautiful vocal arrangements and accompaniment\, the spontaneous stories\, humour\, and the inspired musical moments that make this such a special experience. You will laugh\, cry\, sing and ultimately walk out into the winter’s night with the comfort and joy of knowing we’re all in this frosty and glorious season together. \n\n\n\n\n“With stunningly beautiful voices\, Boreal captures the festive spirit like no other act I’ve ever presented. With exquisitely intricate harmonies and heartwarming stories\, Boreal connects with their audience in a profound way. Our show was a sellout and we immediately booked them for next season! Highly recommended!” \nGeorge Scott (Presenter\, Alliston and Beeton\, ON)\n\n\n\nTickets go on sale on Saturday May 27th to Stockey Members. Tickets go on sale to the general public on Saturday June 3rd at 11am.  \n\n\n\nTo become a Stockey Member\, you can visit us on our Membership page for more information and to purchase online\, give us a call at 705-746-4466 extension 405\, or visit us at 2 Bay Street\, Parry Sound. \n\n\n\nBUY TICKETS ONLINE HERE \n\n\n\nTickets can also be purchased during our business hours by calling our Box Office at 705-746-4466 extension 405 or visiting us at 2 Bay Street\, Parry Sound.
URL:https://stockeycentre.com/event/boreals-songs-for-the-snowy-season/
LOCATION:The Stockey Centre\, 2 Bay Street\, Parry Sound\, Ontario\, P2A 1S3\, Canada
CATEGORIES:Concert,Holiday Concert
ATTACH;FMTTYPE=image/jpeg:https://stockeycentre.com/wp-content/uploads/2023/05/Boreal-Skates-Promo-Photo-by-Nicky-Campbell-scaled.jpg
ORGANIZER;CN="The Stockey Centre":MAILTO:info@stockeycentre.com
END:VEVENT
BEGIN:VEVENT
DTSTART;TZID=America/Toronto:20231221T193000
DTEND;TZID=America/Toronto:20231221T193000
DTSTAMP:20260422T043648
CREATED:20231021T180226Z
LAST-MODIFIED:20231024T183004Z
UID:6114-1703187000-1703187000@stockeycentre.com
SUMMARY:The Stockey Centre presents Whispering River Music’s performance of HANDEL’S Messiah
DESCRIPTION:Join Whispering River Music in singing the Hallelujah Chorus on December 21st at 7:30pm as Whispering River Music performs the Christmas story from the longest running musical of all time: Handel’s Messiah with Selected Arias & Choruses. Featuring local and professional musicians and renowned Canadian soloists\, this joyous music will bring the spirit of the season to you and your family. \n\n\n\nArtistic & Orchestra Director: Brenda Margaret Muller \n\n\n\nConductor & Choral Director: Philip Morehead \n\n\n\nAmy Dodington\, Soprano \n\n\n\nCeline Cascanette\, Mezzo \n\n\n\nFabián Arciniegas\, Tenor \n\n\n\nJohnathon Kirby\, Bass \n\n\n\nTickets are $42.95 + HST each. \n\n\n\nBUY TICKETS ONLINE HERE \n\n\n\nTickets can also be purchased during our business hours by calling our Box Office at 705-746-4466 extension 405 or visiting us at 2 Bay Street\, Parry Sound.
URL:https://stockeycentre.com/event/whispering-river-music/
LOCATION:The Stockey Centre\, 2 Bay Street\, Parry Sound\, Ontario\, P2A 1S3\, Canada
CATEGORIES:Concert
ATTACH;FMTTYPE=image/png:https://stockeycentre.com/wp-content/uploads/2023/10/Messiah-2023-1.png
ORGANIZER;CN="The Stockey Centre":MAILTO:info@stockeycentre.com
END:VEVENT
END:VCALENDAR