BEGIN:VCALENDAR
VERSION:2.0
PRODID:-//The Stockey Centre - ECPv6.15.20//NONSGML v1.0//EN
CALSCALE:GREGORIAN
METHOD:PUBLISH
X-ORIGINAL-URL:https://stockeycentre.com
X-WR-CALDESC:Events for The Stockey Centre
REFRESH-INTERVAL;VALUE=DURATION:PT1H
X-Robots-Tag:noindex
X-PUBLISHED-TTL:PT1H
BEGIN:VTIMEZONE
TZID:America/Toronto
BEGIN:DAYLIGHT
TZOFFSETFROM:-0500
TZOFFSETTO:-0400
TZNAME:EDT
DTSTART:20230312T070000
END:DAYLIGHT
BEGIN:STANDARD
TZOFFSETFROM:-0400
TZOFFSETTO:-0500
TZNAME:EST
DTSTART:20231105T060000
END:STANDARD
BEGIN:DAYLIGHT
TZOFFSETFROM:-0500
TZOFFSETTO:-0400
TZNAME:EDT
DTSTART:20240310T070000
END:DAYLIGHT
BEGIN:STANDARD
TZOFFSETFROM:-0400
TZOFFSETTO:-0500
TZNAME:EST
DTSTART:20241103T060000
END:STANDARD
BEGIN:DAYLIGHT
TZOFFSETFROM:-0500
TZOFFSETTO:-0400
TZNAME:EDT
DTSTART:20250309T070000
END:DAYLIGHT
BEGIN:STANDARD
TZOFFSETFROM:-0400
TZOFFSETTO:-0500
TZNAME:EST
DTSTART:20251102T060000
END:STANDARD
END:VTIMEZONE
BEGIN:VEVENT
DTSTART;TZID=America/Toronto:20240119T190000
DTEND;TZID=America/Toronto:20240119T190000
DTSTAMP:20260420T052752
CREATED:20231017T145850Z
LAST-MODIFIED:20240119T164202Z
UID:6098-1705690800-1705690800@stockeycentre.com
SUMMARY:The Sheepdogs
DESCRIPTION:Built on the solid\, classic rock foundation of three-part harmonies and dual guitar leads\, Canada’s Juno Award-winning Sheepdogs blend Southern rock\, groove-based psychedelia\, and bluesy barroom swagger into a modern rock & roll revival. Emerging in 2004\, the band found mainstream success in 2010 with the release of their platinum-selling third LP\, Learn & Burn\, and continued to top the Canadian charts with efforts like The Sheepdogs (2012)\, Future Nostalgia (2015)\, Changing Colours (2018)\, and Outta Sight (2022). \n\n\n\nHailing from the Saskatchewan city of Saskatoon\, the band features the talents of Ewan Currie (vocals\, guitar)\, Ryan Gullen (bass)\, Sam Corbett (drums)\, Shamus Currie (keyboard/trombone) and Rick Paquette (guitar). From Canadian roadhouses to global music festivals\, their on-stage and on-road hours are countless\, underscoring their endurance in the music scene. The release of Future Nostalgia and Changing Colours further enriched their discography\, leading up to the 2022 release of the jubilant hook-filled Outta Sight\, solidifying their impact in the rock domain. \n\n\n\nMost recently\, their singles from Outta Sight spent a cumulative 90 weeks with at least 1 song in the top 20 at Canadian Rock radio. Prior\, their hit singles “I Don’t Know” and “Feeling Good” both reached Platinum certification\, with “The Way It Is” achieving Gold sales. Additionally\, the albums Learn & Burn and The Sheepdogs both achieved Platinum status\, and to date the band has been nominated for 11 JUNO awards\, winning four. \n\n\n\nWith opening act Ellen Froese! Ellen Froese is what you’d call a “prolific artist”; committed\, too. For someone who only just passed the threshold of their mid-20s\, she’s amassed a resolutely solid body of work and\, with a variety of projects\, achieved more than some many years her senior. For Each Flower Growing\, Froese’s fourth full-length\, produced in collaboration with the Sheepdogs’ Sam Corbett\, is her most accomplished statement to date\, drawing on her established sound as a folk & country-based singer/songwriter while incorporating a wider frame of reference in the rich production\, supple instrumentation\, and overall sonic soundworld. It’s much harder to pin down than any simple description can convey\, making it all the more worthwhile to check out. \n\n\n\nTickets are: \n\n\n\nOrchestra Pit (Rows AA to FF): $99.95 + HST \n\n\n\nOrchestra (Rows A to J): $89.95 + HST \n\n\n\nMezzanine: $79.95 + HST \n\n\n\nBalcony: $69.95 + HST \n\n\n\nBUY TICKETS ONLINE HERE \n\n\n\nTickets can also be purchased during our business hours by calling our Box Office at 705-746-4466 extension 405 or visiting us at 2 Bay Street\, Parry Sound.
URL:https://stockeycentre.com/event/the-sheepdogs/
LOCATION:The Stockey Centre\, 2 Bay Street\, Parry Sound\, Ontario\, P2A 1S3\, Canada
CATEGORIES:Concert
ATTACH;FMTTYPE=image/jpeg:https://stockeycentre.com/wp-content/uploads/2023/10/TheSheepdogs2023_byMatDunlap-scaled.jpg
ORGANIZER;CN="The Stockey Centre":MAILTO:info@stockeycentre.com
END:VEVENT
END:VCALENDAR