BEGIN:VCALENDAR
VERSION:2.0
PRODID:-//The Stockey Centre - ECPv6.15.20//NONSGML v1.0//EN
CALSCALE:GREGORIAN
METHOD:PUBLISH
X-ORIGINAL-URL:https://stockeycentre.com
X-WR-CALDESC:Events for The Stockey Centre
REFRESH-INTERVAL;VALUE=DURATION:PT1H
X-Robots-Tag:noindex
X-PUBLISHED-TTL:PT1H
BEGIN:VTIMEZONE
TZID:America/Toronto
BEGIN:DAYLIGHT
TZOFFSETFROM:-0500
TZOFFSETTO:-0400
TZNAME:EDT
DTSTART:20230312T070000
END:DAYLIGHT
BEGIN:STANDARD
TZOFFSETFROM:-0400
TZOFFSETTO:-0500
TZNAME:EST
DTSTART:20231105T060000
END:STANDARD
BEGIN:DAYLIGHT
TZOFFSETFROM:-0500
TZOFFSETTO:-0400
TZNAME:EDT
DTSTART:20240310T070000
END:DAYLIGHT
BEGIN:STANDARD
TZOFFSETFROM:-0400
TZOFFSETTO:-0500
TZNAME:EST
DTSTART:20241103T060000
END:STANDARD
BEGIN:DAYLIGHT
TZOFFSETFROM:-0500
TZOFFSETTO:-0400
TZNAME:EDT
DTSTART:20250309T070000
END:DAYLIGHT
BEGIN:STANDARD
TZOFFSETFROM:-0400
TZOFFSETTO:-0500
TZNAME:EST
DTSTART:20251102T060000
END:STANDARD
END:VTIMEZONE
BEGIN:VEVENT
DTSTART;TZID=America/Toronto:20240216T190000
DTEND;TZID=America/Toronto:20240216T190000
DTSTAMP:20260420T040548
CREATED:20230825T150000Z
LAST-MODIFIED:20240210T174951Z
UID:5946-1708110000-1708110000@stockeycentre.com
SUMMARY:SOLD OUT: An Evening with The Trews
DESCRIPTION:A waitlist is available by contacting our Box Office at 705-746-4466 extension 205. \n\n\n\n\n\n\n\n\n\n\n\nThe Trews will be playing their platinum selling debut album “House of Ill Fame” in its entirety plus other hits and fan favourites from their catalogue of music. \n\n\n\nThe achievements of rock ‘n’ roll heavyweights The Trews are many and mighty\, highlighted by multiple radio hits drawn from seven critically acclaimed studio albums plus several EPs\, a pair of live records\, and a retrospective. Among the most prolific\, electrifying\, and innovative bands on the planet\, The Trews — singer/guitarist Colin MacDonald\, guitarist John-Angus MacDonald\, bassist Jack Syperek\, drummer Chris Gormley\, and keyboardist Jeff Heisholt — have shared stages with everyone from the Rolling Stones to Weezer\, Bruce Springsteen to Rich Robinson\, the latter collaboration culminating in three blazing tracks on the band’s latest\, The Wanderer\, cut in Nashville with the onetime Black Crowes guitarist. Amid the global pandemic\, which halted both the Nashville sessions and tour plans for 2018’s epic Civilianaires album\, The Trews completed The Wanderer at home in Canada with producers Derek Hoffman and Eric Ratz\, emerging with their fiercest and most accomplished set of songs to date\, and a heck of backstory to boot. \n\n\n\nTickets go on sale on Friday August 25th at 11am to Stockey Members. Tickets go on sale to the general public September 1st on Friday at 11am.  \n\n\n\nTo become a Stockey Member\, you can visit us on our Membership page for more information and to purchase online\, give us a call at 705-746-4466 extension 405\, or visit us at 2 Bay Street\, Parry Sound. \n\n\n\nTickets are $64.95 + HST. \n\n\n\nBUY TICKETS ONLINE HERE \n\n\n\nTickets can also be purchased during our business hours by calling our Box Office at 705-746-4466 extension 405 or visiting us at 2 Bay Street\, Parry Sound.
URL:https://stockeycentre.com/event/an-evening-with-the-trews/
LOCATION:The Stockey Centre\, 2 Bay Street\, Parry Sound\, Ontario\, P2A 1S3\, Canada
CATEGORIES:Concert
ATTACH;FMTTYPE=image/jpeg:https://stockeycentre.com/wp-content/uploads/2023/08/The-Trews-Photo-House-of-Ill-Fame-scaled.jpg
ORGANIZER;CN="The Stockey Centre":MAILTO:info@stockeycentre.com
END:VEVENT
BEGIN:VEVENT
DTSTART;TZID=America/Toronto:20240226T190000
DTEND;TZID=America/Toronto:20240226T190000
DTSTAMP:20260420T040548
CREATED:20231024T140000Z
LAST-MODIFIED:20231021T161014Z
UID:6118-1708974000-1708974000@stockeycentre.com
SUMMARY:Liquored Up Tour - Aaron Pritchett Feat. Matt Lang & Cory Marks
DESCRIPTION:He’s has been a household name in Canadian Country music for 20 years\, but when Aaron Pritchett hits the stage\, he does so with the energy and intensity of an artist fresh on the scene. Yet despite being known for his dynamic\, even raucous\, live shows\, it’s the classically country gentleman inside of Pritchett that’s made him a fan favourite – and staying force in Canadian country – for more than two decades.  \n\n\n\nWith 13 Top Ten hits under hits under his belt [buckle]\, Pritchett has made a career of seamlessly moving from good ol’ boy anthems like “Hold My Beer” to pop-tinged party pleasers like “Worth a Shot” to heart-string pulling ballads like “Warm Safe Place”. He could have stopped when he had enough to fill a Greatest Hits album – which he did in 2015 – but instead he followed it up with several more including his 2019 #1 single\, “Better When I Do”. Throughout it\, Pritchett has racked up more than 30 Juno\, CCMA\, WCMA and BCCMA nominations including multiple wins for Entertainer of the Year\, Male Vocalist of the Year and a CCMA SOCAN Songwriter of the Year award. \n\n\n\nWith his writing\, Pritchett continues to push the boundaries of the country genre. And while he refuses to be pigeon-holed\, staying grounded in his roots is one thing he insists on.  \n\n\n\nA philanthropist at heart\, in 2022 he launched his Annual Big Wheel Charity Golf Classic. The event has raised more than $150\,000 to date for community-minded charities near his home on Vancouver Island.  \n\n\n\nHis latest single “Liquored Up” (out November 3rd on Big Star Recordings) features Quebec-country sweetheart Matt Lang and outlaw newcomer Cory Marks. It’s a feel-good tune that’ll have you headed for happy hour in an instant\, and it proves yet again why Aaron Pritchett continues to reign in Canadian country music. \n\n\n\nTicket sales schedule: \n\n\n\nArtist Presale – Wednesday October 25th from 10am to 10pm EST \n\n\n\nStockey Members Presale – Thursday October 26th from 10am to 10pm EST \n\n\n\nPublic On-Sale – Friday October 27th at 10am EST \n\n\n\nTo become a Stockey Member\, you can visit us on our Membership page for more information and to purchase online\, give us a call at 705-746-4466 extension 405\, or visit us at 2 Bay Street\, Parry Sound. \n\n\n\nTickets are: \n\n\n\nOrchestra PIT (Rows AA to FF): $82.95 + HST \n\n\n\nOrchestra (Rows A to J): $77.95 + HST \n\n\n\nMezzanine: $67.95 + HST \n\n\n\nBalcony: $62.95 + HST \n\n\n\nBUY TICKETS ONLINE HERE \n\n\n\nTickets can also be purchased during our business hours by calling our Box Office at 705-746-4466 extension 405 or visiting us at 2 Bay Street\, Parry Sound.
URL:https://stockeycentre.com/event/liquored-up-tour/
LOCATION:The Stockey Centre\, 2 Bay Street\, Parry Sound\, Ontario\, P2A 1S3\, Canada
CATEGORIES:Concert
ATTACH;FMTTYPE=image/jpeg:https://stockeycentre.com/wp-content/uploads/2023/10/AP_LUTour_1920x1080_ALT_LOCAL-Copy.jpg
ORGANIZER;CN="The Stockey Centre":MAILTO:info@stockeycentre.com
END:VEVENT
END:VCALENDAR