BEGIN:VCALENDAR
VERSION:2.0
PRODID:-//The Stockey Centre - ECPv6.15.20//NONSGML v1.0//EN
CALSCALE:GREGORIAN
METHOD:PUBLISH
X-ORIGINAL-URL:https://stockeycentre.com
X-WR-CALDESC:Events for The Stockey Centre
REFRESH-INTERVAL;VALUE=DURATION:PT1H
X-Robots-Tag:noindex
X-PUBLISHED-TTL:PT1H
BEGIN:VTIMEZONE
TZID:America/Toronto
BEGIN:DAYLIGHT
TZOFFSETFROM:-0500
TZOFFSETTO:-0400
TZNAME:EDT
DTSTART:20230312T070000
END:DAYLIGHT
BEGIN:STANDARD
TZOFFSETFROM:-0400
TZOFFSETTO:-0500
TZNAME:EST
DTSTART:20231105T060000
END:STANDARD
BEGIN:DAYLIGHT
TZOFFSETFROM:-0500
TZOFFSETTO:-0400
TZNAME:EDT
DTSTART:20240310T070000
END:DAYLIGHT
BEGIN:STANDARD
TZOFFSETFROM:-0400
TZOFFSETTO:-0500
TZNAME:EST
DTSTART:20241103T060000
END:STANDARD
BEGIN:DAYLIGHT
TZOFFSETFROM:-0500
TZOFFSETTO:-0400
TZNAME:EDT
DTSTART:20250309T070000
END:DAYLIGHT
BEGIN:STANDARD
TZOFFSETFROM:-0400
TZOFFSETTO:-0500
TZNAME:EST
DTSTART:20251102T060000
END:STANDARD
END:VTIMEZONE
BEGIN:VEVENT
DTSTART;TZID=America/Toronto:20240503T193000
DTEND;TZID=America/Toronto:20240504T193000
DTSTAMP:20260419T233200
CREATED:20231202T160000Z
LAST-MODIFIED:20231201T210420Z
UID:6279-1714764600-1714851000@stockeycentre.com
SUMMARY:Parry Sound Singers: Generation Jukebox
DESCRIPTION:The Parry Sound Singers are a chorus of enthusiastic women who entertain at special functions upon request and also put on local shows. They are the premier chorus within the Town of Parry Sound for women who love to sing popular music with accompaniment! \n\n\n\nAnd this spring they are joining us at The Stockey Centre for two shows\, Friday May 3rd at 7:30pm and Saturday May 4th at 7:30pm! \n\n\n\nTickets are $35.00 each. \n\n\n\nBUY TICKETS ONLINE HERE \n\n\n\nTickets can also be purchased during our business hours by calling our Box Office at 705-746-4466 extension 405 or visiting us at 2 Bay Street\, Parry Sound.
URL:https://stockeycentre.com/event/parry-sound-singers-generation-jukebox/
LOCATION:The Stockey Centre\, 2 Bay Street\, Parry Sound\, Ontario\, P2A 1S3\, Canada
CATEGORIES:Concert
ATTACH;FMTTYPE=image/jpeg:https://stockeycentre.com/wp-content/uploads/2023/12/Parry-Sound-Singers-2023.jpg
END:VEVENT
BEGIN:VEVENT
DTSTART;TZID=America/Toronto:20240507T190100
DTEND;TZID=America/Toronto:20240507T190100
DTSTAMP:20260419T233200
CREATED:20240426T165450Z
LAST-MODIFIED:20240426T170753Z
UID:6697-1715108460-1715108460@stockeycentre.com
SUMMARY:Parry Sound Intermediate & High School Spring Concert
DESCRIPTION:Join Parry Sound Intermediate & High School for their annual spring concert at The Stockey Centre! Bands from the Intermediate School and the High School will be performing. \n\n\n\nTickets are $12 for adults and $8 for students. \n\n\n\nBUY TICKETS ONLINE HERE \n\n\n\nTickets can also be purchased during our business hours by calling our Box Office at 705-746-4466 extension 405 or visiting us at 2 Bay Street\, Parry Sound.
URL:https://stockeycentre.com/event/parry-sound-intermediate-high-school-spring-concert/
LOCATION:The Stockey Centre\, 2 Bay Street\, Parry Sound\, Ontario\, P2A 1S3\, Canada
CATEGORIES:Concert
END:VEVENT
BEGIN:VEVENT
DTSTART;TZID=America/Toronto:20240510T190000
DTEND;TZID=America/Toronto:20240510T190000
DTSTAMP:20260419T233200
CREATED:20231123T150000Z
LAST-MODIFIED:20231122T212731Z
UID:6253-1715367600-1715367600@stockeycentre.com
SUMMARY:The Once
DESCRIPTION:Newfoundland has a storied history of stunning songwriters\, poets\, and players. Over the course of the last decade. The Once Have writ and knit themselves into that story. \n\n\n\nWithin the nine songs on their new album Time Enough\, The Once offer some of the most vulnerable and honest material of their career. The up-tempo album opener\, “I Can’t Live Without You”\, reflects on women battling with self-image issues and offers wisened words to be the positive change in their own lives. The gritty guitar drive “Before The Fall” succumbs to the notion that we must accept our past and use those memories to grow. Riff rocker “Any Other Way” reflects the fact that true love accepts us at our worst but insists we do the work to be our best selves to keep it together. \n\n\n\nOn this\, their fourth studio album\, the band stays true to the root strength of their harmony driven sound\, while extending the borders into fresh yet familiar territory. They craft a sonically understated\, but emotionally fulsome sound that accomplishes what they’ve always done so well: stun listeners with what Amelia Curran calls “perfect vocal harmonies\, thick enough to stand on.” \n\n\n\n Tickets are $42.95 + HST each. \n\n\n\nTickets go on sale to Stockey Members on Thursday November 23rd at 10am and on sale to the public on Friday November 24th at 10am. \n\n\n\nTo become a Stockey Member\, you can visit us on our Membership page for more information and to purchase online\, give us a call at 705-746-4466 extension 405\, or visit us at 2 Bay Street\, Parry Sound. \n\n\n\nBUY TICKETS ONLINE HERE \n\n\n\nTickets can also be purchased during our business hours by calling our Box Office at 705-746-4466 extension 405 or visiting us at 2 Bay Street\, Parry Sound.
URL:https://stockeycentre.com/event/the-once/
LOCATION:The Stockey Centre\, 2 Bay Street\, Parry Sound\, Ontario\, P2A 1S3\, Canada
CATEGORIES:Concert
ATTACH;FMTTYPE=image/jpeg:https://stockeycentre.com/wp-content/uploads/2023/11/The-Once-2024-Photo-scaled.jpg
ORGANIZER;CN="The Stockey Centre":MAILTO:info@stockeycentre.com
END:VEVENT
BEGIN:VEVENT
DTSTART;TZID=America/Toronto:20240531T200000
DTEND;TZID=America/Toronto:20240531T200000
DTSTAMP:20260419T233201
CREATED:20240112T192001Z
LAST-MODIFIED:20240112T192001Z
UID:6406-1717185600-1717185600@stockeycentre.com
SUMMARY:Pavlo
DESCRIPTION:For being all instrumental\, Pavlo’s Mediterranean music speaks for itself. Over the span of his 20-year career\, Pavlo\, the internationally renowned\, award-winning recording artist\, performer and songwriter\, has released 15 albums to include 4 PBS TV concert Specials. \n\n\n\nBorn in Toronto to Greek parents\, Pavlo has made a name for himself by offering a musical amalgam he simply calls “Mediterranean music” – a blend of Greek\, flamenco\, Latin\, and even Balkan flavours\, wrapped in contemporary pop. His music has taken him all around the world. Along the way he’s performed for royalty in the likes of Prince Charles and worked and toured with artists such as José Feliciano\, Jon Secada\, Olivia Newton-John and The Tenors. \n\n\n\nIt has never been more convincing\, Pavlo is a TRUE WORLD artist\, and has become famous for bringing every audience to their feet. \n\n\n\n\n\n\n\n\nPavlo is currently on tour promoting his fourth PBS special “Live in Santorini” and is still driven by his father’s famous words: \n\n\n\n“Have the courage to do what you love\, and the drive to do it well.” \n\n\n\nTickets are $69.95 each. \n\n\n\nBUY TICKETS ONLINE HERE \n\n\n\nTickets can also be purchased during our business hours by calling our Box Office at 705-746-4466 extension 405 or visiting us at 2 Bay Street\, Parry Sound.
URL:https://stockeycentre.com/event/pavlo/
LOCATION:The Stockey Centre\, 2 Bay Street\, Parry Sound\, Ontario\, P2A 1S3\, Canada
CATEGORIES:Concert
ATTACH;FMTTYPE=image/jpeg:https://stockeycentre.com/wp-content/uploads/2024/01/Live-In-Santorini-DVD_FrontA-Just_Logo-2-Copy-e1705086816791.jpg
END:VEVENT
END:VCALENDAR