BEGIN:VCALENDAR
VERSION:2.0
PRODID:-//The Stockey Centre - ECPv6.15.20//NONSGML v1.0//EN
CALSCALE:GREGORIAN
METHOD:PUBLISH
X-WR-CALNAME:The Stockey Centre
X-ORIGINAL-URL:https://stockeycentre.com
X-WR-CALDESC:Events for The Stockey Centre
REFRESH-INTERVAL;VALUE=DURATION:PT1H
X-Robots-Tag:noindex
X-PUBLISHED-TTL:PT1H
BEGIN:VTIMEZONE
TZID:America/Toronto
BEGIN:DAYLIGHT
TZOFFSETFROM:-0500
TZOFFSETTO:-0400
TZNAME:EDT
DTSTART:20230312T070000
END:DAYLIGHT
BEGIN:STANDARD
TZOFFSETFROM:-0400
TZOFFSETTO:-0500
TZNAME:EST
DTSTART:20231105T060000
END:STANDARD
BEGIN:DAYLIGHT
TZOFFSETFROM:-0500
TZOFFSETTO:-0400
TZNAME:EDT
DTSTART:20240310T070000
END:DAYLIGHT
BEGIN:STANDARD
TZOFFSETFROM:-0400
TZOFFSETTO:-0500
TZNAME:EST
DTSTART:20241103T060000
END:STANDARD
BEGIN:DAYLIGHT
TZOFFSETFROM:-0500
TZOFFSETTO:-0400
TZNAME:EDT
DTSTART:20250309T070000
END:DAYLIGHT
BEGIN:STANDARD
TZOFFSETFROM:-0400
TZOFFSETTO:-0500
TZNAME:EST
DTSTART:20251102T060000
END:STANDARD
END:VTIMEZONE
BEGIN:VEVENT
DTSTART;TZID=America/Toronto:20240616T193000
DTEND;TZID=America/Toronto:20240616T193000
DTSTAMP:20260419T215735
CREATED:20231114T170000Z
LAST-MODIFIED:20240111T202303Z
UID:6231-1718566200-1718566200@stockeycentre.com
SUMMARY:Ian Thomas... Not Gone Yet!
DESCRIPTION:Ian Thomas is “the complete entertainment experience!” He is a film-composer with 22 feature films to his credit; an author; an actor\, much sought after as a voice-over artist and recognized for roles such as Dougie Franklin on the Red Green Show… and\, of course\, a Juno-award-winning Singer-Songwriter whose songs helped form the bedrock of the Canadian musical landscape\, a contribution recognized by SOCAN when Ian was honoured with a National Achievement Award for Songwriting. \n\n\n\nIan Thomas first garnered major radio airplay in1973 with the top-40 single Painted Ladies\, followed by a string of hits throughout the 70s and 80s\, and on into the 90s with his band The Boomers. Whether performed by him or covered by artists including Santana\, Chicago\, Manfred Mann\, America\, Bon Jovi and Bette Midler\, Ian’s many hits continually achieved heavy rotation on radio across Canada and around the world … recordings such as Come The Sun\, Long Long Way\, Right Before Your Eyes\, Coming Home\, Pilot\, Hold On\, Time Is The Keeper\, Liars\, Wishes\, The Runner\, Levity\, Back To Square One\, Love Ya Too Much\, You Gotta Know\, One Little Word\, Dirty Love\, To Comfort You\, and of course\, Painted Ladies. In the new millennium\, Ian joined fellow singer-songwriters Murray McLauchlan\, Marc Jordan and Cindy Church to form Lunch At Allen’s\, touring coast to coast for the past two decades\, and now with five albums to their credit. \n\n\n\n\n\n\n\n\nOf his art\, Ian says: “The song remains the most satisfying creative experience for me. Songs are interactive and\, with over 50 years of writing\, I have spent many hours with each one and they with me. When I listen to one of my old albums\, I remember where I was and the people I made them with\, some living\, some now dead.  I think about who I am\, who I used to be\, and who I thought I was. These albums are like flags stuck in the road behind me that wind back\, into the past\, almost out of view.” \n\n\n\nIan Thomas\, with his stellar 4-piece band\, brings past to present recreating the original sound of all the hits … 70s\, 80s\, 90s and beyond. Ian Thomas … Not Gone Yet! \n\n\n\nTickets go on sale to Stockey Members on Tuesday November 14th at noon and on sale to the public on Friday November 17th at 10am. Tickets are $71.50 each. \n\n\n\nTo become a Stockey Member\, you can visit us on our Membership page for more information and to purchase online\, give us a call at 705-746-4466 extension 405\, or visit us at 2 Bay Street\, Parry Sound. \n\n\n\nBUY TICKETS ONLINE HERE \n\n\n\nTickets can also be purchased during our business hours by calling our Box Office at 705-746-4466 extension 405 or visiting us at 2 Bay Street\, Parry Sound.
URL:https://stockeycentre.com/event/ian-thomas-not-gone-yet/
LOCATION:The Stockey Centre\, 2 Bay Street\, Parry Sound\, Ontario\, P2A 1S3\, Canada
CATEGORIES:Concert
ATTACH;FMTTYPE=image/jpeg:https://stockeycentre.com/wp-content/uploads/2023/11/Ian-Thomas-Pics-Blank-600-x-50072dpi.jpg
END:VEVENT
END:VCALENDAR