BEGIN:VCALENDAR
VERSION:2.0
PRODID:-//The Stockey Centre - ECPv6.15.20//NONSGML v1.0//EN
CALSCALE:GREGORIAN
METHOD:PUBLISH
X-ORIGINAL-URL:https://stockeycentre.com
X-WR-CALDESC:Events for The Stockey Centre
REFRESH-INTERVAL;VALUE=DURATION:PT1H
X-Robots-Tag:noindex
X-PUBLISHED-TTL:PT1H
BEGIN:VTIMEZONE
TZID:America/Toronto
BEGIN:DAYLIGHT
TZOFFSETFROM:-0500
TZOFFSETTO:-0400
TZNAME:EDT
DTSTART:20230312T070000
END:DAYLIGHT
BEGIN:STANDARD
TZOFFSETFROM:-0400
TZOFFSETTO:-0500
TZNAME:EST
DTSTART:20231105T060000
END:STANDARD
BEGIN:DAYLIGHT
TZOFFSETFROM:-0500
TZOFFSETTO:-0400
TZNAME:EDT
DTSTART:20240310T070000
END:DAYLIGHT
BEGIN:STANDARD
TZOFFSETFROM:-0400
TZOFFSETTO:-0500
TZNAME:EST
DTSTART:20241103T060000
END:STANDARD
BEGIN:DAYLIGHT
TZOFFSETFROM:-0500
TZOFFSETTO:-0400
TZNAME:EDT
DTSTART:20250309T070000
END:DAYLIGHT
BEGIN:STANDARD
TZOFFSETFROM:-0400
TZOFFSETTO:-0500
TZNAME:EST
DTSTART:20251102T060000
END:STANDARD
END:VTIMEZONE
BEGIN:VEVENT
DTSTART;TZID=America/Toronto:20240712T200000
DTEND;TZID=America/Toronto:20240712T200000
DTSTAMP:20260419T202913
CREATED:20240320T150000Z
LAST-MODIFIED:20240319T192037Z
UID:6600-1720814400-1720814400@stockeycentre.com
SUMMARY:RADIO RUSH – The Moving Pictures Story
DESCRIPTION:“After Moving Pictures\, we were never the same band again.” Geddy Lee \n\n\n\nRADIO RUSH – The Moving Pictures Story tells the story of the transformation that catapulted Rush from arena rock to world radio\, with a complete playlist that includes the songs that inspired and were inspired by their greatest work\, Moving Pictures. \n\n\n\nOn stage are some of Canada’s best musicians\, faithfully recreating the entire Moving Pictures album and the RUSH “radio era” songs. \n\n\n\nYou’ll hear iconic hits like: The Spirit of Radio\, Tom Sawyer\, Limelight\, Subdivisions\, New World Man\, Big Money and more. \n\n\n\nOn screen\, radio personality Rick Ringer tell the stories behind the scenes and the songs as RADIO RUSH – The Moving Pictures Story chronicles the most important era of Rush’s career. \n\n\n\nRADIO RUSH – The Moving Pictures Story is created and produced by the writers that brought you ONES -The Beatles #1 Hits\, for a night of awe inspiring performance and video. \n\n\n\nIf you are a Rush fan\, this one of a kind show is a must see. \n\n\n\nTickets are $59.95 each. \n\n\n\nTickets go on sale to Stockey Members on Wednesday March 20th at 11am and on sale to the public on Saturday March 23rd at 11am. \n\n\n\nTo become a Stockey Member\, you can visit us on our Membership page for more information and to purchase online\, give us a call at 705-746-4466 extension 405\, or visit us at 2 Bay Street\, Parry Sound. \n\n\n\nBUY TICKETS ONLINE HERE \n\n\n\nTickets can also be purchased during our business hours by calling our Box Office at 705-746-4466 extension 405 or visiting us at 2 Bay Street\, Parry Sound.
URL:https://stockeycentre.com/event/radio-rush/
LOCATION:The Stockey Centre\, 2 Bay Street\, Parry Sound\, Ontario\, P2A 1S3\, Canada
CATEGORIES:Concert,Tribute Show
ATTACH;FMTTYPE=image/jpeg:https://stockeycentre.com/wp-content/uploads/2024/03/thumbnail_RRush_ParrySound_image.jpg
END:VEVENT
BEGIN:VEVENT
DTSTART;TZID=America/Toronto:20240713T200000
DTEND;TZID=America/Toronto:20240713T200000
DTSTAMP:20260419T202913
CREATED:20231209T160000Z
LAST-MODIFIED:20231207T202225Z
UID:6333-1720900800-1720900800@stockeycentre.com
SUMMARY:ONES – The Beatles #1 Hits
DESCRIPTION:The show Cashbox calls\, “The most exciting Beatles presentation in decades” is returning to The Stockey Centre for ONE NIGHT ONLY!  \n\n\n\nONES – The Beatles #1 Hits is bringing their “Coast to Coast Tour” to Parry Sound with a special presentation of the 27 number one hit songs that changed the world. \n\n\n\nOn the big screen you’ll experience brilliant narrations to tell the stories behind the songs\, captivating backdrops\, and a collection of stunning photos and videos. \n\n\n\nOn the big stage you’ll experience a 14-piece performance of top musicians who faithfully recreate the sound of the original hit records with period correct instruments\, top vocalists\, and a string and horn section! \n\n\n\nONES – The Beatles #1 Hits “Coast to Coast Tour” is performing to sold out venues of Beatles fans all over North America. \n\n\n\nDon’t miss this must see show for every Beatles fan! \n\n\n\nTickets are $69.95 each. Tickets go on sale on Saturday December 9th at 11am. If you buy your tickets between Saturday December 9th at 11am and Monday December 11th at 11am with the code BEATLEONE\, you’ll receive 20% off your tickets! Please note our Box Office is open Wednesday to Saturday from 10am to 5pm for telephone and in person sales. Online sales are available at all times. \n\n\n\nBUY TICKETS ONLINE HERE \n\n\n\nTickets can also be purchased during our business hours by calling our Box Office at 705-746-4466 extension 405 or visiting us at 2 Bay Street\, Parry Sound.
URL:https://stockeycentre.com/event/ones-the-beatles-1-hits-2/
LOCATION:The Stockey Centre\, 2 Bay Street\, Parry Sound\, Ontario\, P2A 1S3\, Canada
CATEGORIES:Concert
ATTACH;FMTTYPE=image/jpeg:https://stockeycentre.com/wp-content/uploads/2023/12/ONES_ParrySound_image-scaled.jpg
END:VEVENT
END:VCALENDAR