BEGIN:VCALENDAR
VERSION:2.0
PRODID:-//The Stockey Centre - ECPv6.15.20//NONSGML v1.0//EN
CALSCALE:GREGORIAN
METHOD:PUBLISH
X-WR-CALNAME:The Stockey Centre
X-ORIGINAL-URL:https://stockeycentre.com
X-WR-CALDESC:Events for The Stockey Centre
REFRESH-INTERVAL;VALUE=DURATION:PT1H
X-Robots-Tag:noindex
X-PUBLISHED-TTL:PT1H
BEGIN:VTIMEZONE
TZID:America/Toronto
BEGIN:DAYLIGHT
TZOFFSETFROM:-0500
TZOFFSETTO:-0400
TZNAME:EDT
DTSTART:20230312T070000
END:DAYLIGHT
BEGIN:STANDARD
TZOFFSETFROM:-0400
TZOFFSETTO:-0500
TZNAME:EST
DTSTART:20231105T060000
END:STANDARD
BEGIN:DAYLIGHT
TZOFFSETFROM:-0500
TZOFFSETTO:-0400
TZNAME:EDT
DTSTART:20240310T070000
END:DAYLIGHT
BEGIN:STANDARD
TZOFFSETFROM:-0400
TZOFFSETTO:-0500
TZNAME:EST
DTSTART:20241103T060000
END:STANDARD
BEGIN:DAYLIGHT
TZOFFSETFROM:-0500
TZOFFSETTO:-0400
TZNAME:EDT
DTSTART:20250309T070000
END:DAYLIGHT
BEGIN:STANDARD
TZOFFSETFROM:-0400
TZOFFSETTO:-0500
TZNAME:EST
DTSTART:20251102T060000
END:STANDARD
END:VTIMEZONE
BEGIN:VEVENT
DTSTART;TZID=America/Toronto:20240829T193000
DTEND;TZID=America/Toronto:20240829T193000
DTSTAMP:20260419T185240
CREATED:20240315T150000Z
LAST-MODIFIED:20240315T200036Z
UID:6595-1724959800-1724959800@stockeycentre.com
SUMMARY:Classic Lightfoot Live
DESCRIPTION:Summertime Dream Productions presents CLASSIC LIGHTFOOT LIVE \n\n\n\nThe Original and Finest Possible Tribute to Gordon Lightfoot \n\n\n\nThe Authentic Concert Experience \n\n\n\nTake a trip down memory lane….with CLASSIC LIGHTFOOT LIVE! \n\n\n\nClassic Lightfoot Live stands as Canada’s premier tribute to the legendary folk rocker\, Gordon Lightfoot. Led by the remarkable ensemble of vocalist and guitarist John Stinson\, music director and multi-instrumentalist Bob Doidge (Gord’s record producer)\, bassist Steve Eyers (Gord’s nephew)\,lead guitarist Eric Kidd (Red Shea trained)\, this show whisks you down a nostalgic journey through Lightfoot’s iconic music. \n\n\n\nGordon Lightfoot’s impact on music is immeasurable; he’s hailed as Canada’s greatest songwriter\, shaping the folk-pop sounds of the ‘60s and ‘70s. His name is synonymous with timeless tales of trains\, shipwrecks\, rivers\, highways\, love\, and solitude. His repertoire\, including classics like “For Lovin’ Me\,” “Early Morning Rain\,” and “Ribbon of Darkness\,” have left an indelible mark on the world. \n\n\n\nClassic Lightfoot Live was founded in 2012 by lead vocalist\, John Stinson\, a long time Ontario musician. John has been entertaining audiences around Ontario for over 30 years. He has been widely praised for his uncanny sonic resemblance to Gord\, and his attention to replicating Gord’s original studio recordings. John was mentored to play Gordon Lightfoot music by the legendary Lightfoot lead guitarist\, Red Shea. \n\n\n\n“Others can tell\, even if they don’t know how or why John’s renditions come off as being so faithful. I’ve been told before\, and many did that night\, they can’t believe how well John sings Gord’s tunes.” – John Swartz\, SunOnlineMedia.ca\, Nov 2023 \n\n\n\n“Amazing talent\, unbelievably realistic. Gave me goosebumps listening to them.” – Social media post. \n\n\n\nDon’t miss this exceptional tribute show\, CLASSIC LIGHTFOOT LIVE! \n\n\n\nTickets are $59.50 each. \n\n\n\nBUY TICKETS ONLINE HERE \n\n\n\nTickets can also be purchased during our business hours by calling our Box Office at 705-746-4466 extension 405 or visiting us at 2 Bay Street\, Parry Sound.
URL:https://stockeycentre.com/event/classic-lightfoot-live-2/
LOCATION:The Stockey Centre\, 2 Bay Street\, Parry Sound\, Ontario\, P2A 1S3\, Canada
CATEGORIES:Concert
ATTACH;FMTTYPE=image/png:https://stockeycentre.com/wp-content/uploads/2024/03/2.png
END:VEVENT
END:VCALENDAR