BEGIN:VCALENDAR
VERSION:2.0
PRODID:-//The Stockey Centre - ECPv6.15.20//NONSGML v1.0//EN
CALSCALE:GREGORIAN
METHOD:PUBLISH
X-WR-CALNAME:The Stockey Centre
X-ORIGINAL-URL:https://stockeycentre.com
X-WR-CALDESC:Events for The Stockey Centre
REFRESH-INTERVAL;VALUE=DURATION:PT1H
X-Robots-Tag:noindex
X-PUBLISHED-TTL:PT1H
BEGIN:VTIMEZONE
TZID:America/Toronto
BEGIN:DAYLIGHT
TZOFFSETFROM:-0500
TZOFFSETTO:-0400
TZNAME:EDT
DTSTART:20220313T070000
END:DAYLIGHT
BEGIN:STANDARD
TZOFFSETFROM:-0400
TZOFFSETTO:-0500
TZNAME:EST
DTSTART:20221106T060000
END:STANDARD
BEGIN:DAYLIGHT
TZOFFSETFROM:-0500
TZOFFSETTO:-0400
TZNAME:EDT
DTSTART:20230312T070000
END:DAYLIGHT
BEGIN:STANDARD
TZOFFSETFROM:-0400
TZOFFSETTO:-0500
TZNAME:EST
DTSTART:20231105T060000
END:STANDARD
BEGIN:DAYLIGHT
TZOFFSETFROM:-0500
TZOFFSETTO:-0400
TZNAME:EDT
DTSTART:20240310T070000
END:DAYLIGHT
BEGIN:STANDARD
TZOFFSETFROM:-0400
TZOFFSETTO:-0500
TZNAME:EST
DTSTART:20241103T060000
END:STANDARD
END:VTIMEZONE
BEGIN:VEVENT
DTSTART;TZID=America/Toronto:20230708T170000
DTEND;TZID=America/Toronto:20230708T170000
DTSTAMP:20260421T044030
CREATED:20230510T150000Z
LAST-MODIFIED:20230629T191006Z
UID:5524-1688835600-1688835600@stockeycentre.com
SUMMARY:Clues Lead to Murder at the Down Town Abbey
DESCRIPTION:TICKET SALES TO THIS EVENT CLOSE ON WEDNESDAY JULY 5TH AT NOON. GET YOUR TICKETS NOW BEFORE THEY’RE GONE! \n\n\n\n\nPresented by The Charles W. Stockey Centre\, MURDER on the Funny Side Theatre Productions perform “Clues Lead to Murder at the Down Town Abbey” ©2016 by Laurie McRae-Bingley \n\n\n\nThis is a dinner theatre event catered by Di Salvo’s Bella Cucina! \n\n\n\nDoors open for Cocktail hour at 5pm\, with the performance beginning at 6pm. \n\n\n\n\n\n\n\n\nCome join us for an evening of laughter\, mayhem and MURDER! Written by Laurie McRae-Bingley  and directed by Brett Desrosiers\, this production is a spoof of the popular TV show “Downton Abbey” and incorporates elements of the classic board game “Clue” into the story. \n\n\n\nA murder occurs at “Lord CrawToMe’s” manor and the local constabulary is assigned to the case. If you know the characters from the original show\, you’re sure to recognize them onstage. As this dinner theatre production is set in the fabulous 1920s\, we encourage you to play the part and dress in 1920s style if you wish. Put your detective hats on and help solve the case! \n\n\n\n\n\n\n\nDinner menu: \n\n\n\nHouse Chopped Salad – Mixed lettuces\, cucumber\, marinated tomatoes\, onions\, black olives\, balsamic dressing. \n\n\n\nChicken Marsala – Lightly dusted chicken breast\, sautéed with mushrooms and flambéed with Marsala wine served with herb roasted potatoes and fresh vegetables. \n\n\n\nStrawberry Short Cake – Vanilla cake\, filled layers of whipped cream frosting and strawberry coulis. \n\n\n\nPlease contact our Box Office at 705-746-4466 ext. 405 following your ticket purchase if you have any dietary allergies or for a vegan/vegetarian meal. \n\n\n\n\n\n\n\nTickets are $84.95 + HST. \n\n\n\nTickets go on sale on Saturday May 5th at 11am to Stockey Members. \n\n\n\nTickets go on sale to the general public on Saturday May 13th at 11am.  \n\n\n\nTo become a Stockey Member\, you can visit us on our Membership page for more information and to purchase online\, give us a call at 705-746-4466 extension 405\, or visit us at 2 Bay Street\, Parry Sound. \n\n\n\nBUY TICKETS ONLINE HERE \n\n\n\nTickets can also be purchased during our business hours by calling our Box Office at 705-746-4466 extension 405 or visiting us at 2 Bay Street\, Parry Sound.
URL:https://stockeycentre.com/event/clues-lead-to-murder-at-the-down-town-abbey/
LOCATION:The Stockey Centre\, 2 Bay Street\, Parry Sound\, Ontario\, P2A 1S3\, Canada
CATEGORIES:Dinner Theatre
ATTACH;FMTTYPE=image/jpeg:https://stockeycentre.com/wp-content/uploads/2023/05/Abbey-logo-e1683737638508.jpg
ORGANIZER;CN="The Stockey Centre":MAILTO:info@stockeycentre.com
END:VEVENT
END:VCALENDAR