BEGIN:VCALENDAR
VERSION:2.0
PRODID:-//The Stockey Centre - ECPv6.15.20//NONSGML v1.0//EN
CALSCALE:GREGORIAN
METHOD:PUBLISH
X-WR-CALNAME:The Stockey Centre
X-ORIGINAL-URL:https://stockeycentre.com
X-WR-CALDESC:Events for The Stockey Centre
REFRESH-INTERVAL;VALUE=DURATION:PT1H
X-Robots-Tag:noindex
X-PUBLISHED-TTL:PT1H
BEGIN:VTIMEZONE
TZID:America/Toronto
BEGIN:DAYLIGHT
TZOFFSETFROM:-0500
TZOFFSETTO:-0400
TZNAME:EDT
DTSTART:20200308T070000
END:DAYLIGHT
BEGIN:STANDARD
TZOFFSETFROM:-0400
TZOFFSETTO:-0500
TZNAME:EST
DTSTART:20201101T060000
END:STANDARD
BEGIN:DAYLIGHT
TZOFFSETFROM:-0500
TZOFFSETTO:-0400
TZNAME:EDT
DTSTART:20210314T070000
END:DAYLIGHT
BEGIN:STANDARD
TZOFFSETFROM:-0400
TZOFFSETTO:-0500
TZNAME:EST
DTSTART:20211107T060000
END:STANDARD
BEGIN:DAYLIGHT
TZOFFSETFROM:-0500
TZOFFSETTO:-0400
TZNAME:EDT
DTSTART:20220313T070000
END:DAYLIGHT
BEGIN:STANDARD
TZOFFSETFROM:-0400
TZOFFSETTO:-0500
TZNAME:EST
DTSTART:20221106T060000
END:STANDARD
END:VTIMEZONE
BEGIN:VEVENT
DTSTART;TZID=America/Toronto:20210830T110000
DTEND;TZID=America/Toronto:20210830T120000
DTSTAMP:20260424T070048
CREATED:20210825T175953Z
LAST-MODIFIED:20210825T175942Z
UID:3426-1630321200-1630324800@stockeycentre.com
SUMMARY:Peter Mennie: That Magic Guy
DESCRIPTION:PETER MENNIE: That Magic Guy presents a “funfilled\, hysterically funny\, family-friendly\, festival of foolin” that has been touring North America and Europe & the Middle East for the past 30 years and is guaranteed to be the funniest magic show you will see all year. \nThoughout his career as CANADA’S FAMILY FRIENDLY FOOLER – magician Peter Mennie has done it all from full illusion shows right down to intimate close-up magic and almost every style in between. However\, nothing compares to the satisfaction received from entertaining family audiences. He loves entertaining the kids and Mom & Dad – together. Two levels of comedy\, two levels of astonishment\, all in one amazing performance. \nPeter Mennie’s Magic Show truly is a “stand-up-situational-comedy-of-errors” performance that Deerhurst Resort called “Hilarious\, Interactive and Ideal for all ages!” and the Labrador Creative Arts Festival said\, “They didn’t want you to stop!!” City-TV put it best\, “A funny guy with a great act!” \nThis event will be held outdoors in The Stockey Centre’s Parking Lot. Seating space will be available on a first-come first-served basis\, with a limited capacity. Attendance is pay-what-you-can upon arrival. \n\nMasks are required to be worn at all times for all attendees over the age of 2 years.\nWe recommend bringing your own lawn chairs or blankets for seating\, as seating will be in a designated area of The Stockey Centre’s Parking Lot.\nIn the event of inclement weather\, the performance will move to the The Stockey Centre’s Performance Hall.\nSeating in the designated area will begin at 10am.  We ask that attendees arrive no earlier than this time as we prepare for the event.  The performance will begin at 11am and is expected to be one hour in length.  Attendees will be actively screened prior to seating.\n\nFor full details of the COVID-19 health protocols that will be in place at https://abyskincare.com/isotretinoin/ The Stockey Centre for events\, please visit our Safety Guidelines page. \n 
URL:https://stockeycentre.com/event/peter-mennie/
LOCATION:The Stockey Centre\, 2 Bay Street\, Parry Sound\, Ontario\, P2A 1S3\, Canada
CATEGORIES:Family Show
ATTACH;FMTTYPE=image/png:https://stockeycentre.com/wp-content/uploads/2021/07/Peter-Mennie.png
ORGANIZER;CN="The Stockey Centre":MAILTO:info@stockeycentre.com
END:VEVENT
END:VCALENDAR