BEGIN:VCALENDAR
VERSION:2.0
PRODID:-//The Stockey Centre - ECPv6.15.20//NONSGML v1.0//EN
CALSCALE:GREGORIAN
METHOD:PUBLISH
X-ORIGINAL-URL:https://stockeycentre.com
X-WR-CALDESC:Events for The Stockey Centre
REFRESH-INTERVAL;VALUE=DURATION:PT1H
X-Robots-Tag:noindex
X-PUBLISHED-TTL:PT1H
BEGIN:VTIMEZONE
TZID:America/Toronto
BEGIN:DAYLIGHT
TZOFFSETFROM:-0500
TZOFFSETTO:-0400
TZNAME:EDT
DTSTART:20230312T070000
END:DAYLIGHT
BEGIN:STANDARD
TZOFFSETFROM:-0400
TZOFFSETTO:-0500
TZNAME:EST
DTSTART:20231105T060000
END:STANDARD
BEGIN:DAYLIGHT
TZOFFSETFROM:-0500
TZOFFSETTO:-0400
TZNAME:EDT
DTSTART:20240310T070000
END:DAYLIGHT
BEGIN:STANDARD
TZOFFSETFROM:-0400
TZOFFSETTO:-0500
TZNAME:EST
DTSTART:20241103T060000
END:STANDARD
BEGIN:DAYLIGHT
TZOFFSETFROM:-0500
TZOFFSETTO:-0400
TZNAME:EDT
DTSTART:20250309T070000
END:DAYLIGHT
BEGIN:STANDARD
TZOFFSETFROM:-0400
TZOFFSETTO:-0500
TZNAME:EST
DTSTART:20251102T060000
END:STANDARD
END:VTIMEZONE
BEGIN:VEVENT
DTSTART;TZID=America/Toronto:20240217T140000
DTEND;TZID=America/Toronto:20240217T140000
DTSTAMP:20260422T131018
CREATED:20240208T220000Z
LAST-MODIFIED:20240208T200131Z
UID:6487-1708178400-1708178400@stockeycentre.com
SUMMARY:Free Family Film: Trolls Band Together
DESCRIPTION:Join us for this FREE Family Film on Saturday February 17th at 2pm! \n\n\n\nSeats are first come\, first served upon arrival. \n\n\n\nRated PG for some mild rude and suggestive humor. \n\n\n\nPoppy discovers that Branch was once part of the boy band ‘BroZone’ with his brothers\, Floyd\, John Dory\, Spruce and Clay. When Floyd is kidnapped\, Branch and Poppy embark on a journey to reunite his two other brothers and rescue Floyd.
URL:https://stockeycentre.com/event/free-family-film-trolls-band-together/
LOCATION:The Stockey Centre\, 2 Bay Street\, Parry Sound\, Ontario\, P2A 1S3\, Canada
CATEGORIES:Family Show,Film at the Stockey
ATTACH;FMTTYPE=image/webp:https://stockeycentre.com/wp-content/uploads/2024/02/trolls-band-together-trolls-band-together-np-web-banner-2___20103043163.webp
ORGANIZER;CN="The Stockey Centre":MAILTO:info@stockeycentre.com
END:VEVENT
END:VCALENDAR