BEGIN:VCALENDAR
VERSION:2.0
PRODID:-//The Stockey Centre - ECPv6.15.20//NONSGML v1.0//EN
CALSCALE:GREGORIAN
METHOD:PUBLISH
X-ORIGINAL-URL:https://stockeycentre.com
X-WR-CALDESC:Events for The Stockey Centre
REFRESH-INTERVAL;VALUE=DURATION:PT1H
X-Robots-Tag:noindex
X-PUBLISHED-TTL:PT1H
BEGIN:VTIMEZONE
TZID:America/Toronto
BEGIN:DAYLIGHT
TZOFFSETFROM:-0500
TZOFFSETTO:-0400
TZNAME:EDT
DTSTART:20210314T070000
END:DAYLIGHT
BEGIN:STANDARD
TZOFFSETFROM:-0400
TZOFFSETTO:-0500
TZNAME:EST
DTSTART:20211107T060000
END:STANDARD
BEGIN:DAYLIGHT
TZOFFSETFROM:-0500
TZOFFSETTO:-0400
TZNAME:EDT
DTSTART:20220313T070000
END:DAYLIGHT
BEGIN:STANDARD
TZOFFSETFROM:-0400
TZOFFSETTO:-0500
TZNAME:EST
DTSTART:20221106T060000
END:STANDARD
BEGIN:DAYLIGHT
TZOFFSETFROM:-0500
TZOFFSETTO:-0400
TZNAME:EDT
DTSTART:20230312T070000
END:DAYLIGHT
BEGIN:STANDARD
TZOFFSETFROM:-0400
TZOFFSETTO:-0500
TZNAME:EST
DTSTART:20231105T060000
END:STANDARD
END:VTIMEZONE
BEGIN:VEVENT
DTSTART;TZID=America/Toronto:20220717T193000
DTEND;TZID=America/Toronto:20220731T200000
DTSTAMP:20260424T163752
CREATED:20220716T145239Z
LAST-MODIFIED:20220716T145533Z
UID:4436-1658086200-1659297600@stockeycentre.com
SUMMARY:Festival of the Sound
DESCRIPTION:Join us for the 2022 season of the Festival of the Sound!  Classical\, Jazz\, Folk & Cruises throughout July 17th – July 31st. Visit festivalofthesound.ca for a full listing of events and for how to buy tickets! \n\n\n\nFOTS_Brochure-22_final-May-5Download
URL:https://stockeycentre.com/event/festival-of-the-sound-3/
LOCATION:Ontario
CATEGORIES:Festival of the Sound
ATTACH;FMTTYPE=image/jpeg:https://stockeycentre.com/wp-content/uploads/2018/04/festival-of-the-sound.jpg
END:VEVENT
BEGIN:VEVENT
DTSTART;TZID=America/Toronto:20220719T180000
DTEND;TZID=America/Toronto:20220719T193000
DTSTAMP:20260424T163752
CREATED:20220701T152400Z
LAST-MODIFIED:20220712T152840Z
UID:4725-1658253600-1658259000@stockeycentre.com
SUMMARY:Festival of the Sound's Bands on the Bay: Quatuor Despax and Friends
DESCRIPTION:Bring your family to this free concert on the waterfront deck featuring veritable musical sensations: the brothers and sisters of Quatuor Despax. \n\n\n\n\n\n\n\n\nQUATUOR DESPAX \n\n\n\nString Quartet: Cendrine Despax\, violin; Jean Despax\, violin; Maxime Despax\, viola; Valérie Despax\, cello. Formed in 2003 by four brothers and sisters in Gatineau\, Quatuor Despax regularly gives concerts in the national capital of Canada\, in the Outaouais and Montreal. They have performed at various festivals or concert series in Ontario and Quebec such as: the Westben Festival\, the Alexandria Festival\, the Gatineau Classic Tuesdays series\, the Mont-des-Arts Mont-St-Hilaire \, the Abitibi-Témiscamingue Classical Festival (Val d’Or)\, the Ponticello Concerts in Gatineau\, Music and Beyond (Ottawa)\, the Chamberfest City Series (Ottawa)\, the Luminato Festival (Toronto)\, the L’Art de la Music (Gatineau) and SweetWater Music Festival (Owen Sound). \n\n\n\nFriends: Graham Campbell\, guitar; James Campbell\, clarinet; David Jalbert\, piano  \n\n\n\nGraham Campbell: Described as a “gifted guitarist and composer” (The Whole Note)\, Graham Campbell is a versatile musician based in Toronto\, Canada. His experience in jazz\, pop\, folk\, world\, and chamber music has taken him to many major festivals across North America and Europe\, appearing with notable musicians such as jazz pianist Gene DiNovi\, genre-bending violinist Mark Fewer\, jazz vocalist/pianist Laila Biali\, and Brazilian singer/percussionist Aline Morales. His original works have been featured at festivals across Canada and Europe\, and many are featured on As You Near Me\, a collaboration with clarinetist and father James Campbell released in 2013 on Marquis Classics. His pop songs can be heard on House\, released in 2016 by art-pop band Words Around The Waist. \n\n\n\nJames Campbell\, Artistic Director\, Festival of the Sound: Dubbed “Canada’s premier clarinetist” by the Ottawa Citizen\, James Campbell has performed as soloist and chamber musician in over 35 countries with over 60 orchestras including the Boston Pops\, Montreal Symphony and the London Symphony. He has collaborated with Glenn Gould and Aaron Copland and toured with over 35 string quartets\, including the Guarneri\, Amadeus and Vermeer. Of his over 40 recordings\, the BBC and the Times of London rated his recording of the Brahms Clarinet Quintet as the best available and his CD Stolen Gems (Marquis Records) won a JUNO. He has been named Canada’s Artist of the Year\, awarded the Queen’s Gold and Diamond Jubilee Medal\, an Honourary Doctor of Law\, and the Order of Canada. James Campbell has been Artistic Director of the Festival of the Sound since 1985 and was Professor of Music at the famed Jacobs School of Music at Indiana University from 1988-2019 and continues to give masterclasses worldwide. \n\n\n\nDavid Jalbert: His solo recordings – of the Goldberg Variations\, the Shostakovich Preludes and Fugues\, of American\, French and Russian piano music – have all garnered international praise in venues ranging from Gramophone to France-Culture. An accomplished chamber musician\, he has collaborated with artists such as Nicola Benedetti\, Joel Quarrington\, Wonny Song and Yegor Dyachkov and is a member of Triple Forte (along with violinist Jasper Wood and cellist Denise Djokic). As a soloist\, he has also performed with major orchestras and conductors Yannick Nézet-Séguin\, Skitch Henderson\, Christoph Campestrini\, Bramwell Tovey and many more. A national and international prize-winner\, David Jalbert has won six Opus Awards\, was nominated four times for “Classical Album of the Year” at the Juno Awards and was the 2007 laureate of the prestigious Virginia Parker Prize of the Canada Council for the Arts. He holds degrees from the Juilliard School\, the Glenn Gould School\, Université de Montréal and Conservatoire de Musique du Québec\, and is now a Professor of Piano and the Head of the Piano Sector at the University of Ottawa\, as well as a faculty member at the Orford Music Academy.
URL:https://stockeycentre.com/event/festival-of-the-sounds-bands-on-the-bay-quatuor-despax-and-friends/
LOCATION:The Stockey Centre\, 2 Bay Street\, Parry Sound\, Ontario\, P2A 1S3\, Canada
CATEGORIES:Bands on the Bay,Festival of the Sound
ATTACH;FMTTYPE=image/jpeg:https://stockeycentre.com/wp-content/uploads/2022/07/400x400_Quatuor-Despax_photo-©-2014-Marc-Belair.jpg
END:VEVENT
BEGIN:VEVENT
DTSTART;TZID=America/Toronto:20220726T180000
DTEND;TZID=America/Toronto:20220726T193000
DTSTAMP:20260424T163752
CREATED:20220701T152900Z
LAST-MODIFIED:20220712T153304Z
UID:4733-1658858400-1658863800@stockeycentre.com
SUMMARY:Festival of the Sound's Bands on the Bay: The Fretless
DESCRIPTION:Four ferocious players\, masterful composition\, and a genre-bending sound — Juno award-winning The Fretless is a Canadian quartet that has firmly taken its place on the map to a progressive form of “trad”. Free-to-the-public on the scenic deck of The Stockey Centre\, this is a perfect family evening. \n\n\n\nA supergroup of celebrated solo artists\, The Fretless has been creating a singular and signature sound that dares to expand the idea of what a string music quartet can be—transforming fiddle tunes and folk melodies into intricate\, beautiful\, high-energy arrangements that have quickly gained a dedicated following and accolades from around the world. Within what appears to be a simple construct — two fiddles\, a viola\, and a cello — The Fretless has created a sound that is distinctly rich\, multi-layered\, and uniquely percussive. This tonal quality is pushing traditional music to new heights\, producing a completely fresh approach to Folk music. 
URL:https://stockeycentre.com/event/festival-of-the-sounds-bands-on-the-bay-the-fretless/
LOCATION:The Stockey Centre\, 2 Bay Street\, Parry Sound\, Ontario\, P2A 1S3\, Canada
CATEGORIES:Bands on the Bay,Festival of the Sound
ATTACH;FMTTYPE=image/jpeg:https://stockeycentre.com/wp-content/uploads/2022/07/event-200215-fretless-2048x1024-1.jpg
END:VEVENT
END:VCALENDAR