BEGIN:VCALENDAR
VERSION:2.0
PRODID:-//The Stockey Centre - ECPv6.15.20//NONSGML v1.0//EN
CALSCALE:GREGORIAN
METHOD:PUBLISH
X-WR-CALNAME:The Stockey Centre
X-ORIGINAL-URL:https://stockeycentre.com
X-WR-CALDESC:Events for The Stockey Centre
REFRESH-INTERVAL;VALUE=DURATION:PT1H
X-Robots-Tag:noindex
X-PUBLISHED-TTL:PT1H
BEGIN:VTIMEZONE
TZID:America/Toronto
BEGIN:DAYLIGHT
TZOFFSETFROM:-0500
TZOFFSETTO:-0400
TZNAME:EDT
DTSTART:20210314T070000
END:DAYLIGHT
BEGIN:STANDARD
TZOFFSETFROM:-0400
TZOFFSETTO:-0500
TZNAME:EST
DTSTART:20211107T060000
END:STANDARD
BEGIN:DAYLIGHT
TZOFFSETFROM:-0500
TZOFFSETTO:-0400
TZNAME:EDT
DTSTART:20220313T070000
END:DAYLIGHT
BEGIN:STANDARD
TZOFFSETFROM:-0400
TZOFFSETTO:-0500
TZNAME:EST
DTSTART:20221106T060000
END:STANDARD
BEGIN:DAYLIGHT
TZOFFSETFROM:-0500
TZOFFSETTO:-0400
TZNAME:EDT
DTSTART:20230312T070000
END:DAYLIGHT
BEGIN:STANDARD
TZOFFSETFROM:-0400
TZOFFSETTO:-0500
TZNAME:EST
DTSTART:20231105T060000
END:STANDARD
END:VTIMEZONE
BEGIN:VEVENT
DTSTART;TZID=America/Toronto:20220713T173000
DTEND;TZID=America/Toronto:20220715T190000
DTSTAMP:20260423T164306
CREATED:20220712T152553Z
LAST-MODIFIED:20220712T153444Z
UID:4306-1657733400-1657911600@stockeycentre.com
SUMMARY:The Third Annual Big Sound International Film Festival
DESCRIPTION:FEATURING THE WORLD PREMIER OF \n\n\n\nWICKENSBURG \n\n\n\nFRIDAY JULY 15TH AT 7PM \n\n\n\nFeaturing a Q&A with Director Richard Boddington \n\n\n\nFilmed in Parry Sound and the West Parry Sound Area \n\n\n\nStarring Denise Richards and Jensen Gering \n\n\n\nA young teen boy and his mother move to the small town of Wickensburg.  They soon discover that the town harbours a dark secret and it’s a race against time to save the town from an evil industrialist.  All the while being aided by the clues in a mystical book\, & a strange local girl who leads the boy on an amazing adventure.  \n\n\n\nFollowed by closing celebrations outside on the patio at the Stockey Centre with cast and crew! We encourage everyone to dress in their finest to celebrate this final event in this year’s film festival! \n\n\n\nFULL SCHEDULE: \n\n\n\nWednesday July 13th at 5:45pm – First We Eat \n\n\n\nFeaturing a Q&A with filmmaker Suzanne Crocker \n\n\n\nPutting food sovereignty to the test in the far North of Canada – filmmaker Suzanne Crocker (raised in Parry Sound)\, living just 300 km from the Arctic Circle\, removes absolutely all grocery store food from her house. For one year\, she feeds her family of five\, only food that can be hunted\, fished\, gathered\, grown or raised around her community of Dawson City\, Yukon on the traditional territory of the Tr’ondëk Hwëch’in. Add three skeptical teenagers\, one reluctant husband\, no salt\, no caffeine\, no sugar and -40 temperatures. Ultimately the story becomes a celebration of community and the surprising bounty of food that even a tiny community in the far North can provide. \n\n\n\n\n\n\n\nWednesday July 13th at 8:15pm – Savage Waters \n\n\n\nA spell-binding nautical adventure into the unknown. A 19th century treasure-hunter’s journal inspires a captivating journey to seek out and surf a mythical\, never-ridden wave in some of the most remote and dangerous waters of the Atlantic Ocean. For renowned skipper\, Matt Knight\, sailing to unpredictable and uncharted regions is impossible to resist.  \n\n\n\n\n\n\n\nThursday July 14th at 6:15pm – Short Films Mixer \n\n\n\nA selection of the festival’s best short films from around the world. A mix of comedy and drama. \n\n\n\nFeaturing:PhaseOld NorthNamidThe Red BondQueer Fish In God’s Waiting RoomFeeling Fine\n\n\n\n\n\n\n\nThursday July 14th at 8:00pm – Wildlife Documentaries \n\n\n\nThe Witness Is A Whale \n\n\n\nA detective story spanning 60 years and half the globe\, The Witness Is a Whale documents the uncovering of an illegal killing of whales by the Soviet Union and Japan in the 1960’s. Accompanied by descriptions of the successful recovery of many whale populations and our increasing scientific understanding of their importance in ocean ecosystems. \n\n\n\nGonarezhou: Return of the Rhino \n\n\n\nGonarezhou National Park\, Zimbabwe has twice lost its black rhino population due to human intervention. In 2021\, black rhino returned to the wilds of Gonarezhou. This is a story about hope\, about the relationship between people and wilderness and about evaluating the worth of a wild landscape. \n\n\n\n\n\n\n\nFriday July 15th at 2:30pm – Documentary Marathon \n\n\n\nAbove & Below \n\n\n\nTsherin Sherpa\, devoted Tibetan Buddhist artist\, trained by his father in the art of traditional Tibetan Buddhist painting\, moves to San Francisco from Kathmandu and reinvents himself. In doing so\, he skyrockets a career as a modern artist\, and launches the next wave in Tibetan contemporary art.  \n\n\n\nScience Friction \n\n\n\nThose TV documentaries you see\, and the science experts they feature? Did you know that producers often deceptively edit them and twist their words\, to make them say the opposite of what they actually said? Science Friction sets the record straight. \n\n\n\n\n\n\n\nFriday July 15th at 5:15pm – Conservation Films \n\n\n\nA must-see selection of award-winning conservations films from across the globe. \n\n\n\nFeaturing:Dipsas SpeaksPantaneiroOur Food TableShoreline SocialitesThe 100 Mile Jacket\n\n\n\n\n\n\n\nFriday July 15th at 7:00pm – The World Premiere of Wickensburg! \n\n\n\nSee the beginning of this page for further information on this portion of the film festival. \n\n\n\n\n\n\n\nTickets: $15 per film screening per person. \n\n\n\nBUY TICKETS ONLINE HERE \n\n\n\nTickets can also be purchased during our business hours of Wednesday to Saturday from 10am to 5pm by calling our Box Office at 705-746-4466 extension 205 or visiting us at 2 Bay Street\, Parry Sound. \n\n\n\n\n\n\n\nThe Big Sound International Film Festival is a three-day event that intertwines the spell-binding nature of Georgian Bay with the sophisticated talent of international filmmakers\, to create an unforgettable cinematic experience\, and a festival for films and filmmakers to advance\, and be recognized. \n\n\n\nHosted by The Stockey Centre in Parry Sound the venue overlooks the big sound of Georgian Bay\, where filmmakers will enjoy live screenings inside our state of the art theatre that draws audiences from around the globe. \n\n\n\nOrganized by filmmakers with filmmakers in mind\, Big Sound creates an atmosphere of collaboration on new and existing projects with like-minded artists\, entrepreneurs and experts from all areas of the film industry. It is a networking event with patio parties overlooking the water at sunset\, on a lake that is a rare jewel of freshwater beauty. Let blue skies\, and evening starlight soothe you while you build a network that can last a lifetime. \n\n\n\nJoin us for three days of celebration\, inspiration and collaboration where creativity thrives\, and talent turns vision into reality.
URL:https://stockeycentre.com/event/the-third-annual-big-sound-international-film-festival/
LOCATION:The Stockey Centre\, 2 Bay Street\, Parry Sound\, Ontario\, P2A 1S3\, Canada
CATEGORIES:Film Festival
ATTACH;FMTTYPE=image/jpeg:https://stockeycentre.com/wp-content/uploads/2020/02/BSIFF-Logo.jpg
ORGANIZER;CN="The Stockey Centre":MAILTO:info@stockeycentre.com
END:VEVENT
END:VCALENDAR