BEGIN:VCALENDAR
VERSION:2.0
PRODID:-//The Stockey Centre - ECPv6.15.20//NONSGML v1.0//EN
CALSCALE:GREGORIAN
METHOD:PUBLISH
X-ORIGINAL-URL:https://stockeycentre.com
X-WR-CALDESC:Events for The Stockey Centre
REFRESH-INTERVAL;VALUE=DURATION:PT1H
X-Robots-Tag:noindex
X-PUBLISHED-TTL:PT1H
BEGIN:VTIMEZONE
TZID:America/Toronto
BEGIN:DAYLIGHT
TZOFFSETFROM:-0500
TZOFFSETTO:-0400
TZNAME:EDT
DTSTART:20230312T070000
END:DAYLIGHT
BEGIN:STANDARD
TZOFFSETFROM:-0400
TZOFFSETTO:-0500
TZNAME:EST
DTSTART:20231105T060000
END:STANDARD
BEGIN:DAYLIGHT
TZOFFSETFROM:-0500
TZOFFSETTO:-0400
TZNAME:EDT
DTSTART:20240310T070000
END:DAYLIGHT
BEGIN:STANDARD
TZOFFSETFROM:-0400
TZOFFSETTO:-0500
TZNAME:EST
DTSTART:20241103T060000
END:STANDARD
BEGIN:DAYLIGHT
TZOFFSETFROM:-0500
TZOFFSETTO:-0400
TZNAME:EDT
DTSTART:20250309T070000
END:DAYLIGHT
BEGIN:STANDARD
TZOFFSETFROM:-0400
TZOFFSETTO:-0500
TZNAME:EST
DTSTART:20251102T060000
END:STANDARD
END:VTIMEZONE
BEGIN:VEVENT
DTSTART;TZID=America/Toronto:20240323T173000
DTEND;TZID=America/Toronto:20240323T173000
DTSTAMP:20260422T120333
CREATED:20240125T151406Z
LAST-MODIFIED:20240125T172959Z
UID:6436-1711215000-1711215000@stockeycentre.com
SUMMARY:Paddling Film Festival & Social
DESCRIPTION:A night of movie magic\, Kenton & Glenda’s gourmet popcorn\, Jan & Colleen’s desserts\, our almost famous silent auction and music by Whiskey Jack. All proceeds go towards making a splash at the future Parry Sound Pool\, the West Parry Sound Recreation and Cultural Centre. \n\n\n\nSocial & Silent Auction 5:30pm\, Showtime 7:00pm. \n\n\n\nTickets are $20 + HST for adults and $10 + HST for students. \n\n\n\nBUY TICKETS ONLINE HERE \n\n\n\nTickets can also be purchased during our business hours by calling our Box Office at 705-746-4466 extension 405 or visiting us at 2 Bay Street\, Parry Sound.
URL:https://stockeycentre.com/event/paddling-film-festival-social/
LOCATION:The Stockey Centre\, 2 Bay Street\, Parry Sound\, Ontario\, P2A 1S3\, Canada
CATEGORIES:Film Festival
ATTACH;FMTTYPE=image/png:https://stockeycentre.com/wp-content/uploads/2024/01/2024-Filmfest-Poster-2-1-1.png
END:VEVENT
END:VCALENDAR