BEGIN:VCALENDAR
VERSION:2.0
PRODID:-//The Stockey Centre - ECPv6.15.20//NONSGML v1.0//EN
CALSCALE:GREGORIAN
METHOD:PUBLISH
X-ORIGINAL-URL:https://stockeycentre.com
X-WR-CALDESC:Events for The Stockey Centre
REFRESH-INTERVAL;VALUE=DURATION:PT1H
X-Robots-Tag:noindex
X-PUBLISHED-TTL:PT1H
BEGIN:VTIMEZONE
TZID:America/Toronto
BEGIN:DAYLIGHT
TZOFFSETFROM:-0500
TZOFFSETTO:-0400
TZNAME:EDT
DTSTART:20230312T070000
END:DAYLIGHT
BEGIN:STANDARD
TZOFFSETFROM:-0400
TZOFFSETTO:-0500
TZNAME:EST
DTSTART:20231105T060000
END:STANDARD
BEGIN:DAYLIGHT
TZOFFSETFROM:-0500
TZOFFSETTO:-0400
TZNAME:EDT
DTSTART:20240310T070000
END:DAYLIGHT
BEGIN:STANDARD
TZOFFSETFROM:-0400
TZOFFSETTO:-0500
TZNAME:EST
DTSTART:20241103T060000
END:STANDARD
BEGIN:DAYLIGHT
TZOFFSETFROM:-0500
TZOFFSETTO:-0400
TZNAME:EDT
DTSTART:20250309T070000
END:DAYLIGHT
BEGIN:STANDARD
TZOFFSETFROM:-0400
TZOFFSETTO:-0500
TZNAME:EST
DTSTART:20251102T060000
END:STANDARD
END:VTIMEZONE
BEGIN:VEVENT
DTSTART;TZID=America/Toronto:20240823T190000
DTEND;TZID=America/Toronto:20240823T190000
DTSTAMP:20260422T044215
CREATED:20240809T170000Z
LAST-MODIFIED:20240810T151938Z
UID:7142-1724439600-1724439600@stockeycentre.com
SUMMARY:World Premiere of Return to Wickensburg: The Adventure Continues
DESCRIPTION:A Richard Boddington film presented by The Big Sound International Film Festival and The Stockey Centre. Filmed in Parry Sound! \n\n\n\nThis is a free event! Please reserve your free seat as tickets are required for this event (tickets are general seating – choosing your seat will be on a first come first served basis upon arrival to the event). The film will be followed by a Q&A with director Richard Boddington. \n\n\n\nMr. Hexenmeister has escaped from prison\, and once again threatens Wickensburg. It’s a race against time to find an ancient orb\, capable of destroying the entire town\, before it falls into the wrong hands. \n\n\n\n\n\n\n\n\nStarring Denise Richards\, Jensen Gering\, Catherine White\, and Julian Richings. \n\n\n\nRESERVE YOUR FREE TICKETS ONLINE HERE \n\n\n\nTickets can also be reserved during our business hours by calling our Box Office at 705-746-4466 extension 405 or visiting us at 2 Bay Street\, Parry Sound.
URL:https://stockeycentre.com/event/return-to-wickensburg/
LOCATION:The Stockey Centre\, 2 Bay Street\, Parry Sound\, Ontario\, P2A 1S3\, Canada
CATEGORIES:Film Festival
ATTACH;FMTTYPE=image/jpeg:https://stockeycentre.com/wp-content/uploads/2024/08/thumbnail_ReturnToWickensburg_KeyArt_3000x4500-copy-scaled.jpg
END:VEVENT
END:VCALENDAR