BEGIN:VCALENDAR
VERSION:2.0
PRODID:-//The Stockey Centre - ECPv6.15.20//NONSGML v1.0//EN
CALSCALE:GREGORIAN
METHOD:PUBLISH
X-ORIGINAL-URL:https://stockeycentre.com
X-WR-CALDESC:Events for The Stockey Centre
REFRESH-INTERVAL;VALUE=DURATION:PT1H
X-Robots-Tag:noindex
X-PUBLISHED-TTL:PT1H
BEGIN:VTIMEZONE
TZID:America/Toronto
BEGIN:DAYLIGHT
TZOFFSETFROM:-0500
TZOFFSETTO:-0400
TZNAME:EDT
DTSTART:20220313T070000
END:DAYLIGHT
BEGIN:STANDARD
TZOFFSETFROM:-0400
TZOFFSETTO:-0500
TZNAME:EST
DTSTART:20221106T060000
END:STANDARD
BEGIN:DAYLIGHT
TZOFFSETFROM:-0500
TZOFFSETTO:-0400
TZNAME:EDT
DTSTART:20230312T070000
END:DAYLIGHT
BEGIN:STANDARD
TZOFFSETFROM:-0400
TZOFFSETTO:-0500
TZNAME:EST
DTSTART:20231105T060000
END:STANDARD
BEGIN:DAYLIGHT
TZOFFSETFROM:-0500
TZOFFSETTO:-0400
TZNAME:EDT
DTSTART:20240310T070000
END:DAYLIGHT
BEGIN:STANDARD
TZOFFSETFROM:-0400
TZOFFSETTO:-0500
TZNAME:EST
DTSTART:20241103T060000
END:STANDARD
END:VTIMEZONE
BEGIN:VEVENT
DTSTART;TZID=America/Toronto:20231222T180000
DTEND;TZID=America/Toronto:20231222T193000
DTSTAMP:20260422T072422
CREATED:20231201T215543Z
LAST-MODIFIED:20231213T233929Z
UID:6286-1703268000-1703273400@stockeycentre.com
SUMMARY:Oshkinigig Film Viewing Party
DESCRIPTION:The Georgian Bay Anishinaabek Youth invite you to the Oshkinigig Film’s first public showing! The film showcases the participants and organizers sharing their experiences in constructing the Jiimaan (birchbark canoe). We welcome you to join us in celebrating Oshkinigig! \n\n\n\nRegistration is not required\, seats are available on a first come\, first serve basis.
URL:https://stockeycentre.com/event/oshkinigig-film-viewing-party/
LOCATION:The Stockey Centre\, 2 Bay Street\, Parry Sound\, Ontario\, P2A 1S3\, Canada
CATEGORIES:Film Screening
ATTACH;FMTTYPE=image/png:https://stockeycentre.com/wp-content/uploads/2023/12/Public-Poster-template-internal-use.png
END:VEVENT
END:VCALENDAR