BEGIN:VCALENDAR
VERSION:2.0
PRODID:-//The Stockey Centre - ECPv6.15.20//NONSGML v1.0//EN
CALSCALE:GREGORIAN
METHOD:PUBLISH
X-ORIGINAL-URL:https://stockeycentre.com
X-WR-CALDESC:Events for The Stockey Centre
REFRESH-INTERVAL;VALUE=DURATION:PT1H
X-Robots-Tag:noindex
X-PUBLISHED-TTL:PT1H
BEGIN:VTIMEZONE
TZID:America/Toronto
BEGIN:DAYLIGHT
TZOFFSETFROM:-0500
TZOFFSETTO:-0400
TZNAME:EDT
DTSTART:20170312T070000
END:DAYLIGHT
BEGIN:STANDARD
TZOFFSETFROM:-0400
TZOFFSETTO:-0500
TZNAME:EST
DTSTART:20171105T060000
END:STANDARD
BEGIN:DAYLIGHT
TZOFFSETFROM:-0500
TZOFFSETTO:-0400
TZNAME:EDT
DTSTART:20180311T070000
END:DAYLIGHT
BEGIN:STANDARD
TZOFFSETFROM:-0400
TZOFFSETTO:-0500
TZNAME:EST
DTSTART:20181104T060000
END:STANDARD
BEGIN:DAYLIGHT
TZOFFSETFROM:-0500
TZOFFSETTO:-0400
TZNAME:EDT
DTSTART:20190310T070000
END:DAYLIGHT
BEGIN:STANDARD
TZOFFSETFROM:-0400
TZOFFSETTO:-0500
TZNAME:EST
DTSTART:20191103T060000
END:STANDARD
END:VTIMEZONE
BEGIN:VEVENT
DTSTART;TZID=America/Toronto:20181117T180000
DTEND;TZID=America/Toronto:20181117T230000
DTSTAMP:20260421T072133
CREATED:20181016T204728Z
LAST-MODIFIED:20181115T214917Z
UID:1263-1542477600-1542495600@stockeycentre.com
SUMMARY:Rotary Foundation Gala - Joanne & Tom Higgins
DESCRIPTION:Rotarians have a tradition of supporting the Foundation by honoring others. This year the Parry Sound Club will be recognizing the exceptional community service of Joanne and Tom Higgins at a Gala Dinner to be held at the Charles W. Stockey Centre for the Performing Arts on Saturday November 17th\, 2018. \n\n\nThe Paul Harris Fellowship is named for Paul Harris\, who founded Rotary in 1905.  The Fellowship was established in his honor\, in 1957\, to recognize recipients as advocates of the Rotary Foundation’s goals. \nJoanne and Tom Higgins have worked to improve the quality of life in Parry Sound through their untiring efforts and selflessness and the Rotary Club of Parry Sound is inviting you to help us honor them. \nTickets to this event can be purchased by clicking the ‘Buy Tickets Online’ link below.
URL:https://stockeycentre.com/event/foundation-gala-joanne-and-tom-higgins/
LOCATION:The Stockey Centre\, 2 Bay Street\, Parry Sound\, Ontario\, P2A 1S3\, Canada
CATEGORIES:Gala
ATTACH;FMTTYPE=image/jpeg:https://stockeycentre.com/wp-content/uploads/2018/10/4728752a324caae9186e3a7d286e3fb3.jpg
ORGANIZER;CN="Rotary Club of Parry Sound":MAILTO:RotaryClubofParrySound@gmail.com
END:VEVENT
END:VCALENDAR