BEGIN:VCALENDAR
VERSION:2.0
PRODID:-//The Stockey Centre - ECPv6.15.20//NONSGML v1.0//EN
CALSCALE:GREGORIAN
METHOD:PUBLISH
X-ORIGINAL-URL:https://stockeycentre.com
X-WR-CALDESC:Events for The Stockey Centre
REFRESH-INTERVAL;VALUE=DURATION:PT1H
X-Robots-Tag:noindex
X-PUBLISHED-TTL:PT1H
BEGIN:VTIMEZONE
TZID:America/Toronto
BEGIN:DAYLIGHT
TZOFFSETFROM:-0500
TZOFFSETTO:-0400
TZNAME:EDT
DTSTART:20210314T070000
END:DAYLIGHT
BEGIN:STANDARD
TZOFFSETFROM:-0400
TZOFFSETTO:-0500
TZNAME:EST
DTSTART:20211107T060000
END:STANDARD
BEGIN:DAYLIGHT
TZOFFSETFROM:-0500
TZOFFSETTO:-0400
TZNAME:EDT
DTSTART:20220313T070000
END:DAYLIGHT
BEGIN:STANDARD
TZOFFSETFROM:-0400
TZOFFSETTO:-0500
TZNAME:EST
DTSTART:20221106T060000
END:STANDARD
BEGIN:DAYLIGHT
TZOFFSETFROM:-0500
TZOFFSETTO:-0400
TZNAME:EDT
DTSTART:20230312T070000
END:DAYLIGHT
BEGIN:STANDARD
TZOFFSETFROM:-0400
TZOFFSETTO:-0500
TZNAME:EST
DTSTART:20231105T060000
END:STANDARD
END:VTIMEZONE
BEGIN:VEVENT
DTSTART;TZID=America/Toronto:20220316T100000
DTEND;TZID=America/Toronto:20220319T170000
DTSTAMP:20260424T231718
CREATED:20220318T143502Z
LAST-MODIFIED:20220318T143503Z
UID:4115-1647424800-1647709200@stockeycentre.com
SUMMARY:March Break Activities
DESCRIPTION:March Break Activities with The Stockey Centre & Bobby Orr Hall of Fame! \n\n\n\nStart the week out with 2 for 1 admission to the Bobby Orr Hall of Fame from Wednesday March 16th to Saturday March 19th. The hours for the Hall of Fame are 10am to 5pm each day. You can pre-reserve your tickets at bobbyorrhalloffame.com\, and use the code BOHFBOGO for your 2 for 1 admission\, or come visit us directly at 2 Bay Street! \n\n\n\n\n\n\n\nWant to watch a movie in the comfort of your own home\, but need some treats to go along with it? The Stockey Centre has you covered with our March Break Movie Night Take-Home Kit! \n\n\n\nThe Movie Night Kit includes: \n\n\n\n2 bags of microwave popcorn4 Popcorn cups3 seasoning packagesAssorted candy bags2 Cookies with icing and sprinkles from Georgian Bay SweetsList of suggested Family Friendly MoviesA fun Family Movie Night BINGO card\n\n\n\nEach kit is $20/kit\, with a limit of one per household as only a limited amount are available. Kits can be picked up March 11 to 12 from 10am to 5pm and from March 16 to 19 from 10am to 5pm. \n\n\n\nYou can purchase your kit online here or call us at 705-746-4466 extension 205. \n\n\n\n\n\n\n\nWant to see a movie in The Stockey Centre’s Performance Hall! We’ve got you covered with two FREE family friendly films! Clifford the Big Red Dog on Wednesday March 16th at 2pm and Paw Patrol\, The Movie on Saturday March 19th at 11am. \n\n\n\nFollow the links below for more information on each film and to reserve your seats! \n\n\n\n\nClick here for more information on Clifford The Big Red Dog and to reserve your seats! \n\n\n\n\n\n\n\n\n\nClick here for more information on Paw Patrol\, The Movie and to reserve your seats! \n\n\n\n\n\n\n\n\nFor full details of the COVID-19 health protocols that will be in place at The Stockey Centre for these events\, please visit our Safety Guidelines page. Please note this page is regularly updated to reflect current Ontario Public Health Measures. Masks are required.
URL:https://stockeycentre.com/event/march-break-activities/
LOCATION:The Stockey Centre\, 2 Bay Street\, Parry Sound\, Ontario\, P2A 1S3\, Canada
CATEGORIES:March Break Event
ATTACH;FMTTYPE=image/png:https://stockeycentre.com/wp-content/uploads/2022/03/March-Break-Acitvities.png
END:VEVENT
BEGIN:VEVENT
DTSTART;TZID=America/Toronto:20220316T140000
DTEND;TZID=America/Toronto:20220316T140000
DTSTAMP:20260424T231718
CREATED:20220311T154150Z
LAST-MODIFIED:20220311T164117Z
UID:4076-1647439200-1647439200@stockeycentre.com
SUMMARY:Free Family Film: Clifford The Big Red Dog
DESCRIPTION:As middle schooler Emily Elizabeth struggles to fit in at home and at school\, she discovers a small red puppy who is destined to become her best friend from a magical animal rescuer. When Clifford becomes a gigantic red dog in her New York City apartment and attracts the attention of a genetics company who wish to supersize animals\, Emily and her clueless Uncle Casey have to fight the forces of greed as they go on the run across New York City and take a bite out of the Big Apple. Along the way\, Clifford affects the lives of everyone around him and teaches Emily and her uncle the true meaning of acceptance and unconditional love. Based on the beloved Scholastic character\, Clifford will teach the world how to love big. This film is rated PG. \n\n\n\nTickets are FREE as a part of our March Break Activities! However\, we ask that free tickets are reserved. \n\n\n\nFor full details of the COVID-19 health protocols that will be in place at The Stockey Centre for this event\, please visit our Safety Guidelines page. Please note this page is regularly updated to reflect current Ontario Public Health Measures. Masks are required. \n\n\n\nFor a full list of our March Break Activities\, please visit us here: https://stockeycentre.com/event/march-break-activities/ \n\n\n\nRESERVE YOUR FREE TICKETS ONLINE HERE
URL:https://stockeycentre.com/event/free-family-film-clifford-the-big-red-dog/
LOCATION:The Stockey Centre\, 2 Bay Street\, Parry Sound\, Ontario\, P2A 1S3\, Canada
CATEGORIES:March Break Event
ATTACH;FMTTYPE=image/jpeg:https://stockeycentre.com/wp-content/uploads/2022/03/maxresdefault.jpg
ORGANIZER;CN="The Stockey Centre":MAILTO:info@stockeycentre.com
END:VEVENT
BEGIN:VEVENT
DTSTART;TZID=America/Toronto:20220319T110000
DTEND;TZID=America/Toronto:20220319T110000
DTSTAMP:20260424T231718
CREATED:20220318T133549Z
LAST-MODIFIED:20220318T143507Z
UID:4079-1647687600-1647687600@stockeycentre.com
SUMMARY:Free Family Film: Paw Patrol\, The Movie
DESCRIPTION:When the PAW Patrol’s biggest rival\, Mayor Humdinger\, becomes Mayor of nearby Adventure City and starts wreaking havoc\, Ryder and everyone’s favorite heroic pups kick into high gear to face the challenge head-on. While one of the pups must face his past in Adventure City\, the team finds help from a new ally\, the savvy dachshund Liberty. Together\, armed with exciting new gadgets and gear\, the PAW Patrol fights to save the citizens of Adventure City and stop Mayor Humdinger from destroying the bustling metropolis. This film is rated G. \n\n\n\nTickets are FREE as a part of our March Break Activities! However\, we ask that free tickets are reserved. \n\n\n\nFor full details of the COVID-19 health protocols that will be in place at The Stockey Centre for this event\, please visit our Safety Guidelines page. Please note this page is regularly updated to reflect current Ontario Public Health Measures. Masks are required. \n\n\n\nFor a full list of our March Break Activities\, please visit us here: https://stockeycentre.com/event/march-break-activities/ \n\n\n\nRESERVE YOUR FREE TICKETS ONLINE HERE
URL:https://stockeycentre.com/event/free-family-film-paw-patrol-the-movie/
LOCATION:The Stockey Centre\, 2 Bay Street\, Parry Sound\, Ontario\, P2A 1S3\, Canada
CATEGORIES:March Break Event
ATTACH;FMTTYPE=image/jpeg:https://stockeycentre.com/wp-content/uploads/2022/03/071321-PawPatrolMovie-FeatureBanner-d-en.jpg
ORGANIZER;CN="The Stockey Centre":MAILTO:info@stockeycentre.com
END:VEVENT
END:VCALENDAR