BEGIN:VCALENDAR
VERSION:2.0
PRODID:-//The Stockey Centre - ECPv6.15.20//NONSGML v1.0//EN
CALSCALE:GREGORIAN
METHOD:PUBLISH
X-WR-CALNAME:The Stockey Centre
X-ORIGINAL-URL:https://stockeycentre.com
X-WR-CALDESC:Events for The Stockey Centre
REFRESH-INTERVAL;VALUE=DURATION:PT1H
X-Robots-Tag:noindex
X-PUBLISHED-TTL:PT1H
BEGIN:VTIMEZONE
TZID:America/Toronto
BEGIN:DAYLIGHT
TZOFFSETFROM:-0500
TZOFFSETTO:-0400
TZNAME:EDT
DTSTART:20220313T070000
END:DAYLIGHT
BEGIN:STANDARD
TZOFFSETFROM:-0400
TZOFFSETTO:-0500
TZNAME:EST
DTSTART:20221106T060000
END:STANDARD
BEGIN:DAYLIGHT
TZOFFSETFROM:-0500
TZOFFSETTO:-0400
TZNAME:EDT
DTSTART:20230312T070000
END:DAYLIGHT
BEGIN:STANDARD
TZOFFSETFROM:-0400
TZOFFSETTO:-0500
TZNAME:EST
DTSTART:20231105T060000
END:STANDARD
BEGIN:DAYLIGHT
TZOFFSETFROM:-0500
TZOFFSETTO:-0400
TZNAME:EDT
DTSTART:20240310T070000
END:DAYLIGHT
BEGIN:STANDARD
TZOFFSETFROM:-0400
TZOFFSETTO:-0500
TZNAME:EST
DTSTART:20241103T060000
END:STANDARD
END:VTIMEZONE
BEGIN:VEVENT
DTSTART;TZID=America/Toronto:20230311T140000
DTEND;TZID=America/Toronto:20230317T120000
DTSTAMP:20260424T053108
CREATED:20230214T182429Z
LAST-MODIFIED:20230313T140814Z
UID:5257-1678543200-1679054400@stockeycentre.com
SUMMARY:Free March Break Events & Activities
DESCRIPTION:In a partnership between The Charles W. Stockey Centre for the Performing Arts\, the Parry Sound Public Library\, and the Bobby Orr Community Centre\, all three locations will be giving out ballots to all attendees to fill out to be drawn to win a prize basket at the end of the March Break – you get one entry with each free event you attend at each of the three facilities! \n\n\n\nAt The Charles W. Stockey Centre for the Performing Arts (2 Bay Street\, Parry Sound)\, all events are free!: \n\n\n\n\nSaturday March 11th at 2pm: Free Family Film – Fireheart\n\nWe’ll be joined by members of the Parry Sound Fire Department following the film!\n\n\n\nSet in New York in 1930\, the film centers on Georgia Nolan\, a 16-year-old girl who hopes to become the world’s first female firefighter despite being told as a child by her ex-firefighter father Shawn that women are not allowed to. Shawn is requested by the mayor of New York to come out of retirement to head up a young team of firefighters to combat a serial arsonist\, who uses purple gas to hypnotize others and has resulted in the disappearances of other firefighters. Wishing to help\, Georgia disguises herself as a man named Joe and joins the team.\n\n\n\n\n\nMonday March 13th from 12pm to 3pm: Zoo To You\n\nZoo To You is a traveling educational event that is designed to both educate and entertain all ages and audiences. They provide a hands on interactive event with such animals as reptiles\, mammals and exotics. Their animals are well socialized\, tame\, friendly and handled on a daily basis. They offer the opportunity to see\, hold\, interact with the animals while learning fun facts about them!\n\n\n\n\n\nTuesday March 14th from 12:30pm to 2:30pm: Goats from Sky River Meadows\n\nSky River Meadows was founded in 2009 and is the home of the Sky River therapeutic herd of Nigerian Dwarf Goats. This March Break they’ll be brining a group of goats to visit us at The Stockey Centre!\n\n\n\n\n\nWednesday March 15th from 1pm to 2:30pm: Long and McQuade Instrument Petting Zoo\n\nInstead of goats and rabbits\, the Long and McQuade Instrument Petting Zoo includes instruments such as horns\, trumpets\, drums and guitars. With professional supervision\, aspiring musicians children will love this fully interactive\, hands-on program! No experience necessary.\n\n\n\n\n\nThursday March 16th from 10am to 5pm\, with a special science show at 1pm: Science North\n\nJoin us in our lobby for a Creative Coding Exhibit brought to us by Science North. At 1pm\, join us in the performance hall for the “Food and Flames” Science Show! \n\n\n\n\n\nFriday March 17th from 10am to 12pm: Bobby Orr Hall of Fame Activities!\n\nJoin us in our lobby for some fun activities lead by Bobby Orr Hall of Fame staff! While the Bobby Orr Hall of Fame itself is closed for renovations\, we’re certainly excited for this day of fun!\n\n\n\n\n\n\nAt The Parry Sound Public Library (29 Mary Street\, Parry Sound): \n\n\n\n\nFriday\, March 10th at 1 to 2 pm\n\nGelli Print Making w/ Rola! Ages: Teens *Registration Required*\n\n\n\n\n\nSaturday\, March 11th at 10:30 am to 1:30 pm\n\nDIY Craft Table in the Children’s Department\n\n\n\n\n\nTuesday\, March 14th at 11 am to 12 Noon\n\nMarble Run Fun! STEAM Activity  All Ages\n\n\n\n\n\nWednesday\, March 15th at 12 Noon\n\nGeorgian Bay Biosphere Reserve: ‘If Teeth Could Talk’ Ages: 4 – 12 yrs.\n\n\n\n\n\nThursday\, March 16th at 11 am to 12 Noon\n\nSock Puppets Ages: 2-12 yrs. *Registration Required*\n\n\n\n\n\nFriday\, March 17th at 11 am\n\nAuthor Visit: Pamela Moorhouse (Get Your Free Book!) Ages: 6 – 12 yrs.\n\n\n\n\n\nSaturday\, March 18th at 12 Noon to 1:30 pm\n\nFamily Game Day! (Free Pizza!) All Ages *Registration Required*\n\n\n\n\n\n\nClick here for more information on what’s happening at The Parry Sound Public Library for March Break and to register for their events! \n\n\n\nAt the Bobby Orr Community Centre (7 Mary Street\, Parry Sound): \n\n\n\n\nFree Public Skating (regular public skating rules apply\, CSA approved helmets strongly recommended):\n\nMonday March 13th from 1:30pm to 2:30pm\n\n\n\nTuesday March 14th from 10:30am to 11:30am\n\n\n\nWednesday March 15th from 10:30am to 11:30am\n\n\n\nThursday March 16th from 10:30am to 11:30am\n\n\n\nFriday March 17th from 1:30pm to 2:30pm\n\n\n\n\n\n\nClick here for more information on what’s happening at the Bobby Orr Community Centre for March Break!
URL:https://stockeycentre.com/event/march-break-2023/
LOCATION:The Stockey Centre\, 2 Bay Street\, Parry Sound\, Ontario\, P2A 1S3\, Canada
CATEGORIES:March Break Event
ATTACH;FMTTYPE=image/png:https://stockeycentre.com/wp-content/uploads/2023/02/March-Break-Ballot-Facebook-Cover.png
ORGANIZER;CN="The Stockey Centre":MAILTO:info@stockeycentre.com
END:VEVENT
END:VCALENDAR