BEGIN:VCALENDAR
VERSION:2.0
PRODID:-//The Stockey Centre - ECPv6.15.20//NONSGML v1.0//EN
CALSCALE:GREGORIAN
METHOD:PUBLISH
X-ORIGINAL-URL:https://stockeycentre.com
X-WR-CALDESC:Events for The Stockey Centre
REFRESH-INTERVAL;VALUE=DURATION:PT1H
X-Robots-Tag:noindex
X-PUBLISHED-TTL:PT1H
BEGIN:VTIMEZONE
TZID:America/Toronto
BEGIN:DAYLIGHT
TZOFFSETFROM:-0500
TZOFFSETTO:-0400
TZNAME:EDT
DTSTART:20180311T070000
END:DAYLIGHT
BEGIN:STANDARD
TZOFFSETFROM:-0400
TZOFFSETTO:-0500
TZNAME:EST
DTSTART:20181104T060000
END:STANDARD
BEGIN:DAYLIGHT
TZOFFSETFROM:-0500
TZOFFSETTO:-0400
TZNAME:EDT
DTSTART:20190310T070000
END:DAYLIGHT
BEGIN:STANDARD
TZOFFSETFROM:-0400
TZOFFSETTO:-0500
TZNAME:EST
DTSTART:20191103T060000
END:STANDARD
BEGIN:DAYLIGHT
TZOFFSETFROM:-0500
TZOFFSETTO:-0400
TZNAME:EDT
DTSTART:20200308T070000
END:DAYLIGHT
BEGIN:STANDARD
TZOFFSETFROM:-0400
TZOFFSETTO:-0500
TZNAME:EST
DTSTART:20201101T060000
END:STANDARD
END:VTIMEZONE
BEGIN:VEVENT
DTSTART;TZID=America/Toronto:20191231T210000
DTEND;TZID=America/Toronto:20191231T210000
DTSTAMP:20260423T181452
CREATED:20190912T170357Z
LAST-MODIFIED:20190916T153103Z
UID:2292-1577826000-1577826000@stockeycentre.com
SUMMARY:New Year's Eve Dance Party
DESCRIPTION:Dance the year away with the Sunny Slope Bootleggers!  \nDoors open at 8:00 pm\, the dance starts at 9:00 pm\, and everyone knows what happens at midnight. \nReserve your seat at one of the floor tables and your spot on the dance floor now. \nTables of 8 can be reserved for your group of friends when all the tickets are purchased at once. \nSnacks will be served\, and the bar is available all night long. \nThis is a 19+ event. Tickets are $39.95 + HST. \n 
URL:https://stockeycentre.com/event/new-years-eve-dance-party-2/
LOCATION:The Stockey Centre\, 2 Bay Street\, Parry Sound\, Ontario\, P2A 1S3\, Canada
CATEGORIES:Pub-Style Concert,Special Event
ATTACH;FMTTYPE=image/jpeg:https://stockeycentre.com/wp-content/uploads/2019/09/fireworks-3940446_1920.jpg
ORGANIZER;CN="The Stockey Centre":MAILTO:info@stockeycentre.com
END:VEVENT
END:VCALENDAR