BEGIN:VCALENDAR
VERSION:2.0
PRODID:-//The Stockey Centre - ECPv6.15.20//NONSGML v1.0//EN
CALSCALE:GREGORIAN
METHOD:PUBLISH
X-WR-CALNAME:The Stockey Centre
X-ORIGINAL-URL:https://stockeycentre.com
X-WR-CALDESC:Events for The Stockey Centre
REFRESH-INTERVAL;VALUE=DURATION:PT1H
X-Robots-Tag:noindex
X-PUBLISHED-TTL:PT1H
BEGIN:VTIMEZONE
TZID:America/Toronto
BEGIN:DAYLIGHT
TZOFFSETFROM:-0500
TZOFFSETTO:-0400
TZNAME:EDT
DTSTART:20210314T070000
END:DAYLIGHT
BEGIN:STANDARD
TZOFFSETFROM:-0400
TZOFFSETTO:-0500
TZNAME:EST
DTSTART:20211107T060000
END:STANDARD
BEGIN:DAYLIGHT
TZOFFSETFROM:-0500
TZOFFSETTO:-0400
TZNAME:EDT
DTSTART:20220313T070000
END:DAYLIGHT
BEGIN:STANDARD
TZOFFSETFROM:-0400
TZOFFSETTO:-0500
TZNAME:EST
DTSTART:20221106T060000
END:STANDARD
BEGIN:DAYLIGHT
TZOFFSETFROM:-0500
TZOFFSETTO:-0400
TZNAME:EDT
DTSTART:20230312T070000
END:DAYLIGHT
BEGIN:STANDARD
TZOFFSETFROM:-0400
TZOFFSETTO:-0500
TZNAME:EST
DTSTART:20231105T060000
END:STANDARD
END:VTIMEZONE
BEGIN:VEVENT
DTSTART;TZID=America/Toronto:20220707T200000
DTEND;TZID=America/Toronto:20220707T200000
DTSTAMP:20260421T213414
CREATED:20220707T202001Z
LAST-MODIFIED:20220707T224234Z
UID:2427-1657224000-1657224000@stockeycentre.com
SUMMARY:Mudmen
DESCRIPTION:Always entertaining and definitely unique\, The Mudmen are a blast of Celtic energy whose members are known to be characters both on and off the stage. First discovered in 1993 as “The Campbell Brothers”\, the band signed a deal with EMI Records and changed their name to “Mudmen” in 1998. With over 3000 shows to date\, The Mudmen Robby Campbell\, Sandy Campbell\, Jeremy Burton\, Mike Meacher and Dan Westenenk believe that nice guys can finish first. While enjoying life & what you do translates to all audiences. \nThis is a pub-style event\, tables of 8 can be reserved for your group of friends when all the tickets are purchased at once!  \nTickets are $29.95 + HST each. \nFor full details of the COVID-19 health protocols that will be in place at The Stockey Centre for this event\, please visit our Safety Guidelines page. Please note this page is regularly updated to reflect current Ontario Public Health Measures. \nBUY TICKETS ONLINE HERE
URL:https://stockeycentre.com/event/mudmen/
LOCATION:The Stockey Centre\, 2 Bay Street\, Parry Sound\, Ontario\, P2A 1S3\, Canada
CATEGORIES:Pub-Style Concert
ATTACH;FMTTYPE=image/jpeg:https://stockeycentre.com/wp-content/uploads/2022/07/new-band-charater-with-name.jpg
ORGANIZER;CN="The Stockey Centre":MAILTO:info@stockeycentre.com
END:VEVENT
END:VCALENDAR