BEGIN:VCALENDAR
VERSION:2.0
PRODID:-//The Stockey Centre - ECPv6.15.20//NONSGML v1.0//EN
CALSCALE:GREGORIAN
METHOD:PUBLISH
X-WR-CALNAME:The Stockey Centre
X-ORIGINAL-URL:https://stockeycentre.com
X-WR-CALDESC:Events for The Stockey Centre
REFRESH-INTERVAL;VALUE=DURATION:PT1H
X-Robots-Tag:noindex
X-PUBLISHED-TTL:PT1H
BEGIN:VTIMEZONE
TZID:America/Toronto
BEGIN:DAYLIGHT
TZOFFSETFROM:-0500
TZOFFSETTO:-0400
TZNAME:EDT
DTSTART:20230312T070000
END:DAYLIGHT
BEGIN:STANDARD
TZOFFSETFROM:-0400
TZOFFSETTO:-0500
TZNAME:EST
DTSTART:20231105T060000
END:STANDARD
BEGIN:DAYLIGHT
TZOFFSETFROM:-0500
TZOFFSETTO:-0400
TZNAME:EDT
DTSTART:20240310T070000
END:DAYLIGHT
BEGIN:STANDARD
TZOFFSETFROM:-0400
TZOFFSETTO:-0500
TZNAME:EST
DTSTART:20241103T060000
END:STANDARD
BEGIN:DAYLIGHT
TZOFFSETFROM:-0500
TZOFFSETTO:-0400
TZNAME:EDT
DTSTART:20250309T070000
END:DAYLIGHT
BEGIN:STANDARD
TZOFFSETFROM:-0400
TZOFFSETTO:-0500
TZNAME:EST
DTSTART:20251102T060000
END:STANDARD
END:VTIMEZONE
BEGIN:VEVENT
DTSTART;TZID=America/Toronto:20240511T120000
DTEND;TZID=America/Toronto:20240511T120000
DTSTAMP:20260422T113905
CREATED:20240411T150000Z
LAST-MODIFIED:20240410T185035Z
UID:6655-1715428800-1715428800@stockeycentre.com
SUMMARY:Community Centre Dance Recital
DESCRIPTION:Join us on Saturday\, May 11th\, for our highly anticipated dance recital featuring acro\, jazz\, and ballet performances by talented local youth. Your attendance not only celebrates their year-long dedication but also supports another vital Youth Initiative in our community\, The Drop. We look forward to seeing you there! Please note while classes occur at the Bobby Orr Community Centre\, the recital is occurring at The Charles W. Stockey Centre located at 2 Bay Street. \n\n\n\nTickets are: \n\n\n\n$17.95 + HST for adults. \n\n\n\n$7.95 + HST for children (12 and under). \n\n\n\nBUY TICKETS ONLINE HERE \n\n\n\nTickets can also be purchased during our business hours by calling our Box Office at 705-746-4466 extension 405 or visiting us at 2 Bay Street\, Parry Sound.
URL:https://stockeycentre.com/event/community-centre-dance-recital/
LOCATION:The Stockey Centre\, 2 Bay Street\, Parry Sound\, Ontario\, P2A 1S3\, Canada
CATEGORIES:Recital
ATTACH;FMTTYPE=image/png:https://stockeycentre.com/wp-content/uploads/2024/04/Dance-Recital-Logo-1.png
END:VEVENT
END:VCALENDAR