BEGIN:VCALENDAR
VERSION:2.0
PRODID:-//The Stockey Centre - ECPv6.15.20//NONSGML v1.0//EN
CALSCALE:GREGORIAN
METHOD:PUBLISH
X-ORIGINAL-URL:https://stockeycentre.com
X-WR-CALDESC:Events for The Stockey Centre
REFRESH-INTERVAL;VALUE=DURATION:PT1H
X-Robots-Tag:noindex
X-PUBLISHED-TTL:PT1H
BEGIN:VTIMEZONE
TZID:America/Toronto
BEGIN:DAYLIGHT
TZOFFSETFROM:-0500
TZOFFSETTO:-0400
TZNAME:EDT
DTSTART:20230312T070000
END:DAYLIGHT
BEGIN:STANDARD
TZOFFSETFROM:-0400
TZOFFSETTO:-0500
TZNAME:EST
DTSTART:20231105T060000
END:STANDARD
BEGIN:DAYLIGHT
TZOFFSETFROM:-0500
TZOFFSETTO:-0400
TZNAME:EDT
DTSTART:20240310T070000
END:DAYLIGHT
BEGIN:STANDARD
TZOFFSETFROM:-0400
TZOFFSETTO:-0500
TZNAME:EST
DTSTART:20241103T060000
END:STANDARD
BEGIN:DAYLIGHT
TZOFFSETFROM:-0500
TZOFFSETTO:-0400
TZNAME:EDT
DTSTART:20250309T070000
END:DAYLIGHT
BEGIN:STANDARD
TZOFFSETFROM:-0400
TZOFFSETTO:-0500
TZNAME:EST
DTSTART:20251102T060000
END:STANDARD
END:VTIMEZONE
BEGIN:VEVENT
DTSTART;TZID=America/Toronto:20241210T173000
DTEND;TZID=America/Toronto:20241210T173000
DTSTAMP:20260422T060253
CREATED:20241106T210321Z
LAST-MODIFIED:20241107T150224Z
UID:7344-1733851800-1733851800@stockeycentre.com
SUMMARY:Sound with Lisa
DESCRIPTION:Tickets to this date only are by donation. Please sign up directly to this Sound Bath by emailing Sound with Lisa at soundwithlisa@gmail.com. \n\n\n\n  \n\n\n\nWhat to bring to the sound bath… \n\n\n\nDress comfortably\, and please arrive a few minutes early to get settled. \n\n\n\nYou’ll be a restful state for the duration of the sound bath so it’s important to make yourself as comfortable as possible. \n\n\n\n  \n\n\n\nThings to bring: \n\n\n\nYoga mat \n\n\n\nPillow (s) and blanket \n\n\n\nWater \n\n\n\n  \n\n\n\nYou might also want to bring: \n\n\n\nCrystals to support you. The vibrations actually cleanse and charge crystals as well. If you have a bolster or if there is anything else that would make you feel more comfortable\, please bring it with you. The sound portion will be approximately 1 hour in addition to the opening and closing of the circle. \n\n\n\nNote – Participants are also able to bring anti gravitational chairs or recliners if preferred\, who are not able to lay on the floor. \n\n\n\n  \n\n\n\nPlease note\, by joining a space at this event\, you are providing us with permission to share your name and email address with Sound with Lisa. She will use your name and email address to share further information on the Sound Bath session with you.
URL:https://stockeycentre.com/event/sound-with-lisa-3/
LOCATION:The Stockey Centre\, 2 Bay Street\, Parry Sound\, Ontario\, P2A 1S3\, Canada
CATEGORIES:Sound Bath
ATTACH;FMTTYPE=image/jpeg:https://stockeycentre.com/wp-content/uploads/2024/11/Sound-Baths-Fall.jpg
END:VEVENT
BEGIN:VEVENT
DTSTART;TZID=America/Toronto:20241212T173000
DTEND;TZID=America/Toronto:20241212T173000
DTSTAMP:20260422T060254
CREATED:20241106T210552Z
LAST-MODIFIED:20241106T210553Z
UID:7345-1734024600-1734024600@stockeycentre.com
SUMMARY:Sound with Lisa
DESCRIPTION:Tickets are $40 each to each class for the Sound Bath only. Tickets are $60 each for Sound Bath and Acupuncture. \n\n\n\n  \n\n\n\nWhat to bring to the sound bath… \n\n\n\nDress comfortably\, and please arrive a few minutes early to get settled. \n\n\n\nYou’ll be a restful state for the duration of the sound bath so it’s important to make yourself as comfortable as possible. \n\n\n\n  \n\n\n\nThings to bring: \n\n\n\nYoga mat \n\n\n\nPillow (s) and blanket \n\n\n\nWater \n\n\n\n  \n\n\n\nYou might also want to bring: \n\n\n\nCrystals to support you. The vibrations actually cleanse and charge crystals as well. If you have a bolster or if there is anything else that would make you feel more comfortable\, please bring it with you. The sound portion will be approximately 1 hour in addition to the opening and closing of the circle. \n\n\n\nNote – Participants are also able to bring anti gravitational chairs or recliners if preferred\, who are not able to lay on the floor. \n\n\n\n  \n\n\n\nPlease note\, by purchasing a space at this event\, you are providing us with permission to share your name and email address with Sound with Lisa. She will use your name and email address to share further information on the Sound Bath session with you. \n\n\n\nBUY TICKETS ONLINE HERE \n\n\n\nTickets can also be purchased during our business hours by calling our Box Office at 705-746-4466 extension 405 or visiting us at 2 Bay Street\, Parry Sound.
URL:https://stockeycentre.com/event/sound-with-lisa-4/
LOCATION:The Stockey Centre\, 2 Bay Street\, Parry Sound\, Ontario\, P2A 1S3\, Canada
CATEGORIES:Sound Bath
ATTACH;FMTTYPE=image/jpeg:https://stockeycentre.com/wp-content/uploads/2024/11/Sound-Baths-Fall.jpg
END:VEVENT
END:VCALENDAR