BEGIN:VCALENDAR
VERSION:2.0
PRODID:-//The Stockey Centre - ECPv6.15.20//NONSGML v1.0//EN
CALSCALE:GREGORIAN
METHOD:PUBLISH
X-ORIGINAL-URL:https://stockeycentre.com
X-WR-CALDESC:Events for The Stockey Centre
REFRESH-INTERVAL;VALUE=DURATION:PT1H
X-Robots-Tag:noindex
X-PUBLISHED-TTL:PT1H
BEGIN:VTIMEZONE
TZID:America/Toronto
BEGIN:DAYLIGHT
TZOFFSETFROM:-0500
TZOFFSETTO:-0400
TZNAME:EDT
DTSTART:20210314T070000
END:DAYLIGHT
BEGIN:STANDARD
TZOFFSETFROM:-0400
TZOFFSETTO:-0500
TZNAME:EST
DTSTART:20211107T060000
END:STANDARD
BEGIN:DAYLIGHT
TZOFFSETFROM:-0500
TZOFFSETTO:-0400
TZNAME:EDT
DTSTART:20220313T070000
END:DAYLIGHT
BEGIN:STANDARD
TZOFFSETFROM:-0400
TZOFFSETTO:-0500
TZNAME:EST
DTSTART:20221106T060000
END:STANDARD
BEGIN:DAYLIGHT
TZOFFSETFROM:-0500
TZOFFSETTO:-0400
TZNAME:EDT
DTSTART:20230312T070000
END:DAYLIGHT
BEGIN:STANDARD
TZOFFSETFROM:-0400
TZOFFSETTO:-0500
TZNAME:EST
DTSTART:20231105T060000
END:STANDARD
END:VTIMEZONE
BEGIN:VEVENT
DTSTART;TZID=America/Toronto:20220308T190000
DTEND;TZID=America/Toronto:20220308T200000
DTSTAMP:20260425T214137
CREATED:20220226T154341Z
LAST-MODIFIED:20220325T143312Z
UID:4017-1646766000-1646769600@stockeycentre.com
SUMMARY:An Evening of Empowering Women
DESCRIPTION:Join us at The Stockey Centre on International Women’s Day for two FREE women-led Information Sessions. \n\n\n\n\n\n\n\n\nTips to be a Financially Confident Woman \n\n\n\nPresented by: Barb Kerr\, CFP®\, TEP\, CFDS\, RRC® \n\n\n\nCERTIFIED FINANCIAL PLANNER® \n\n\n\nIG Wealth Management \n\n\n\n\n\n\n\nLegal Tips for Women \n\n\n\nPresented by: Joyce W. Faria\, H.B.A.\, J.D. \n\n\n\nBarrister & Solicitor \n\n\n\nOldham Law Firm\, A Professional Corporation \n\n\n\n\n\n\n\nThis event will have Door Prizes! \n\n\n\nThis is a free event with reserved seating. For reserving tickets\, they are available online at tickets.stockeycentre.com\, by contacting our Box Office at 705-746-4466 extension 205\, or by visiting us at 2 Bay Street in Parry Sound. \n\n\n\nFor full details of the COVID-19 health protocols that will be in place at The Stockey Centre for this event\, please visit our Safety Guidelines page. Please note this page is regularly updated to reflect current Ontario Public Health Measures.
URL:https://stockeycentre.com/event/an-evening-of-empowering-women/
LOCATION:The Stockey Centre\, 2 Bay Street\, Parry Sound\, Ontario\, P2A 1S3\, Canada
CATEGORIES:Special Event
ATTACH;FMTTYPE=image/png:https://stockeycentre.com/wp-content/uploads/2022/02/IWD-Workshops.png
ORGANIZER;CN="The Stockey Centre":MAILTO:info@stockeycentre.com
END:VEVENT
END:VCALENDAR