BEGIN:VCALENDAR
VERSION:2.0
PRODID:-//The Stockey Centre - ECPv6.15.20//NONSGML v1.0//EN
CALSCALE:GREGORIAN
METHOD:PUBLISH
X-ORIGINAL-URL:https://stockeycentre.com
X-WR-CALDESC:Events for The Stockey Centre
REFRESH-INTERVAL;VALUE=DURATION:PT1H
X-Robots-Tag:noindex
X-PUBLISHED-TTL:PT1H
BEGIN:VTIMEZONE
TZID:America/Toronto
BEGIN:DAYLIGHT
TZOFFSETFROM:-0500
TZOFFSETTO:-0400
TZNAME:EDT
DTSTART:20210314T070000
END:DAYLIGHT
BEGIN:STANDARD
TZOFFSETFROM:-0400
TZOFFSETTO:-0500
TZNAME:EST
DTSTART:20211107T060000
END:STANDARD
BEGIN:DAYLIGHT
TZOFFSETFROM:-0500
TZOFFSETTO:-0400
TZNAME:EDT
DTSTART:20220313T070000
END:DAYLIGHT
BEGIN:STANDARD
TZOFFSETFROM:-0400
TZOFFSETTO:-0500
TZNAME:EST
DTSTART:20221106T060000
END:STANDARD
BEGIN:DAYLIGHT
TZOFFSETFROM:-0500
TZOFFSETTO:-0400
TZNAME:EDT
DTSTART:20230312T070000
END:DAYLIGHT
BEGIN:STANDARD
TZOFFSETFROM:-0400
TZOFFSETTO:-0500
TZNAME:EST
DTSTART:20231105T060000
END:STANDARD
END:VTIMEZONE
BEGIN:VEVENT
DTSTART;TZID=America/Toronto:20220609T183000
DTEND;TZID=America/Toronto:20220609T203000
DTSTAMP:20260425T171501
CREATED:20220601T175526Z
LAST-MODIFIED:20230215T200442Z
UID:4293-1654799400-1654806600@stockeycentre.com
SUMMARY:The Barb Kerr Women's Gala 2022
DESCRIPTION:Presented by The Charles W. Stockey Centre & Barb Kerr\, join us for the first Barb Kerr Women’s Gala: An Evening of Inspiration and Fashion on Thursday June 9th! \n\n\n\n\n\n\n\nFeaturing: \n\n\n\nYour Inspiration & Inner Confidence \n\n\n\nPresented by: \n\n\n\nBarb Kerr\, CFP®\, TEP\, CFDS\, RRC® \n\n\n\nCERTIFIED FINANCIAL PLANNER® \n\n\n\nIG Wealth Management \n\n\n\n\n\n\n\nGet Inspired with the New Home Trends \n\n\n\nPresented by: \n\n\n\nJoy Crookshank\, Interior Consultant \n\n\n\nRed Canoe Interiors \n\n\n\n\n\n\n\nSummer Fashion Show featuring fashions from 2 fabulous stores\,  \n\n\n\nAbove & Beyond Your Expectations & White Squall! \n\n\n\n\n\n\n\nAlso featuring Door Prizes\, Gift Bags\, hors d’oeuvres from Di Salvo’s Bella Cucina\, and a Silent Auction with Handbags for Hospice! \n\n\n\n\n\n\n\nThis is a flat floor event with tables that seat up to 8 people. Have a group of eight already? You can purchase a whole table at once! Tickets are $22 + HST each. \n\n\n\nCenterpieces florals by: \n\n\n\n\n\n\n\nBUY TICKETS ONLINE HERE \n\n\n\nTickets can also be purchased during our business hours of Wednesday to Saturday from 10am to 5pm by calling our Box Office at 705-746-4466 extension 205 or visiting us at 2 Bay Street\, Parry Sound.
URL:https://stockeycentre.com/event/the-barb-kerr-womens-gala/
LOCATION:The Stockey Centre\, 2 Bay Street\, Parry Sound\, Ontario\, P2A 1S3\, Canada
CATEGORIES:Special Event
ATTACH;FMTTYPE=image/png:https://stockeycentre.com/wp-content/uploads/2022/04/Barb-Kerrs-Womens-Gala.png
END:VEVENT
BEGIN:VEVENT
DTSTART;TZID=America/Toronto:20220611T110000
DTEND;TZID=America/Toronto:20220611T110000
DTSTAMP:20260425T171501
CREATED:20220610T184905Z
LAST-MODIFIED:20220610T184905Z
UID:4565-1654945200-1654945200@stockeycentre.com
SUMMARY:Olympic Homecoming Celebration
DESCRIPTION:Join The Town of Parry Sound and The Stockey Centre in celebrating our three hometown Olympians: Mark Ideson\, Megan Oldham and Graham Ritchie on June 11th at 11am at The Stockey Centre! The event will feature a celebration of our local 2022 Beijing Olympians\, followed by a question & answer session\, and meet and greet with the Olympians. This event is free and general admission. \n\n\n\nLater in the day\, join Canadian Tire’s Jumpstart program\, the Island Queen\, and Boston Pizza with their Annual Fundraiser Cruise\, featuring Megan Oldman\, Graham Ritchie\, and Mark Ideson. Please see the below poster for more details and pricing on this exciting event!
URL:https://stockeycentre.com/event/olympic-homecoming-celebration/
LOCATION:The Stockey Centre\, 2 Bay Street\, Parry Sound\, Ontario\, P2A 1S3\, Canada
CATEGORIES:Special Event
ATTACH;FMTTYPE=image/png:https://stockeycentre.com/wp-content/uploads/2022/06/olympic-homecoming.png
ORGANIZER;CN="The Stockey Centre":MAILTO:info@stockeycentre.com
END:VEVENT
BEGIN:VEVENT
DTSTART;TZID=America/Toronto:20220627T180000
DTEND;TZID=America/Toronto:20220627T180000
DTSTAMP:20260425T171501
CREATED:20220621T161921Z
LAST-MODIFIED:20220621T171918Z
UID:4630-1656352800-1656352800@stockeycentre.com
SUMMARY:Célébration de fin d'année avec Dayv Poulin et Mimi O'Bonsawin
DESCRIPTION:This is a free event presented by École publique aux Quatre-Vents on Monday June 27th at 6pm. \n\n\n\nFeaturing Dayv Poulin and Mimi O’Bonsawin. \n\n\n\nFor more information\, please contact 705-996-3223 or joanne.herouxfarrow@cspne.ca.
URL:https://stockeycentre.com/event/celebration-de-fin-dannee-avec-dayv-poulin-et-mimi-obonsawin/
LOCATION:The Stockey Centre\, 2 Bay Street\, Parry Sound\, Ontario\, P2A 1S3\, Canada
CATEGORIES:Special Event
ATTACH;FMTTYPE=image/jpeg:https://stockeycentre.com/wp-content/uploads/2022/06/CSPNE_2022_Célébration_ParrySound_externe_v3.jpg
END:VEVENT
END:VCALENDAR