BEGIN:VCALENDAR
VERSION:2.0
PRODID:-//The Stockey Centre - ECPv6.15.20//NONSGML v1.0//EN
CALSCALE:GREGORIAN
METHOD:PUBLISH
X-WR-CALNAME:The Stockey Centre
X-ORIGINAL-URL:https://stockeycentre.com
X-WR-CALDESC:Events for The Stockey Centre
REFRESH-INTERVAL;VALUE=DURATION:PT1H
X-Robots-Tag:noindex
X-PUBLISHED-TTL:PT1H
BEGIN:VTIMEZONE
TZID:America/Toronto
BEGIN:DAYLIGHT
TZOFFSETFROM:-0500
TZOFFSETTO:-0400
TZNAME:EDT
DTSTART:20210314T070000
END:DAYLIGHT
BEGIN:STANDARD
TZOFFSETFROM:-0400
TZOFFSETTO:-0500
TZNAME:EST
DTSTART:20211107T060000
END:STANDARD
BEGIN:DAYLIGHT
TZOFFSETFROM:-0500
TZOFFSETTO:-0400
TZNAME:EDT
DTSTART:20220313T070000
END:DAYLIGHT
BEGIN:STANDARD
TZOFFSETFROM:-0400
TZOFFSETTO:-0500
TZNAME:EST
DTSTART:20221106T060000
END:STANDARD
BEGIN:DAYLIGHT
TZOFFSETFROM:-0500
TZOFFSETTO:-0400
TZNAME:EDT
DTSTART:20230312T070000
END:DAYLIGHT
BEGIN:STANDARD
TZOFFSETFROM:-0400
TZOFFSETTO:-0500
TZNAME:EST
DTSTART:20231105T060000
END:STANDARD
END:VTIMEZONE
BEGIN:VEVENT
DTSTART;TZID=America/Toronto:20220701T110000
DTEND;TZID=America/Toronto:20220703T180000
DTSTAMP:20260425T154509
CREATED:20220629T141154Z
LAST-MODIFIED:20220629T141156Z
UID:4453-1656673200-1656871200@stockeycentre.com
SUMMARY:Three Day Ribfest & Canada Day Celebrations!
DESCRIPTION:Updated June 24th: \n\n\n\nJoin the Town of Parry Sound in Celebrating Canada Day with Ribfest\, free Live Performances\, KidsZone activities (Friday Only)\, a variety of food vendors\, and our Canada Day Fireworks Display (Friday Only)! \n\n\n\nAll activities will be held on the grounds of The Stockey Centre\, located at 2 Bay Street in Parry Sound. \n\n\n\nPlease note\, due to these events using our facility’s parking lot\, on-site parking spaces will not be available from July 1st to July 3rd. \n\n\n\n\n\n\n\nSchedule: \n\n\n\nFriday July 1st: \n\n\n\n11am to 9pm – Ribfest & Food Vendors Open11am to 4pm (Friday Only) – KidsZone activities including inflatables\, face painting\, balloon artists\, Zoo to You\, and Midway Games.1pm to 9pm – Beer GardenLive Performances:2pm to 3pm – The Onetimers (click here for more information)4pm to 6pm – Jessica Sevier (click here for more information)7pm to 9pm – The Sun Harmonic (click here for more information)Dusk (Friday Only) – Fireworks!!!\n\n\n\nSaturday July 2nd: \n\n\n\n11am to 9pm – Ribfest & Food Vendors Open1pm – 9pm – Beer GardenLive Performances:1pm to 3pm – Terry Little & The Rhythm Boys (click here for more information)4pm to 6pm – The DeuxDads (click here for more information)7pm to 9pm – The Station Duo (click here for more information)\n\n\n\nSunday July 3rd: \n\n\n\n11am to 6pm – Ribfest & Food Vendors Open1pm to 6pm – Beer GardenLive Performances:1pm to 2pm – The SOAR Rope Skipping Team (click here for more information)3pm to 5pm – Jason Meadowcroft (click here for more information)\n\n\n\n\n\n\n\nPresented by: \n\n\n\n\n\n\n\nSilver Sponsor: \n\n\n\n\n\n\n\nThank you to our sponsors for their generous support of this event!
URL:https://stockeycentre.com/event/canada-day-2022/
LOCATION:The Stockey Centre\, 2 Bay Street\, Parry Sound\, Ontario\, P2A 1S3\, Canada
CATEGORIES:Bands on the Bay,Special Event
ATTACH;FMTTYPE=image/jpeg:https://stockeycentre.com/wp-content/uploads/2022/05/chris-robert-sMAhpTz8P6w-unsplash-scaled.jpg
ORGANIZER;CN="The Stockey Centre":MAILTO:info@stockeycentre.com
END:VEVENT
BEGIN:VEVENT
DTSTART;TZID=America/Toronto:20220703T130000
DTEND;TZID=America/Toronto:20220703T140000
DTSTAMP:20260425T154509
CREATED:20220501T170900Z
LAST-MODIFIED:20220621T203659Z
UID:4594-1656853200-1656856800@stockeycentre.com
SUMMARY:The SOAR Rope Skipping Team
DESCRIPTION:Visit us here (https://stockeycentre.com/event/canada-day-2022/) for the full schedule for our Three Day Ribfest and Canada Day Celebrations from July 1st to 3rd! \n\n\n\nJoin us for this free live performance at The Stockey Centre! \n\n\n\n\nAbout the team: \n\n\n\nThe SOAR Rope Skipping Team is a competitive team that has proudly represented Parry Sound in events Regionally\, Provincially\, Nationally\, and Internationally over the past 10 years. Our 2021-2022 competitive team consists of 10 athletes with ages ranging from 7-26. The team is coached by 3 coaches who collectively have 77 years of experience within the sport of rope skipping.  \n\n\n\nsoarropeskipping.ca
URL:https://stockeycentre.com/event/the-soar-rope-skipping-team/
LOCATION:The Stockey Centre\, 2 Bay Street\, Parry Sound\, Ontario\, P2A 1S3\, Canada
CATEGORIES:Bands on the Bay,Special Event
ATTACH;FMTTYPE=image/jpeg:https://stockeycentre.com/wp-content/uploads/2022/06/SOAR.jpg
ORGANIZER;CN="The Stockey Centre":MAILTO:info@stockeycentre.com
END:VEVENT
END:VCALENDAR