BEGIN:VCALENDAR
VERSION:2.0
PRODID:-//The Stockey Centre - ECPv6.15.20//NONSGML v1.0//EN
CALSCALE:GREGORIAN
METHOD:PUBLISH
X-ORIGINAL-URL:https://stockeycentre.com
X-WR-CALDESC:Events for The Stockey Centre
REFRESH-INTERVAL;VALUE=DURATION:PT1H
X-Robots-Tag:noindex
X-PUBLISHED-TTL:PT1H
BEGIN:VTIMEZONE
TZID:America/Toronto
BEGIN:DAYLIGHT
TZOFFSETFROM:-0500
TZOFFSETTO:-0400
TZNAME:EDT
DTSTART:20220313T070000
END:DAYLIGHT
BEGIN:STANDARD
TZOFFSETFROM:-0400
TZOFFSETTO:-0500
TZNAME:EST
DTSTART:20221106T060000
END:STANDARD
BEGIN:DAYLIGHT
TZOFFSETFROM:-0500
TZOFFSETTO:-0400
TZNAME:EDT
DTSTART:20230312T070000
END:DAYLIGHT
BEGIN:STANDARD
TZOFFSETFROM:-0400
TZOFFSETTO:-0500
TZNAME:EST
DTSTART:20231105T060000
END:STANDARD
BEGIN:DAYLIGHT
TZOFFSETFROM:-0500
TZOFFSETTO:-0400
TZNAME:EDT
DTSTART:20240310T070000
END:DAYLIGHT
BEGIN:STANDARD
TZOFFSETFROM:-0400
TZOFFSETTO:-0500
TZNAME:EST
DTSTART:20241103T060000
END:STANDARD
END:VTIMEZONE
BEGIN:VEVENT
DTSTART;TZID=America/Toronto:20230503T183000
DTEND;TZID=America/Toronto:20230503T183000
DTSTAMP:20260423T015452
CREATED:20230215T200447Z
LAST-MODIFIED:20230412T201534Z
UID:5301-1683138600-1683138600@stockeycentre.com
SUMMARY:The Barb Kerr Women's Gala 2023
DESCRIPTION:Presented by The Charles W. Stockey Centre & Barb Kerr\,  \n\n\n\njoin us for the second Barb Kerr Women’s Gala: An Evening of Motivation and Fashion  \n\n\n\non Wednesday May 3rd! \n\n\n\nFeaturing:  \n\n\n\n\n\n\n\nEmpowering Your Confidence \n\n\n\nPresented by: \n\n\n\nBarb Kerr\, CFP®\, TEP\, CFDS\, RRC® \n\n\n\nCERTIFIED FINANCIAL PLANNER® \n\n\n\nIG Wealth Management \n\n\n\n\n\n\n\nTips for Preparing Your Home to List \n\n\n\nPresented by: \n\n\n\nNicole Boyd\, Broker \n\n\n\nRoyal LePage Team Advantage \n\n\n\n\n\n\n\nA Fashion Show featuring fashions from 2 fabulous stores: \n\n\n\nAbove & Beyond Your Expectations and Moon & Heart! \n\n\n\n\n\n\n\nAlso featuring a tasting with Legend Spirits Company\, door prizes\, gift bags\, hors d’oeuvres\, and a silent auction with Handbags for Hospice! \n\n\n\nWith a special appearance by the Acapella Group\, Little Big Sound! \n\n\n\n\n\n\n\nThis is a flat floor event with tables that seat up to 8 people. Have a group of eight already? You can purchase a whole table at once! Tickets are $25 each. \n\n\n\nTickets go on sale Saturday April 1st at 11am. \n\n\n\nBUY TICKETS ONLINE HERE \n\n\n\nTickets can also be purchased during our business hours by calling our Box Office at 705-746-4466 extension 405 or visiting us at 2 Bay Street\, Parry Sound.
URL:https://stockeycentre.com/event/the-barb-kerr-womens-gala-2023/
LOCATION:The Stockey Centre\, 2 Bay Street\, Parry Sound\, Ontario\, P2A 1S3\, Canada
CATEGORIES:Special Event
ATTACH;FMTTYPE=image/png:https://stockeycentre.com/wp-content/uploads/2023/03/Barb-Kerrs-Womens-Gala.png
ORGANIZER;CN="The Stockey Centre":MAILTO:info@stockeycentre.com
END:VEVENT
BEGIN:VEVENT
DTSTART;TZID=America/Toronto:20230518T140000
DTEND;TZID=America/Toronto:20230518T140000
DTSTAMP:20260423T015452
CREATED:20230504T151349Z
LAST-MODIFIED:20230504T151541Z
UID:5516-1684418400-1684418400@stockeycentre.com
SUMMARY:Strategic Plan Focus Group Sessions
DESCRIPTION:Join us at the Stockey Centre and ensure your voice is heard while we work to update our Strategic Plan.\n\n\n\nWe want your feedback! Join us in making a difference in our community. \n\n\n\nWhen: Thursday May 18 \n\n\n\nWhere: Prelude Room\, The Stockey Centre \n\n\n\nFocus Group Sessions \n\n\n\n2:00pm Business Community \n\n\n\n4:00pm Community Members \n\n\n\nRSVP: dthompson@parrysound.ca
URL:https://stockeycentre.com/event/strategic-plan-focus-group-sessions/
LOCATION:The Stockey Centre\, 2 Bay Street\, Parry Sound\, Ontario\, P2A 1S3\, Canada
CATEGORIES:Special Event
ATTACH;FMTTYPE=image/jpeg:https://stockeycentre.com/wp-content/uploads/2023/05/344772001_1288899328714754_2399777478090166975_n.jpg
END:VEVENT
END:VCALENDAR