BEGIN:VCALENDAR
VERSION:2.0
PRODID:-//The Stockey Centre - ECPv6.15.20//NONSGML v1.0//EN
CALSCALE:GREGORIAN
METHOD:PUBLISH
X-WR-CALNAME:The Stockey Centre
X-ORIGINAL-URL:https://stockeycentre.com
X-WR-CALDESC:Events for The Stockey Centre
REFRESH-INTERVAL;VALUE=DURATION:PT1H
X-Robots-Tag:noindex
X-PUBLISHED-TTL:PT1H
BEGIN:VTIMEZONE
TZID:America/Toronto
BEGIN:DAYLIGHT
TZOFFSETFROM:-0500
TZOFFSETTO:-0400
TZNAME:EDT
DTSTART:20220313T070000
END:DAYLIGHT
BEGIN:STANDARD
TZOFFSETFROM:-0400
TZOFFSETTO:-0500
TZNAME:EST
DTSTART:20221106T060000
END:STANDARD
BEGIN:DAYLIGHT
TZOFFSETFROM:-0500
TZOFFSETTO:-0400
TZNAME:EDT
DTSTART:20230312T070000
END:DAYLIGHT
BEGIN:STANDARD
TZOFFSETFROM:-0400
TZOFFSETTO:-0500
TZNAME:EST
DTSTART:20231105T060000
END:STANDARD
BEGIN:DAYLIGHT
TZOFFSETFROM:-0500
TZOFFSETTO:-0400
TZNAME:EDT
DTSTART:20240310T070000
END:DAYLIGHT
BEGIN:STANDARD
TZOFFSETFROM:-0400
TZOFFSETTO:-0500
TZNAME:EST
DTSTART:20241103T060000
END:STANDARD
END:VTIMEZONE
BEGIN:VEVENT
DTSTART;TZID=America/Toronto:20231101T090000
DTEND;TZID=America/Toronto:20231101T120000
DTSTAMP:20260422T174149
CREATED:20231027T193804Z
LAST-MODIFIED:20231027T193805Z
UID:6173-1698829200-1698840000@stockeycentre.com
SUMMARY:Regional Meeting on the Formation of a UNESCO Geopark for Georgian Bay
DESCRIPTION:
URL:https://stockeycentre.com/event/geopark/
LOCATION:The Stockey Centre\, 2 Bay Street\, Parry Sound\, Ontario\, P2A 1S3\, Canada
CATEGORIES:Special Event
ATTACH;FMTTYPE=image/jpeg:https://stockeycentre.com/wp-content/uploads/2023/10/Stockey-Centre-Geopark-invite-FINAL2.jpg
END:VEVENT
BEGIN:VEVENT
DTSTART;TZID=America/Toronto:20231117T180000
DTEND;TZID=America/Toronto:20231117T180000
DTSTAMP:20260422T174149
CREATED:20230927T180000Z
LAST-MODIFIED:20231019T172702Z
UID:6037-1700244000-1700244000@stockeycentre.com
SUMMARY:The Stockey Centre with the Georgian Bay Biosphere presents Girls Nite Out (18+)
DESCRIPTION:The Stockey Centre with the Georgian Bay Biosphere presents Girls Nite Out \n\n\n\nGirls Nite Out is an all female\, all funny stand-up and improv comedy ensemble featuring CBC darlings\, Canadian Comedy Award Winners and Second City alum led by Jennine Profeta. Join us for this special Girls Nite Out that includes some audience participation and lots of laughter! \n\n\n\nThis is a pub-style event\, tables of 8 can be reserved for your group of friends when all the tickets are purchased at once! Tickets are $69.95 + HST each. \n\n\n\nThis is an 18+ event. \n\n\n\nSchedule of events for the evening: \n\n\n\n6:00pm – Cocktail Hour with a cash bar with tarot and fortune readings with Rosemary Reid. The Georgian Bay Biosphere will have booths available in our lobby. Booths will have event merch such as Lost Meadows Mead\, unique creations by Tracy Cates of Northwinds Pottery\, and an exciting silent auction! All proceeds from the auction support The Georgian Bay Biosphere! \n\n\n\n7:30pm – Event begins in the Performance Hall with a Magic Show with Rosemary Reid \n\n\n\n7:50pm – Stand Up with Elvira Kurt \n\n\n\n8:05pm – Improv with Elvira Kurt \n\n\n\n8:30pm – Intermission \n\n\n\n8:50pm – Talk Show with Elvira Kurt \n\n\n\nBUY TICKETS ONLINE HERE \n\n\n\nTickets can also be purchased during our business hours by calling our Box Office at 705-746-4466 extension 405 or visiting us at 2 Bay Street\, Parry Sound. \n\n\n\nAnd don’t miss the Parry Sound Girlfriend’s Weekend happening from Friday November 17th to Sunday November 19th! More info here: downtownparrysound.ca/event/girlfriends-weekend-2023
URL:https://stockeycentre.com/event/girls-nite-out/
LOCATION:The Stockey Centre\, 2 Bay Street\, Parry Sound\, Ontario\, P2A 1S3\, Canada
CATEGORIES:Special Event
ATTACH;FMTTYPE=image/jpeg:https://stockeycentre.com/wp-content/uploads/2023/09/GirlsNiteOutLogo.jpg
ORGANIZER;CN="The Stockey Centre":MAILTO:info@stockeycentre.com
END:VEVENT
END:VCALENDAR