BEGIN:VCALENDAR
VERSION:2.0
PRODID:-//The Stockey Centre - ECPv6.15.20//NONSGML v1.0//EN
CALSCALE:GREGORIAN
METHOD:PUBLISH
X-WR-CALNAME:The Stockey Centre
X-ORIGINAL-URL:https://stockeycentre.com
X-WR-CALDESC:Events for The Stockey Centre
REFRESH-INTERVAL;VALUE=DURATION:PT1H
X-Robots-Tag:noindex
X-PUBLISHED-TTL:PT1H
BEGIN:VTIMEZONE
TZID:America/Toronto
BEGIN:DAYLIGHT
TZOFFSETFROM:-0500
TZOFFSETTO:-0400
TZNAME:EDT
DTSTART:20220313T070000
END:DAYLIGHT
BEGIN:STANDARD
TZOFFSETFROM:-0400
TZOFFSETTO:-0500
TZNAME:EST
DTSTART:20221106T060000
END:STANDARD
BEGIN:DAYLIGHT
TZOFFSETFROM:-0500
TZOFFSETTO:-0400
TZNAME:EDT
DTSTART:20230312T070000
END:DAYLIGHT
BEGIN:STANDARD
TZOFFSETFROM:-0400
TZOFFSETTO:-0500
TZNAME:EST
DTSTART:20231105T060000
END:STANDARD
BEGIN:DAYLIGHT
TZOFFSETFROM:-0500
TZOFFSETTO:-0400
TZNAME:EDT
DTSTART:20240310T070000
END:DAYLIGHT
BEGIN:STANDARD
TZOFFSETFROM:-0400
TZOFFSETTO:-0500
TZNAME:EST
DTSTART:20241103T060000
END:STANDARD
END:VTIMEZONE
BEGIN:VEVENT
DTSTART;TZID=America/Toronto:20231217T130000
DTEND;TZID=America/Toronto:20231217T160000
DTSTAMP:20260422T160512
CREATED:20231102T175753Z
LAST-MODIFIED:20231201T183834Z
UID:6212-1702818000-1702828800@stockeycentre.com
SUMMARY:Winter Sound Waves
DESCRIPTION:Community Making Music for the Community \n\n\n\nIn support of The West Parry Sound Recreation and Cultural Centre \n\n\n\nArtistic Director: Stephen Maule \n\n\n\nThis first annual event is an opportunity to build enthusiasm and share accurate information about the new Recreation and Cultural Centre and raise funds in a seasonal\, family-friendly manner. \n\n\n\nThe West Parry Sound musical community is gathering to perform together. Participants include the Georgian Bay Winds\, The Parry Sound Singers\, Parry Sound High School Music Department\, students from several elementary schools\, and Cameleon Jazz. Special guests include Carolyn Maule and Russell Braun as well as James and Graham Campbell. Family-friendly activities include carol singing\, photos with Santa\, the magician Deception by Declan\, crafts\, and refreshments. Additional information can be found on www.letsmakeasplash.ca. \n\n\n\nTickets go on sale to the public at 11am on Friday November 3rd. \n\n\n\nIndividual tickets are $40 each (available online\, in-person\, and over the phone)\, families of four are $60 each (must purchase four tickets\, only available in-person and over the phone) with $5 for every additional child to a family pass (must purchase a minimum of four tickets\, only available in-person and over the phone). \n\n\n\nBUY TICKETS ONLINE HERE \n\n\n\nTickets can also be purchased during our business hours by calling our Box Office at 705-746-4466 extension 405 or visiting us at 2 Bay Street\, Parry Sound.
URL:https://stockeycentre.com/event/winter-sound-waves/
LOCATION:The Stockey Centre\, 2 Bay Street\, Parry Sound\, Ontario\, P2A 1S3\, Canada
CATEGORIES:Special Event
ATTACH;FMTTYPE=image/png:https://stockeycentre.com/wp-content/uploads/2023/11/Winter-Sound-Waves_poster_FINAL_Corrected-1-1.png
END:VEVENT
END:VCALENDAR