BEGIN:VCALENDAR
VERSION:2.0
PRODID:-//The Stockey Centre - ECPv6.15.20//NONSGML v1.0//EN
CALSCALE:GREGORIAN
METHOD:PUBLISH
X-WR-CALNAME:The Stockey Centre
X-ORIGINAL-URL:https://stockeycentre.com
X-WR-CALDESC:Events for The Stockey Centre
REFRESH-INTERVAL;VALUE=DURATION:PT1H
X-Robots-Tag:noindex
X-PUBLISHED-TTL:PT1H
BEGIN:VTIMEZONE
TZID:America/Toronto
BEGIN:DAYLIGHT
TZOFFSETFROM:-0500
TZOFFSETTO:-0400
TZNAME:EDT
DTSTART:20230312T070000
END:DAYLIGHT
BEGIN:STANDARD
TZOFFSETFROM:-0400
TZOFFSETTO:-0500
TZNAME:EST
DTSTART:20231105T060000
END:STANDARD
BEGIN:DAYLIGHT
TZOFFSETFROM:-0500
TZOFFSETTO:-0400
TZNAME:EDT
DTSTART:20240310T070000
END:DAYLIGHT
BEGIN:STANDARD
TZOFFSETFROM:-0400
TZOFFSETTO:-0500
TZNAME:EST
DTSTART:20241103T060000
END:STANDARD
BEGIN:DAYLIGHT
TZOFFSETFROM:-0500
TZOFFSETTO:-0400
TZNAME:EDT
DTSTART:20250309T070000
END:DAYLIGHT
BEGIN:STANDARD
TZOFFSETFROM:-0400
TZOFFSETTO:-0500
TZNAME:EST
DTSTART:20251102T060000
END:STANDARD
END:VTIMEZONE
BEGIN:VEVENT
DTSTART;TZID=America/Toronto:20240509T183000
DTEND;TZID=America/Toronto:20240509T183000
DTSTAMP:20260422T083706
CREATED:20240308T160000Z
LAST-MODIFIED:20240322T194555Z
UID:6368-1715279400-1715279400@stockeycentre.com
SUMMARY:THE BARB KERR WOMEN’S GALA 2024
DESCRIPTION:Presented by The Charles W. Stockey Centre\, join us for the third annual Barb Kerr Women’s Gala\, presented in partnership with: \n\n\n\n\n\n\n\n\n\nFeaturing: \n\n\n\nSHOW UP CONFIDENT  \n\n\n\nHeart And Mind\, Head To Toe \n\n\n\nPresented by: \n\n\n\nMichele Charles Gustafson \n\n\n\nBComm(Honours)\, CIC\, PLC \n\n\n\nMichele Charles Gustafson is a strategic marketing consultant turned award-winning Certified Image Consultant\, Certified Master Life Coach\, Amazon Best-Selling Author and international success mentor. Not your typical stylist\, she is the creator of Hue And Style® – a transformational experience that is more than just fashion styling. Inside her mentorship programs\, she teaches principled entrepreneurs\, professionals\, and community influencers to use the art\, science & psychology of self-confidence and self-presentation to transform every way they show up into a personal brand-defining\, success-attracting\, leadership-enhancing\, joy-producing superpower. Find her at hueandstyle.com. \n\n\n\n\n\n\n\n\n& \n\n\n\nEmpowered Clarity \n\n\n\nPresented by: \n\n\n\nBarb Kerr\, CFP®\, TEP\, CFDS\, RRC® \n\n\n\nCERTIFIED FINANCIAL PLANNER® \n\n\n\nIG Wealth Management \n\n\n\n\n\n\n\nA Fashion Show featuring fashions from 3 fabulous stores: Above & Beyond Your Expectations\, Moon & Heart\, and Whitesquall! \n\n\n\nAlso featuring photos with Fun Cube Photo Booth\, a live painting with Jessica Vergeer of Jessica Vergeer Studios\, a tasting with Legend Spirits Company\, door prizes\, gift bags\, hors d’oeuvres\, and a silent auction with Handbags for Hospice! \n\n\n\nThis is a flat floor event with tables that seat up to 8 people. Have a group of eight already? You can purchase a whole table at once! Tickets are $35 each.  \n\n\n\nDress in your finest! \n\n\n\nBUY TICKETS ONLINE HERE \n\n\n\nTickets can also be purchased during our business hours by calling our Box Office at 705-746-4466 extension 405 or visiting us at 2 Bay Street\, Parry Sound.
URL:https://stockeycentre.com/event/the-barb-kerr-womens-gala-2024/
LOCATION:The Stockey Centre\, 2 Bay Street\, Parry Sound\, Ontario\, P2A 1S3\, Canada
CATEGORIES:Special Event
ATTACH;FMTTYPE=image/png:https://stockeycentre.com/wp-content/uploads/2024/03/Banner.png
ORGANIZER;CN="The Stockey Centre":MAILTO:info@stockeycentre.com
END:VEVENT
END:VCALENDAR