BEGIN:VCALENDAR
VERSION:2.0
PRODID:-//The Stockey Centre - ECPv6.15.20//NONSGML v1.0//EN
CALSCALE:GREGORIAN
METHOD:PUBLISH
X-WR-CALNAME:The Stockey Centre
X-ORIGINAL-URL:https://stockeycentre.com
X-WR-CALDESC:Events for The Stockey Centre
REFRESH-INTERVAL;VALUE=DURATION:PT1H
X-Robots-Tag:noindex
X-PUBLISHED-TTL:PT1H
BEGIN:VTIMEZONE
TZID:America/Toronto
BEGIN:DAYLIGHT
TZOFFSETFROM:-0500
TZOFFSETTO:-0400
TZNAME:EDT
DTSTART:20210314T070000
END:DAYLIGHT
BEGIN:STANDARD
TZOFFSETFROM:-0400
TZOFFSETTO:-0500
TZNAME:EST
DTSTART:20211107T060000
END:STANDARD
BEGIN:DAYLIGHT
TZOFFSETFROM:-0500
TZOFFSETTO:-0400
TZNAME:EDT
DTSTART:20220313T070000
END:DAYLIGHT
BEGIN:STANDARD
TZOFFSETFROM:-0400
TZOFFSETTO:-0500
TZNAME:EST
DTSTART:20221106T060000
END:STANDARD
BEGIN:DAYLIGHT
TZOFFSETFROM:-0500
TZOFFSETTO:-0400
TZNAME:EDT
DTSTART:20230312T070000
END:DAYLIGHT
BEGIN:STANDARD
TZOFFSETFROM:-0400
TZOFFSETTO:-0500
TZNAME:EST
DTSTART:20231105T060000
END:STANDARD
END:VTIMEZONE
BEGIN:VEVENT
DTSTART;TZID=America/Toronto:20220918T190000
DTEND;TZID=America/Toronto:20220918T190000
DTSTAMP:20260424T145148
CREATED:20220917T140218Z
LAST-MODIFIED:20220917T140218Z
UID:4389-1663527600-1663527600@stockeycentre.com
SUMMARY:Tom Thomson’s Wake – An Original Folk Musical
DESCRIPTION:Two years after renowned painter Tom Thomson’s mysterious death\, his friend\, his mentor and his lover gather to share their memories of Algonquin Park’s most famous resident. But did any of them really know the man? Through their diverging songs and stories\, a new portrait of the iconic Canadian artist emerges. \n\n\n\nFeaturing high-definition imagery of Tom Thomson and Group of 7 artworks\, unforgettable characters and an original folk music score by Shipyard Kitchen Party (creators of the musical 100 Years From Now)\, this new Canadian musical is sure to engage and entertain audiences of all ages.  \n\n\n\n\n\n\n\n\n\nTickets are $44.95 + HST each. \n\n\n\nBUY TICKETS ONLINE HERE \n\n\n\nTickets can also be purchased during our business hours by calling our Box Office at 705-746-4466 extension 205 or visiting us at 2 Bay Street\, Parry Sound.
URL:https://stockeycentre.com/event/tom-thomsons-wake/
LOCATION:The Stockey Centre\, 2 Bay Street\, Parry Sound\, Ontario\, P2A 1S3\, Canada
CATEGORIES:Concert,Theatre
ATTACH;FMTTYPE=image/png:https://stockeycentre.com/wp-content/uploads/2022/05/Logo-Light-Background.png
ORGANIZER;CN="The Stockey Centre":MAILTO:info@stockeycentre.com
END:VEVENT
END:VCALENDAR