BEGIN:VCALENDAR
VERSION:2.0
PRODID:-//The Stockey Centre - ECPv6.15.20//NONSGML v1.0//EN
CALSCALE:GREGORIAN
METHOD:PUBLISH
X-WR-CALNAME:The Stockey Centre
X-ORIGINAL-URL:https://stockeycentre.com
X-WR-CALDESC:Events for The Stockey Centre
REFRESH-INTERVAL;VALUE=DURATION:PT1H
X-Robots-Tag:noindex
X-PUBLISHED-TTL:PT1H
BEGIN:VTIMEZONE
TZID:America/Toronto
BEGIN:DAYLIGHT
TZOFFSETFROM:-0500
TZOFFSETTO:-0400
TZNAME:EDT
DTSTART:20210314T070000
END:DAYLIGHT
BEGIN:STANDARD
TZOFFSETFROM:-0400
TZOFFSETTO:-0500
TZNAME:EST
DTSTART:20211107T060000
END:STANDARD
BEGIN:DAYLIGHT
TZOFFSETFROM:-0500
TZOFFSETTO:-0400
TZNAME:EDT
DTSTART:20220313T070000
END:DAYLIGHT
BEGIN:STANDARD
TZOFFSETFROM:-0400
TZOFFSETTO:-0500
TZNAME:EST
DTSTART:20221106T060000
END:STANDARD
BEGIN:DAYLIGHT
TZOFFSETFROM:-0500
TZOFFSETTO:-0400
TZNAME:EDT
DTSTART:20230312T070000
END:DAYLIGHT
BEGIN:STANDARD
TZOFFSETFROM:-0400
TZOFFSETTO:-0500
TZNAME:EST
DTSTART:20231105T060000
END:STANDARD
END:VTIMEZONE
BEGIN:VEVENT
DTSTART;TZID=America/Toronto:20221107T200000
DTEND;TZID=America/Toronto:20221107T200000
DTSTAMP:20260424T145153
CREATED:20220501T135700Z
LAST-MODIFIED:20220802T164347Z
UID:4372-1667851200-1667851200@stockeycentre.com
SUMMARY:Menopause The Musical
DESCRIPTION:Smash Hit Returns – Menopause The Musical! \n\n\n\nAfter 5 years “Menopause The Musical” returns to The Stockey Centre. \n\n\n\nCome see what millions of women worldwide\, have been laughing\, cheering and raving about for years!Set in a department store\, four women with nothing in common\, realize they have a lot more to share\, than they ever thought possible! \n\n\n\nThe Canadian All-Star Cast makes fun of hot flashes\, night sweats\, mood swings\, wrinkles\, not enough sex\, too much sex\, chocolate binges and much more! \n\n\n\n“Menopause” is hysterical & leaves you singing & dancing in the aisles. A brilliant comedy staged to 25 Classic Hits from the ’60s\, ’70s and ’80s. \n\n\n\nTickets are $59.99 + $2.95 in ticket surcharges + HST for adults and $49.99 + $2.95 in ticket surcharges + HST for seniors and students. \n\n\n\nBUY TICKETS ONLINE HERE \n\n\n\nTickets can also be purchased during our business hours by calling our Box Office at 705-746-4466 extension 205 or visiting us at 2 Bay Street\, Parry Sound. \n\n\n\n“Come See It – You’ll Love It” – Joy Behar \n\n\n\n“You’ll Laugh Through The Whole Show” – CTV \n\n\n\nEntertainer Of The Year Award – 2016 Las Vegas \n\n\n\nBring your Mother\, Daughter\, Sister or Friends! \n\n\n\nCome Celebrate Your Womanhood & Join The Sisterhood! \n\n\n\nSee It For The 1st Time or Come Love It Again!
URL:https://stockeycentre.com/event/menopause-the-musical/
LOCATION:The Stockey Centre\, 2 Bay Street\, Parry Sound\, Ontario\, P2A 1S3\, Canada
CATEGORIES:Theatre
ATTACH;FMTTYPE=image/png:https://stockeycentre.com/wp-content/uploads/2022/05/MPsummerbrochureV3-1.png
END:VEVENT
BEGIN:VEVENT
DTSTART;TZID=America/Toronto:20221118T193000
DTEND;TZID=America/Toronto:20221118T193000
DTSTAMP:20260424T145153
CREATED:20220913T150000Z
LAST-MODIFIED:20220916T214859Z
UID:4892-1668799800-1668799800@stockeycentre.com
SUMMARY:O Christmas Tea: A British Comedy
DESCRIPTION:Presented by James & Jamesy (UK) \n\n\n\nFans of Monty Python\, Mr. Bean\, and Dr. Seuss… Grab your teacups! \n\n\n\nCombining British propriety with an unabashed love for the unexpected\, London’s 3-time Impresario Award-winning duo steep an outrageously funny and brilliantly inventive show reminiscent of classic British pantos. \n\n\n“Complete and utter fun… for all ages.”★★★★★ CBC\n\n\nRich in wordplay\, comic physicality\, and cleverly crafted interactive elements\, O Christmas Tea is uproarious fun\, yet it is the duo’s boundless imagination and endearing chemistry that provide the real magic and heart of this play. \n\n\n\nWhen catastrophe strikes at James and Jamesy’s Christmas tea party\, flooding the world with tea\, the duo conjure wildly funny solutions to stay afloat\, and sweep the audience out to sea in a jolly aquatic escapade brimming with whimsy\, action\, and ingenuity in a celebration of friendship at Christmas. \n\n\n\nTickets go on sale to James & Jamesy followers and Stockey Members on Tuesday September 13th at 11am and to the general public on Friday September 16th at 11am. \n\n\n\nTickets: \n\n\n\nAdults Orchestra: $52.51 + HSTStudents Orchestra: $43.66 + HST\n\n\n\nAdults Mezzanine: $43.66 + HSTStudents Mezzanine: $34.81 + HST\n\n\n\nAdults Balcony: $37.46 + HSTStudents Balcony: $28.61 + HST\n\n\n\nBUY TICKETS ONLINE HERE \n\n\n\nTickets can also be purchased during our business hours by calling our Box Office at 705-746-4466 extension 205 or visiting us at 2 Bay Street\, Parry Sound. \n\n\n“Outrageously funny\, magnificently written\, beautifully choreographed.”★★★★★ London Free Press\n“An ode to the idea that anything is possible.” ★★★★★ Torontoist\n“I cannot think of a show that will leave you more profoundly happy than this.”★★★★★ Stage Door\, Toronto\n\n\nHailed as “a child’s imagination on steroids” by London Free Press and “a masterpiece of physical comedy” by Theatre In London\, critics rave for the charismatic James & Jamesy. A must-see performance on the international comedy circuit\, this unstoppable duo is regarded as “one of the most popular fringe duos ever” (CBC).
URL:https://stockeycentre.com/event/o-christmas-tea-a-british-comedy/
LOCATION:The Stockey Centre\, 2 Bay Street\, Parry Sound\, Ontario\, P2A 1S3\, Canada
CATEGORIES:Theatre
ATTACH;FMTTYPE=image/jpeg:https://stockeycentre.com/wp-content/uploads/2022/08/StockeyCentre_OChristmasTea_EventsListing-scaled.jpg
END:VEVENT
END:VCALENDAR