BEGIN:VCALENDAR
VERSION:2.0
PRODID:-//The Stockey Centre - ECPv6.15.20//NONSGML v1.0//EN
CALSCALE:GREGORIAN
METHOD:PUBLISH
X-ORIGINAL-URL:https://stockeycentre.com
X-WR-CALDESC:Events for The Stockey Centre
REFRESH-INTERVAL;VALUE=DURATION:PT1H
X-Robots-Tag:noindex
X-PUBLISHED-TTL:PT1H
BEGIN:VTIMEZONE
TZID:America/Toronto
BEGIN:DAYLIGHT
TZOFFSETFROM:-0500
TZOFFSETTO:-0400
TZNAME:EDT
DTSTART:20220313T070000
END:DAYLIGHT
BEGIN:STANDARD
TZOFFSETFROM:-0400
TZOFFSETTO:-0500
TZNAME:EST
DTSTART:20221106T060000
END:STANDARD
BEGIN:DAYLIGHT
TZOFFSETFROM:-0500
TZOFFSETTO:-0400
TZNAME:EDT
DTSTART:20230312T070000
END:DAYLIGHT
BEGIN:STANDARD
TZOFFSETFROM:-0400
TZOFFSETTO:-0500
TZNAME:EST
DTSTART:20231105T060000
END:STANDARD
BEGIN:DAYLIGHT
TZOFFSETFROM:-0500
TZOFFSETTO:-0400
TZNAME:EDT
DTSTART:20240310T070000
END:DAYLIGHT
BEGIN:STANDARD
TZOFFSETFROM:-0400
TZOFFSETTO:-0500
TZNAME:EST
DTSTART:20241103T060000
END:STANDARD
END:VTIMEZONE
BEGIN:VEVENT
DTSTART;TZID=America/Toronto:20230601T190000
DTEND;TZID=America/Toronto:20230601T190000
DTSTAMP:20260424T043348
CREATED:20220301T142100Z
LAST-MODIFIED:20230301T194033Z
UID:4242-1685646000-1685646000@stockeycentre.com
SUMMARY:Happy Jack's Motel
DESCRIPTION:Presented by The Proscenium Club. \n\n\n\nSummer\, 1989. Against a backdrop of robbery\, secrets\, sex and jazzercise\, Happy Jack’s Motel becomes a dingy battleground offering eight people one last shot at escaping their dark fates. \n\n\n\nHappy Jack’s Motel depicts the fragmentation of the toxic male influence through its pop culture heyday of the 1980’s.  In an examination of disappointment and disillusionment with the North American “ideal man” and the ramifications of that behavioral pattern against the backdrop of the Northern experience and a rural economic slowdown. \n\n\n\nThis show contains mature themes and violence. Tickets are $17.95 + HST each. \n\n\n\nCAST \n\n\n\nJoshua Bainbridge as JACKKelsey Ruhl as DINAHMatt Lishman as BILLYStephanie Kast as ALICEJennifer Carroll as STACYKaitlyn Stewart as RUTHMorgan Bedard as FRANKGraham Ross as CASH \n\n\n\nFor more information on the show\, visit prosceniumclub.com. \n\n\n\n\n\n\n\n\nBUY TICKETS ONLINE HERE \n\n\n\nTickets can also be purchased during our business hours by calling our Box Office at 705-746-4466 extension 405 or visiting us at 2 Bay Street\, Parry Sound.
URL:https://stockeycentre.com/event/happy-jacks-motel/
LOCATION:The Stockey Centre\, 2 Bay Street\, Parry Sound\, Ontario\, P2A 1S3\, Canada
CATEGORIES:Theatre
ATTACH;FMTTYPE=image/jpeg:https://stockeycentre.com/wp-content/uploads/2022/03/banner-copy.jpg
ORGANIZER;CN="The Stockey Centre":MAILTO:info@stockeycentre.com
END:VEVENT
BEGIN:VEVENT
DTSTART;TZID=America/Toronto:20230608T190000
DTEND;TZID=America/Toronto:20230609T190000
DTSTAMP:20260424T043348
CREATED:20230420T145819Z
LAST-MODIFIED:20230420T145820Z
UID:5465-1686250800-1686337200@stockeycentre.com
SUMMARY:Parry Sound High School presents Murder on the 518
DESCRIPTION:Red-eye travelers on the westbound 518 are in for a surprise when first one passenger\, and then another\, mysteriously drop dead right before their eyes — and just as the train is halted by a rock slide in an isolated canyon.  Because the pair appears to have been poisoned\, anyone and everyone in the train dining car is a suspect! \n\n\n\nUnable to call for help\, the eccentric passengers — including two newlyweds\, an astronomy professor\, a sports recruiter\, a CEO\, a movie star\, an aspiring musician\, and others — try to work together with the waitstaff to find the murderer before they reach their destination and the killer escapes for good!  Unfortunately\, not everything (or everyone) is as it seems. \n\n\n\nThis family-friendly mystery is sure to keep the audience guessing right up until the train pulls into the station.  Hold on tight — Murder on the 518 is quite the ride! \n\n\n\nPublic performances are Thursday June 8th at 7pm and Friday June 9th at 7pm. \n\n\n\nTickets are $12 + HST for adults\, $8 + HST for students\, and a family pass (four tickets) is $35 + HST.   \n\n\n\n\n\n\n\n\nBUY TICKETS ONLINE HERE \n\n\n\nTickets can also be purchased during our business hours by calling our Box Office at 705-746-4466 extension 405 or visiting us at 2 Bay Street\, Parry Sound. \n\n\n\n*Please note that family passes may only be purchased via phone or in-person at our Box Office. At this time\, they are not available for purchase online.
URL:https://stockeycentre.com/event/parry-sound-high-school-presents-murder-on-the-518/
LOCATION:The Stockey Centre\, 2 Bay Street\, Parry Sound\, Ontario\, P2A 1S3\, Canada
CATEGORIES:Theatre
ATTACH;FMTTYPE=image/jpeg:https://stockeycentre.com/wp-content/uploads/2023/04/Murder-on-the-518-4-scaled.jpg
END:VEVENT
END:VCALENDAR