BEGIN:VCALENDAR
VERSION:2.0
PRODID:-//The Stockey Centre - ECPv6.15.20//NONSGML v1.0//EN
CALSCALE:GREGORIAN
METHOD:PUBLISH
X-WR-CALNAME:The Stockey Centre
X-ORIGINAL-URL:https://stockeycentre.com
X-WR-CALDESC:Events for The Stockey Centre
REFRESH-INTERVAL;VALUE=DURATION:PT1H
X-Robots-Tag:noindex
X-PUBLISHED-TTL:PT1H
BEGIN:VTIMEZONE
TZID:America/Toronto
BEGIN:DAYLIGHT
TZOFFSETFROM:-0500
TZOFFSETTO:-0400
TZNAME:EDT
DTSTART:20220313T070000
END:DAYLIGHT
BEGIN:STANDARD
TZOFFSETFROM:-0400
TZOFFSETTO:-0500
TZNAME:EST
DTSTART:20221106T060000
END:STANDARD
BEGIN:DAYLIGHT
TZOFFSETFROM:-0500
TZOFFSETTO:-0400
TZNAME:EDT
DTSTART:20230312T070000
END:DAYLIGHT
BEGIN:STANDARD
TZOFFSETFROM:-0400
TZOFFSETTO:-0500
TZNAME:EST
DTSTART:20231105T060000
END:STANDARD
BEGIN:DAYLIGHT
TZOFFSETFROM:-0500
TZOFFSETTO:-0400
TZNAME:EDT
DTSTART:20240310T070000
END:DAYLIGHT
BEGIN:STANDARD
TZOFFSETFROM:-0400
TZOFFSETTO:-0500
TZNAME:EST
DTSTART:20241103T060000
END:STANDARD
END:VTIMEZONE
BEGIN:VEVENT
DTSTART;TZID=America/Toronto:20230715T193000
DTEND;TZID=America/Toronto:20230715T193000
DTSTAMP:20260425T202847
CREATED:20230329T150000Z
LAST-MODIFIED:20230329T184527Z
UID:5394-1689449400-1689449400@stockeycentre.com
SUMMARY:Night Fever
DESCRIPTION:Night Fever\, Canada’s favourite tribute to the Bee Gees returns to The Stockey Centre Saturday July 15th! \n\n\n\nWith outstanding vocals\, an all-around amazing show and studio musician backup\, Night Fever performs the Bee Gees hits of all time including: Night Fever\, Jive Talking\, I Started a Joke\, How Deep is Your Love\, You Should Be Dancing\, Staying Alive and more. \n\n\n\nFor five decades – a time span more than any other group in pop history – the Bee Gees outwitted the international music scene with their incredible tenacity to remain current through all the eras of contemporary music. The close high harmonies of brothers Barry\, Robin and Maurice Gibb made the Bee Gees one of the most impossible attractions to launch a tribute to… until Night Fever. \n\n\n\nSpecial Guests for this show include tributes to Lennon & McCartney featuring Ian Garcia from the Broadway production “Rain” and Doug Varty with his incredible rendition of Rod Stewart. \n\n\n\nYou’re Gonna Love It! \n\n\n\nTickets are $57.50 each. \n\n\n\n\n\n\n\n\nTickets go on sale on Wednesday March 29th at 11am to Stockey Members and to the general public on Friday March 31st at 11am.  \n\n\n\nTo become a Stockey Member\, you can visit us on our Membership page for more information and to purchase online\, give us a call at 705-746-4466 extension 405\, or visit us at 2 Bay Street\, Parry Sound. \n\n\n\nBUY TICKETS ONLINE HERE \n\n\n\nTickets can also be purchased during our business hours by calling our Box Office at 705-746-4466 extension 405 or visiting us at 2 Bay Street\, Parry Sound.
URL:https://stockeycentre.com/event/night-fever/
LOCATION:The Stockey Centre\, 2 Bay Street\, Parry Sound\, Ontario\, P2A 1S3\, Canada
CATEGORIES:Tribute Show
ATTACH;FMTTYPE=image/jpeg:https://stockeycentre.com/wp-content/uploads/2023/03/NIGHT-FEVER-PARRY-SOUND-2023.jpg
END:VEVENT
END:VCALENDAR